BEGIN:VCALENDAR
VERSION:2.0
PRODID:-//ACM Associazione Chamber Music - ECPv6.3.7//NONSGML v1.0//EN
CALSCALE:GREGORIAN
METHOD:PUBLISH
X-ORIGINAL-URL:https://www.acmtrioditrieste.it
X-WR-CALDESC:Events for ACM Associazione Chamber Music
REFRESH-INTERVAL;VALUE=DURATION:PT1H
X-Robots-Tag:noindex
X-PUBLISHED-TTL:PT1H
BEGIN:VTIMEZONE
TZID:UTC
BEGIN:STANDARD
TZOFFSETFROM:+0000
TZOFFSETTO:+0000
TZNAME:UTC
DTSTART:20240101T000000
END:STANDARD
END:VTIMEZONE
BEGIN:VEVENT
DTSTART;TZID=UTC:20240507T180000
DTEND;TZID=UTC:20240507T200000
DTSTAMP:20260422T221052
CREATED:20240420T124056Z
LAST-MODIFIED:20241016T101137Z
UID:26636-1715104800-1715112000@www.acmtrioditrieste.it
SUMMARY:Duo Gvozdanić - Vlašić
DESCRIPTION:From Classicism to Romanticism				\n				\n				\n				\n							\n			\n						\n		\n						\n				\n					\n		\n					\n		\n					\n		\n					\n		\n				\n						\n					\n			\n						\n						\n					\n			\n						\n				\n									Robert Schumann (1810 – 1856)Sonata in A minor op.1051.Mit leidenschaftlichem Ausdruck2.Allegretto3.Lebhaft 								\n				\n					\n		\n				\n			\n						\n				\n									Ludwig van Beethoven (1770 – 1827)Sonata in C minor op.30 no.21.Allegro con brio2.Adagio cantabile3.Scherzo. Allegro4.Finale. Allegro 								\n				\n					\n		\n					\n		\n					\n		\n					\n		\n				\n						\n					\n			\n						\n						\n					\n			\n						\n				\n							\n			\n		\n						\n				\n				\n				\n					Duo Viridian				\n				\n				\n				\n							\n			\n						\n		\n						\n				\n				\n				\n							\n			\n		\n						\n				\n				\n				\n									The Duo Viridian was founded in 2023 and has performed in numerous recitals at the theatres of Trieste\, Monfalcone and Sacile. The Duo has attended several advanced masterclasses with Y. Berinskaya\, S. Lamberto\, E. Piemonti and K. Bazhenova. In 2024\, it was awarded the Absolute First Prize at the “Prospettive Musicali” International Competition in Padua with a score of 100/100\, and also won the “Città di Palmanova” International Competition in the Chamber Music category\, obtaining another Absolute First Prize with 99/100. 								\n				\n				\n				\n							\n			\n		\n						\n				\n				\n				\n							\n			\n		\n						\n				\n					\n		\n					\n		\n				\n						\n					\n			\n						\n				\n					Sofia De Martis				\n				\n				\n				\n							\n			\n						\n		\n						\n				\n				\n				\n							\n			\n		\n						\n				\n				\n				\n									Sofia De Martis began studying the violin at the age of seven. At sixteen\, she started her first-level academic studies at the G. Tartini Conservatory of Music in Trieste\, in the class of S. Nava\, where she obtained her Diploma in the summer of 2025. Since 2022 she has studied under I. Grubert in Portogruaro and recently completed an Erasmus semester with her at the prestigious Conservatorium van Amsterdam\, where she will continue her violin studies starting in the 2025/2026 academic year. From 2021 to 2024 she attended the annual advanced course led by Y. Berinskaya in Milan. She has won numerous Absolute First Prizes in international competitions and was a semifinalist in the 2023 edition of the “Città di Vittorio Veneto” Violin Competition. In 2025 she won First Prize at the “Todi Città del Violino” Competition\, organized by Consolazione ETAB\, obtaining a valuable 1780 Giuseppe Odoardi violin. She has performed as a soloist with the Orchestra of the Teatro Lirico Verdi in Trieste under the direction of F. M. Sardelli\, and with the Philharmonic Orchestra of the City of Monfalcone\, the Chamber Orchestra FVG\, the Ferruccio Busoni Chamber Orchestra and I Musici di Parma. In the summer of 2023 she was invited as one of the “New Concert Artists” at the Portogruaro International Music Festival. 								\n				\n				\n				\n							\n			\n		\n						\n				\n				\n				\n							\n			\n		\n						\n				\n					\n		\n					\n		\n					\n		\n					\n		\n				\n						\n					\n			\n						\n						\n					\n			\n						\n				\n					Matteo Di Bella				\n				\n				\n				\n							\n			\n						\n		\n						\n				\n				\n				\n							\n			\n		\n						\n				\n				\n				\n									Matteo Di Bella began studying piano at the age of four and started his formal education at the Jacopo Tomadini Conservatory of Udine at the age of nine. Over the years\, he has participated in numerous competitions\, earning several First Prizes\, and was recently a finalist at the “Brunelli” Prize in Vicenza. In 2017\, together with L. Ritacco\, he founded the piano duo En Blanc et Noir\, focusing on a refined and sometimes lesser-known repertoire of contemporary composers and integrating music with live electronics\, as in their project The Planets\, inspired by G. Holst. In January 2024\, the duo won First Prize at the “L. Caraian” Competition in Trieste and First Prize at the “Pietro Argento” Competition in Bari. He recorded Beethoven’s Sixth Symphony for eight hands with Kawai Milano and is an official member of Dolce Époque\, a crossover stage and musical production performing across Europe. He has performed in venues such as Teatro Verdi and Politeama Rossetti in Trieste\, Teatro Comunale Pavarotti in Modena\, and Teatro Olimpico in Vicenza. As a soloist\, he has played with the Symphony Orchestra of the Conservatory of Trieste and the Regional Philharmonic Orchestra of Veneto. He completed his advanced piano and chamber music studies at the G. Tartini Conservatory in Trieste.
URL:https://www.acmtrioditrieste.it/evento/duo-gvozdanic-vlasic/
LOCATION:Palazzo Gopcevich\, Via Gioacchino Rossini\, 4\, Trieste\, Seleziona uno Stato:\, 34121\, Italia
CATEGORIES:Aspettando QUINTA GIUSTA 2024,GO!2025
ATTACH;FMTTYPE=image/png:https://www.acmtrioditrieste.it/wp-content/uploads/2024/04/7-maggio.png
ORGANIZER;CN="Chamber Music Trieste":MAILTO:info@acmtrioditrieste.it
END:VEVENT
BEGIN:VEVENT
DTSTART;TZID=UTC:20240508T203000
DTEND;TZID=UTC:20240508T220000
DTSTAMP:20260422T221052
CREATED:20231127T180028Z
LAST-MODIFIED:20240502T163136Z
UID:25297-1715200200-1715205600@www.acmtrioditrieste.it
SUMMARY:Archos Quartet con Marco Panella  e Paolo Valeriani
DESCRIPTION:From Classicism to Romanticism				\n				\n				\n				\n							\n			\n						\n		\n						\n				\n					\n		\n					\n		\n					\n		\n					\n		\n				\n						\n					\n			\n						\n						\n					\n			\n						\n				\n									Robert Schumann (1810 – 1856)Sonata in A minor op.1051.Mit leidenschaftlichem Ausdruck2.Allegretto3.Lebhaft 								\n				\n					\n		\n				\n			\n						\n				\n									Ludwig van Beethoven (1770 – 1827)Sonata in C minor op.30 no.21.Allegro con brio2.Adagio cantabile3.Scherzo. Allegro4.Finale. Allegro 								\n				\n					\n		\n					\n		\n					\n		\n					\n		\n				\n						\n					\n			\n						\n						\n					\n			\n						\n				\n							\n			\n		\n						\n				\n				\n				\n					Duo Viridian				\n				\n				\n				\n							\n			\n						\n		\n						\n				\n				\n				\n							\n			\n		\n						\n				\n				\n				\n									The Duo Viridian was founded in 2023 and has performed in numerous recitals at the theatres of Trieste\, Monfalcone and Sacile. The Duo has attended several advanced masterclasses with Y. Berinskaya\, S. Lamberto\, E. Piemonti and K. Bazhenova. In 2024\, it was awarded the Absolute First Prize at the “Prospettive Musicali” International Competition in Padua with a score of 100/100\, and also won the “Città di Palmanova” International Competition in the Chamber Music category\, obtaining another Absolute First Prize with 99/100. 								\n				\n				\n				\n							\n			\n		\n						\n				\n				\n				\n							\n			\n		\n						\n				\n					\n		\n					\n		\n				\n						\n					\n			\n						\n				\n					Sofia De Martis				\n				\n				\n				\n							\n			\n						\n		\n						\n				\n				\n				\n							\n			\n		\n						\n				\n				\n				\n									Sofia De Martis began studying the violin at the age of seven. At sixteen\, she started her first-level academic studies at the G. Tartini Conservatory of Music in Trieste\, in the class of S. Nava\, where she obtained her Diploma in the summer of 2025. Since 2022 she has studied under I. Grubert in Portogruaro and recently completed an Erasmus semester with her at the prestigious Conservatorium van Amsterdam\, where she will continue her violin studies starting in the 2025/2026 academic year. From 2021 to 2024 she attended the annual advanced course led by Y. Berinskaya in Milan. She has won numerous Absolute First Prizes in international competitions and was a semifinalist in the 2023 edition of the “Città di Vittorio Veneto” Violin Competition. In 2025 she won First Prize at the “Todi Città del Violino” Competition\, organized by Consolazione ETAB\, obtaining a valuable 1780 Giuseppe Odoardi violin. She has performed as a soloist with the Orchestra of the Teatro Lirico Verdi in Trieste under the direction of F. M. Sardelli\, and with the Philharmonic Orchestra of the City of Monfalcone\, the Chamber Orchestra FVG\, the Ferruccio Busoni Chamber Orchestra and I Musici di Parma. In the summer of 2023 she was invited as one of the “New Concert Artists” at the Portogruaro International Music Festival. 								\n				\n				\n				\n							\n			\n		\n						\n				\n				\n				\n							\n			\n		\n						\n				\n					\n		\n					\n		\n					\n		\n					\n		\n				\n						\n					\n			\n						\n						\n					\n			\n						\n				\n					Matteo Di Bella				\n				\n				\n				\n							\n			\n						\n		\n						\n				\n				\n				\n							\n			\n		\n						\n				\n				\n				\n									Matteo Di Bella began studying piano at the age of four and started his formal education at the Jacopo Tomadini Conservatory of Udine at the age of nine. Over the years\, he has participated in numerous competitions\, earning several First Prizes\, and was recently a finalist at the “Brunelli” Prize in Vicenza. In 2017\, together with L. Ritacco\, he founded the piano duo En Blanc et Noir\, focusing on a refined and sometimes lesser-known repertoire of contemporary composers and integrating music with live electronics\, as in their project The Planets\, inspired by G. Holst. In January 2024\, the duo won First Prize at the “L. Caraian” Competition in Trieste and First Prize at the “Pietro Argento” Competition in Bari. He recorded Beethoven’s Sixth Symphony for eight hands with Kawai Milano and is an official member of Dolce Époque\, a crossover stage and musical production performing across Europe. He has performed in venues such as Teatro Verdi and Politeama Rossetti in Trieste\, Teatro Comunale Pavarotti in Modena\, and Teatro Olimpico in Vicenza. As a soloist\, he has played with the Symphony Orchestra of the Conservatory of Trieste and the Regional Philharmonic Orchestra of Veneto. He completed his advanced piano and chamber music studies at the G. Tartini Conservatory in Trieste.
URL:https://www.acmtrioditrieste.it/evento/archos-quartet-con-marco-panella-e-paolo-valeriani/
LOCATION:Teatro Miela\, Piazza Luigi Amedeo Duca degli Abruzzi\, 3\, 34132\, Trieste\, 34132\, Italy
CATEGORIES:CROMATISMI 2024
ATTACH;FMTTYPE=image/jpeg:https://www.acmtrioditrieste.it/wp-content/uploads/2023/11/8.jpg
ORGANIZER;CN="Chamber Music Trieste":MAILTO:info@acmtrioditrieste.it
END:VEVENT
BEGIN:VEVENT
DTSTART;TZID=UTC:20240516T200000
DTEND;TZID=UTC:20240516T213000
DTSTAMP:20260422T221052
CREATED:20240420T131130Z
LAST-MODIFIED:20241016T100924Z
UID:26661-1715889600-1715895000@www.acmtrioditrieste.it
SUMMARY:Lora Markova e Trio Chagall
DESCRIPTION:From Classicism to Romanticism				\n				\n				\n				\n							\n			\n						\n		\n						\n				\n					\n		\n					\n		\n					\n		\n					\n		\n				\n						\n					\n			\n						\n						\n					\n			\n						\n				\n									Robert Schumann (1810 – 1856)Sonata in A minor op.1051.Mit leidenschaftlichem Ausdruck2.Allegretto3.Lebhaft 								\n				\n					\n		\n				\n			\n						\n				\n									Ludwig van Beethoven (1770 – 1827)Sonata in C minor op.30 no.21.Allegro con brio2.Adagio cantabile3.Scherzo. Allegro4.Finale. Allegro 								\n				\n					\n		\n					\n		\n					\n		\n					\n		\n				\n						\n					\n			\n						\n						\n					\n			\n						\n				\n							\n			\n		\n						\n				\n				\n				\n					Duo Viridian				\n				\n				\n				\n							\n			\n						\n		\n						\n				\n				\n				\n							\n			\n		\n						\n				\n				\n				\n									The Duo Viridian was founded in 2023 and has performed in numerous recitals at the theatres of Trieste\, Monfalcone and Sacile. The Duo has attended several advanced masterclasses with Y. Berinskaya\, S. Lamberto\, E. Piemonti and K. Bazhenova. In 2024\, it was awarded the Absolute First Prize at the “Prospettive Musicali” International Competition in Padua with a score of 100/100\, and also won the “Città di Palmanova” International Competition in the Chamber Music category\, obtaining another Absolute First Prize with 99/100. 								\n				\n				\n				\n							\n			\n		\n						\n				\n				\n				\n							\n			\n		\n						\n				\n					\n		\n					\n		\n				\n						\n					\n			\n						\n				\n					Sofia De Martis				\n				\n				\n				\n							\n			\n						\n		\n						\n				\n				\n				\n							\n			\n		\n						\n				\n				\n				\n									Sofia De Martis began studying the violin at the age of seven. At sixteen\, she started her first-level academic studies at the G. Tartini Conservatory of Music in Trieste\, in the class of S. Nava\, where she obtained her Diploma in the summer of 2025. Since 2022 she has studied under I. Grubert in Portogruaro and recently completed an Erasmus semester with her at the prestigious Conservatorium van Amsterdam\, where she will continue her violin studies starting in the 2025/2026 academic year. From 2021 to 2024 she attended the annual advanced course led by Y. Berinskaya in Milan. She has won numerous Absolute First Prizes in international competitions and was a semifinalist in the 2023 edition of the “Città di Vittorio Veneto” Violin Competition. In 2025 she won First Prize at the “Todi Città del Violino” Competition\, organized by Consolazione ETAB\, obtaining a valuable 1780 Giuseppe Odoardi violin. She has performed as a soloist with the Orchestra of the Teatro Lirico Verdi in Trieste under the direction of F. M. Sardelli\, and with the Philharmonic Orchestra of the City of Monfalcone\, the Chamber Orchestra FVG\, the Ferruccio Busoni Chamber Orchestra and I Musici di Parma. In the summer of 2023 she was invited as one of the “New Concert Artists” at the Portogruaro International Music Festival. 								\n				\n				\n				\n							\n			\n		\n						\n				\n				\n				\n							\n			\n		\n						\n				\n					\n		\n					\n		\n					\n		\n					\n		\n				\n						\n					\n			\n						\n						\n					\n			\n						\n				\n					Matteo Di Bella				\n				\n				\n				\n							\n			\n						\n		\n						\n				\n				\n				\n							\n			\n		\n						\n				\n				\n				\n									Matteo Di Bella began studying piano at the age of four and started his formal education at the Jacopo Tomadini Conservatory of Udine at the age of nine. Over the years\, he has participated in numerous competitions\, earning several First Prizes\, and was recently a finalist at the “Brunelli” Prize in Vicenza. In 2017\, together with L. Ritacco\, he founded the piano duo En Blanc et Noir\, focusing on a refined and sometimes lesser-known repertoire of contemporary composers and integrating music with live electronics\, as in their project The Planets\, inspired by G. Holst. In January 2024\, the duo won First Prize at the “L. Caraian” Competition in Trieste and First Prize at the “Pietro Argento” Competition in Bari. He recorded Beethoven’s Sixth Symphony for eight hands with Kawai Milano and is an official member of Dolce Époque\, a crossover stage and musical production performing across Europe. He has performed in venues such as Teatro Verdi and Politeama Rossetti in Trieste\, Teatro Comunale Pavarotti in Modena\, and Teatro Olimpico in Vicenza. As a soloist\, he has played with the Symphony Orchestra of the Conservatory of Trieste and the Regional Philharmonic Orchestra of Veneto. He completed his advanced piano and chamber music studies at the G. Tartini Conservatory in Trieste.
URL:https://www.acmtrioditrieste.it/evento/lora-markova-e-trio-chagall/
LOCATION:Castello Kromberk\, Grajska cesta 1\, Nova Gorica\, 5000\, Slovenia
CATEGORIES:Aspettando QUINTA GIUSTA 2024,GO!2025
ATTACH;FMTTYPE=image/jpeg:https://www.acmtrioditrieste.it/wp-content/uploads/2024/04/17-maggio.jpg
ORGANIZER;CN="Chamber Music Trieste":MAILTO:info@acmtrioditrieste.it
END:VEVENT
BEGIN:VEVENT
DTSTART;TZID=UTC:20240517T204500
DTEND;TZID=UTC:20240517T220000
DTSTAMP:20260422T221052
CREATED:20240420T134724Z
LAST-MODIFIED:20241016T100907Z
UID:26674-1715978700-1715983200@www.acmtrioditrieste.it
SUMMARY:Lora Markova e Trio Chagall
DESCRIPTION:From Classicism to Romanticism				\n				\n				\n				\n							\n			\n						\n		\n						\n				\n					\n		\n					\n		\n					\n		\n					\n		\n				\n						\n					\n			\n						\n						\n					\n			\n						\n				\n									Robert Schumann (1810 – 1856)Sonata in A minor op.1051.Mit leidenschaftlichem Ausdruck2.Allegretto3.Lebhaft 								\n				\n					\n		\n				\n			\n						\n				\n									Ludwig van Beethoven (1770 – 1827)Sonata in C minor op.30 no.21.Allegro con brio2.Adagio cantabile3.Scherzo. Allegro4.Finale. Allegro 								\n				\n					\n		\n					\n		\n					\n		\n					\n		\n				\n						\n					\n			\n						\n						\n					\n			\n						\n				\n							\n			\n		\n						\n				\n				\n				\n					Duo Viridian				\n				\n				\n				\n							\n			\n						\n		\n						\n				\n				\n				\n							\n			\n		\n						\n				\n				\n				\n									The Duo Viridian was founded in 2023 and has performed in numerous recitals at the theatres of Trieste\, Monfalcone and Sacile. The Duo has attended several advanced masterclasses with Y. Berinskaya\, S. Lamberto\, E. Piemonti and K. Bazhenova. In 2024\, it was awarded the Absolute First Prize at the “Prospettive Musicali” International Competition in Padua with a score of 100/100\, and also won the “Città di Palmanova” International Competition in the Chamber Music category\, obtaining another Absolute First Prize with 99/100. 								\n				\n				\n				\n							\n			\n		\n						\n				\n				\n				\n							\n			\n		\n						\n				\n					\n		\n					\n		\n				\n						\n					\n			\n						\n				\n					Sofia De Martis				\n				\n				\n				\n							\n			\n						\n		\n						\n				\n				\n				\n							\n			\n		\n						\n				\n				\n				\n									Sofia De Martis began studying the violin at the age of seven. At sixteen\, she started her first-level academic studies at the G. Tartini Conservatory of Music in Trieste\, in the class of S. Nava\, where she obtained her Diploma in the summer of 2025. Since 2022 she has studied under I. Grubert in Portogruaro and recently completed an Erasmus semester with her at the prestigious Conservatorium van Amsterdam\, where she will continue her violin studies starting in the 2025/2026 academic year. From 2021 to 2024 she attended the annual advanced course led by Y. Berinskaya in Milan. She has won numerous Absolute First Prizes in international competitions and was a semifinalist in the 2023 edition of the “Città di Vittorio Veneto” Violin Competition. In 2025 she won First Prize at the “Todi Città del Violino” Competition\, organized by Consolazione ETAB\, obtaining a valuable 1780 Giuseppe Odoardi violin. She has performed as a soloist with the Orchestra of the Teatro Lirico Verdi in Trieste under the direction of F. M. Sardelli\, and with the Philharmonic Orchestra of the City of Monfalcone\, the Chamber Orchestra FVG\, the Ferruccio Busoni Chamber Orchestra and I Musici di Parma. In the summer of 2023 she was invited as one of the “New Concert Artists” at the Portogruaro International Music Festival. 								\n				\n				\n				\n							\n			\n		\n						\n				\n				\n				\n							\n			\n		\n						\n				\n					\n		\n					\n		\n					\n		\n					\n		\n				\n						\n					\n			\n						\n						\n					\n			\n						\n				\n					Matteo Di Bella				\n				\n				\n				\n							\n			\n						\n		\n						\n				\n				\n				\n							\n			\n		\n						\n				\n				\n				\n									Matteo Di Bella began studying piano at the age of four and started his formal education at the Jacopo Tomadini Conservatory of Udine at the age of nine. Over the years\, he has participated in numerous competitions\, earning several First Prizes\, and was recently a finalist at the “Brunelli” Prize in Vicenza. In 2017\, together with L. Ritacco\, he founded the piano duo En Blanc et Noir\, focusing on a refined and sometimes lesser-known repertoire of contemporary composers and integrating music with live electronics\, as in their project The Planets\, inspired by G. Holst. In January 2024\, the duo won First Prize at the “L. Caraian” Competition in Trieste and First Prize at the “Pietro Argento” Competition in Bari. He recorded Beethoven’s Sixth Symphony for eight hands with Kawai Milano and is an official member of Dolce Époque\, a crossover stage and musical production performing across Europe. He has performed in venues such as Teatro Verdi and Politeama Rossetti in Trieste\, Teatro Comunale Pavarotti in Modena\, and Teatro Olimpico in Vicenza. As a soloist\, he has played with the Symphony Orchestra of the Conservatory of Trieste and the Regional Philharmonic Orchestra of Veneto. He completed his advanced piano and chamber music studies at the G. Tartini Conservatory in Trieste.
URL:https://www.acmtrioditrieste.it/evento/trio-chagall-e-lora-markova-2/
LOCATION:Chiesa di S.Stefano Protomartire di Gleris\, Via Provinciale 2\, San Vito al Tagliamento
CATEGORIES:Aspettando QUINTA GIUSTA 2024,GO!2025
ATTACH;FMTTYPE=image/jpeg:https://www.acmtrioditrieste.it/wp-content/uploads/2024/04/17-maggio.jpg
ORGANIZER;CN="Chamber Music Trieste":MAILTO:info@acmtrioditrieste.it
END:VEVENT
BEGIN:VEVENT
DTSTART;TZID=UTC:20240522T203000
DTEND;TZID=UTC:20240522T220000
DTSTAMP:20260422T221052
CREATED:20231127T180011Z
LAST-MODIFIED:20240514T130021Z
UID:25347-1716409800-1716415200@www.acmtrioditrieste.it
SUMMARY:Luigi Piovano & Friends
DESCRIPTION:From Classicism to Romanticism				\n				\n				\n				\n							\n			\n						\n		\n						\n				\n					\n		\n					\n		\n					\n		\n					\n		\n				\n						\n					\n			\n						\n						\n					\n			\n						\n				\n									Robert Schumann (1810 – 1856)Sonata in A minor op.1051.Mit leidenschaftlichem Ausdruck2.Allegretto3.Lebhaft 								\n				\n					\n		\n				\n			\n						\n				\n									Ludwig van Beethoven (1770 – 1827)Sonata in C minor op.30 no.21.Allegro con brio2.Adagio cantabile3.Scherzo. Allegro4.Finale. Allegro 								\n				\n					\n		\n					\n		\n					\n		\n					\n		\n				\n						\n					\n			\n						\n						\n					\n			\n						\n				\n							\n			\n		\n						\n				\n				\n				\n					Duo Viridian				\n				\n				\n				\n							\n			\n						\n		\n						\n				\n				\n				\n							\n			\n		\n						\n				\n				\n				\n									The Duo Viridian was founded in 2023 and has performed in numerous recitals at the theatres of Trieste\, Monfalcone and Sacile. The Duo has attended several advanced masterclasses with Y. Berinskaya\, S. Lamberto\, E. Piemonti and K. Bazhenova. In 2024\, it was awarded the Absolute First Prize at the “Prospettive Musicali” International Competition in Padua with a score of 100/100\, and also won the “Città di Palmanova” International Competition in the Chamber Music category\, obtaining another Absolute First Prize with 99/100. 								\n				\n				\n				\n							\n			\n		\n						\n				\n				\n				\n							\n			\n		\n						\n				\n					\n		\n					\n		\n				\n						\n					\n			\n						\n				\n					Sofia De Martis				\n				\n				\n				\n							\n			\n						\n		\n						\n				\n				\n				\n							\n			\n		\n						\n				\n				\n				\n									Sofia De Martis began studying the violin at the age of seven. At sixteen\, she started her first-level academic studies at the G. Tartini Conservatory of Music in Trieste\, in the class of S. Nava\, where she obtained her Diploma in the summer of 2025. Since 2022 she has studied under I. Grubert in Portogruaro and recently completed an Erasmus semester with her at the prestigious Conservatorium van Amsterdam\, where she will continue her violin studies starting in the 2025/2026 academic year. From 2021 to 2024 she attended the annual advanced course led by Y. Berinskaya in Milan. She has won numerous Absolute First Prizes in international competitions and was a semifinalist in the 2023 edition of the “Città di Vittorio Veneto” Violin Competition. In 2025 she won First Prize at the “Todi Città del Violino” Competition\, organized by Consolazione ETAB\, obtaining a valuable 1780 Giuseppe Odoardi violin. She has performed as a soloist with the Orchestra of the Teatro Lirico Verdi in Trieste under the direction of F. M. Sardelli\, and with the Philharmonic Orchestra of the City of Monfalcone\, the Chamber Orchestra FVG\, the Ferruccio Busoni Chamber Orchestra and I Musici di Parma. In the summer of 2023 she was invited as one of the “New Concert Artists” at the Portogruaro International Music Festival. 								\n				\n				\n				\n							\n			\n		\n						\n				\n				\n				\n							\n			\n		\n						\n				\n					\n		\n					\n		\n					\n		\n					\n		\n				\n						\n					\n			\n						\n						\n					\n			\n						\n				\n					Matteo Di Bella				\n				\n				\n				\n							\n			\n						\n		\n						\n				\n				\n				\n							\n			\n		\n						\n				\n				\n				\n									Matteo Di Bella began studying piano at the age of four and started his formal education at the Jacopo Tomadini Conservatory of Udine at the age of nine. Over the years\, he has participated in numerous competitions\, earning several First Prizes\, and was recently a finalist at the “Brunelli” Prize in Vicenza. In 2017\, together with L. Ritacco\, he founded the piano duo En Blanc et Noir\, focusing on a refined and sometimes lesser-known repertoire of contemporary composers and integrating music with live electronics\, as in their project The Planets\, inspired by G. Holst. In January 2024\, the duo won First Prize at the “L. Caraian” Competition in Trieste and First Prize at the “Pietro Argento” Competition in Bari. He recorded Beethoven’s Sixth Symphony for eight hands with Kawai Milano and is an official member of Dolce Époque\, a crossover stage and musical production performing across Europe. He has performed in venues such as Teatro Verdi and Politeama Rossetti in Trieste\, Teatro Comunale Pavarotti in Modena\, and Teatro Olimpico in Vicenza. As a soloist\, he has played with the Symphony Orchestra of the Conservatory of Trieste and the Regional Philharmonic Orchestra of Veneto. He completed his advanced piano and chamber music studies at the G. Tartini Conservatory in Trieste.
URL:https://www.acmtrioditrieste.it/evento/luigi-piovano-friends/
LOCATION:Teatro Miela\, Piazza Luigi Amedeo Duca degli Abruzzi\, 3\, 34132\, Trieste\, 34132\, Italy
CATEGORIES:CROMATISMI 2024
ATTACH;FMTTYPE=image/jpeg:https://www.acmtrioditrieste.it/wp-content/uploads/2023/11/Credit-Fabio-DAnniballe-1-min-scaled.jpg
ORGANIZER;CN="Chamber Music Trieste":MAILTO:info@acmtrioditrieste.it
END:VEVENT
END:VCALENDAR