BEGIN:VCALENDAR
VERSION:2.0
PRODID:-//ACM Associazione Chamber Music - ECPv6.3.7//NONSGML v1.0//EN
CALSCALE:GREGORIAN
METHOD:PUBLISH
X-ORIGINAL-URL:https://www.acmtrioditrieste.it
X-WR-CALDESC:Events for ACM Associazione Chamber Music
REFRESH-INTERVAL;VALUE=DURATION:PT1H
X-Robots-Tag:noindex
X-PUBLISHED-TTL:PT1H
BEGIN:VTIMEZONE
TZID:UTC
BEGIN:STANDARD
TZOFFSETFROM:+0000
TZOFFSETTO:+0000
TZNAME:UTC
DTSTART:20220101T000000
END:STANDARD
END:VTIMEZONE
BEGIN:VEVENT
DTSTART;TZID=UTC:20220209T203000
DTEND;TZID=UTC:20220209T223000
DTSTAMP:20260424T205347
CREATED:20230106T094213Z
LAST-MODIFIED:20230110T161358Z
UID:21473-1644438600-1644445800@www.acmtrioditrieste.it
SUMMARY:Quatuor Hermès
DESCRIPTION:CORO VIKRA – direttrice PETRA GRASSI 								\n				\n					\n		\n					\n		\n				\n				\n							\n			\n						\n		\n						\n				\n				\n						\n					\n			\n						\n				\n									Musiche di Wolf\, Brahms\, Ipavec e Merkù 								\n				\n					\n		\n				\n			\n							\n		\n					\n		\n					\n		\n					\n		\n				\n						\n					\n			\n						\n				\n							\n			\n		\n						\n				\n				\n				\n					CORO VIKRA				\n				\n					\n		\n					\n		\n				\n						\n					\n			\n						\n				\n							\n			\n						\n		\n						\n				\n				\n				\n									Il Coro da Camera VIKRA della Glasbena Matica di Trieste si è formato nel 2014 dall’incontro di cantanti e musicisti attorno alla figura della direttrice Petra Grassi. Il coro è composto da coristi sloveni e italiani provenienti da diverse aree geografiche\, sia vicine che lontane. Vincitore di numerosi concorsi in Italia e all’estero\, collabora regolarmente come coro laboratorio in seminari corali e organizza master class con celebri artisti. Nel 2021 ha registrato\, in collaborazione con la Pinacoteca di Brera\, l’operina Fischreise\, composta da Andrea Melis e ispirata all’omonimo racconto per l’infanzia scritto da Tom Seidmann-Freud. Nel 2022 è risultato vincitore del Grand Prix al Concorso Corale Internazionale C. A. Seghizzi di Gorizia\, oltre che di tutte le categorie a cui aveva partecipato. Nel 2023 è stato invitato a tenere il Concerto della Memoria\, dedicato a Boris Pahor\, riscuotendo grande successo di pubblico e di critica; l’evento è stato successivamente replicato al Teatro Verdi di Trieste e al Kulturni Dom di Nova Gorica.Il coro si esibisce regolarmente a Ljubljana nelle più prestigiose stagioni concertistiche nazionali. Nel 2024 è stato protagonista di un concerto organizzato a Sarajevo su invito dell’UNFPA (Fondo delle Nazioni Unite per la Popolazione) e delle ambasciate italiana e slovena in Bosnia ed Erzegovina. I coristi del Coro da Camera VIKRA collaborano anche con diversi cori prestigiosi in tutta Europa. 								\n				\n					\n		\n					\n		\n				\n						\n					\n			\n						\n				\n							\n			\n		\n						\n				\n				\n				\n					PETRA GRASSI				\n				\n					\n		\n					\n		\n				\n						\n					\n			\n						\n				\n							\n			\n						\n		\n						\n				\n				\n				\n									Petra Grassi è una delle più interessanti e premiate direttrici di coro europee della sua generazione. Ha conseguito numerosi riconoscimenti in concorsi per direttori di coro in Italia\, in Europa e nel resto del mondo. Diplomata in Pianoforte e in Didattica della musica presso il Conservatorio di Trieste\, ha completato con il massimo dei voti e la lode il Biennio specialistico in Direzione corale presso il Conservatorio di Trento\, dove oggi è Docente di Direzione e Composizione corale. Dal 2016 al 2020 è stata la prima direttrice del Coro Giovanile del Friuli Venezia Giulia. È stata invitata a far parte del gruppo di giovani direttori di TENSO\, rete europea dedicata alla musica corale contemporanea\, collaborando con diversi cori europei. È inoltre direttrice ospite stabile del Ljubljana DEKOR Chamber Choir.Co-direttrice del Coro Giovanile Italiano (2020–2022)\, ha ricoperto anche la carica di direttrice ospite dello Slovenian Philharmonic Choir.Dal 2023 fa parte della Commissione Artistica di FENIARCO e\, nello stesso anno\, del Comitato Artistico Internazionale di Leading Voices – Tallinn. È regolarmente invitata come membro di giuria in concorsi internazionali per cori e direttori di coro (Cork\, Spittal an der Drau\, Arezzo Polifonico\, Londra\, Madrid\, Koper e Maribor). È stata insignita dell’Emblema d’Oro del Ministero della Cultura della Repubblica di Slovenia\, del Premio Prešeren per la sua attività internazionale patrocinata dai Presidenti della Repubblica Italiana e Slovena\, e ha recentemente ricevuto il prestigioso Premio Pavle Merkù.
URL:https://www.acmtrioditrieste.it/evento/mercoledi-9-febbraio-quatuor-hermes/
LOCATION:Teatro Miela\, Piazza Luigi Amedeo Duca degli Abruzzi\, 3\, 34132\, Trieste\, 34132\, Italy
CATEGORIES:CROMATISMI 2022
ATTACH;FMTTYPE=image/jpeg:https://www.acmtrioditrieste.it/wp-content/uploads/2023/01/quartetto-hermes-scaled-1140x760-1.jpg
ORGANIZER;CN="Chamber Music Trieste":MAILTO:info@acmtrioditrieste.it
END:VEVENT
BEGIN:VEVENT
DTSTART;TZID=UTC:20220216T203000
DTEND;TZID=UTC:20220216T223000
DTSTAMP:20260424T205347
CREATED:20230106T094636Z
LAST-MODIFIED:20230110T161419Z
UID:21479-1645043400-1645050600@www.acmtrioditrieste.it
SUMMARY:Davide Ranaldi
DESCRIPTION:CORO VIKRA – direttrice PETRA GRASSI 								\n				\n					\n		\n					\n		\n				\n				\n							\n			\n						\n		\n						\n				\n				\n						\n					\n			\n						\n				\n									Musiche di Wolf\, Brahms\, Ipavec e Merkù 								\n				\n					\n		\n				\n			\n							\n		\n					\n		\n					\n		\n					\n		\n				\n						\n					\n			\n						\n				\n							\n			\n		\n						\n				\n				\n				\n					CORO VIKRA				\n				\n					\n		\n					\n		\n				\n						\n					\n			\n						\n				\n							\n			\n						\n		\n						\n				\n				\n				\n									Il Coro da Camera VIKRA della Glasbena Matica di Trieste si è formato nel 2014 dall’incontro di cantanti e musicisti attorno alla figura della direttrice Petra Grassi. Il coro è composto da coristi sloveni e italiani provenienti da diverse aree geografiche\, sia vicine che lontane. Vincitore di numerosi concorsi in Italia e all’estero\, collabora regolarmente come coro laboratorio in seminari corali e organizza master class con celebri artisti. Nel 2021 ha registrato\, in collaborazione con la Pinacoteca di Brera\, l’operina Fischreise\, composta da Andrea Melis e ispirata all’omonimo racconto per l’infanzia scritto da Tom Seidmann-Freud. Nel 2022 è risultato vincitore del Grand Prix al Concorso Corale Internazionale C. A. Seghizzi di Gorizia\, oltre che di tutte le categorie a cui aveva partecipato. Nel 2023 è stato invitato a tenere il Concerto della Memoria\, dedicato a Boris Pahor\, riscuotendo grande successo di pubblico e di critica; l’evento è stato successivamente replicato al Teatro Verdi di Trieste e al Kulturni Dom di Nova Gorica.Il coro si esibisce regolarmente a Ljubljana nelle più prestigiose stagioni concertistiche nazionali. Nel 2024 è stato protagonista di un concerto organizzato a Sarajevo su invito dell’UNFPA (Fondo delle Nazioni Unite per la Popolazione) e delle ambasciate italiana e slovena in Bosnia ed Erzegovina. I coristi del Coro da Camera VIKRA collaborano anche con diversi cori prestigiosi in tutta Europa. 								\n				\n					\n		\n					\n		\n				\n						\n					\n			\n						\n				\n							\n			\n		\n						\n				\n				\n				\n					PETRA GRASSI				\n				\n					\n		\n					\n		\n				\n						\n					\n			\n						\n				\n							\n			\n						\n		\n						\n				\n				\n				\n									Petra Grassi è una delle più interessanti e premiate direttrici di coro europee della sua generazione. Ha conseguito numerosi riconoscimenti in concorsi per direttori di coro in Italia\, in Europa e nel resto del mondo. Diplomata in Pianoforte e in Didattica della musica presso il Conservatorio di Trieste\, ha completato con il massimo dei voti e la lode il Biennio specialistico in Direzione corale presso il Conservatorio di Trento\, dove oggi è Docente di Direzione e Composizione corale. Dal 2016 al 2020 è stata la prima direttrice del Coro Giovanile del Friuli Venezia Giulia. È stata invitata a far parte del gruppo di giovani direttori di TENSO\, rete europea dedicata alla musica corale contemporanea\, collaborando con diversi cori europei. È inoltre direttrice ospite stabile del Ljubljana DEKOR Chamber Choir.Co-direttrice del Coro Giovanile Italiano (2020–2022)\, ha ricoperto anche la carica di direttrice ospite dello Slovenian Philharmonic Choir.Dal 2023 fa parte della Commissione Artistica di FENIARCO e\, nello stesso anno\, del Comitato Artistico Internazionale di Leading Voices – Tallinn. È regolarmente invitata come membro di giuria in concorsi internazionali per cori e direttori di coro (Cork\, Spittal an der Drau\, Arezzo Polifonico\, Londra\, Madrid\, Koper e Maribor). È stata insignita dell’Emblema d’Oro del Ministero della Cultura della Repubblica di Slovenia\, del Premio Prešeren per la sua attività internazionale patrocinata dai Presidenti della Repubblica Italiana e Slovena\, e ha recentemente ricevuto il prestigioso Premio Pavle Merkù.
URL:https://www.acmtrioditrieste.it/evento/mercoledi-16-febbraio-davide-ranaldi/
LOCATION:Teatro Miela\, Piazza Luigi Amedeo Duca degli Abruzzi\, 3\, 34132\, Trieste\, 34132\, Italy
CATEGORIES:CROMATISMI 2022
ATTACH;FMTTYPE=image/jpeg:https://www.acmtrioditrieste.it/wp-content/uploads/2023/01/foto_CROMATISMI_pag26-scaled-1140x760-1.jpg
ORGANIZER;CN="Chamber Music Trieste":MAILTO:info@acmtrioditrieste.it
END:VEVENT
END:VCALENDAR