BEGIN:VCALENDAR
VERSION:2.0
PRODID:-//ACM Associazione Chamber Music - ECPv6.3.7//NONSGML v1.0//EN
CALSCALE:GREGORIAN
METHOD:PUBLISH
X-ORIGINAL-URL:https://www.acmtrioditrieste.it
X-WR-CALDESC:Events for ACM Associazione Chamber Music
REFRESH-INTERVAL;VALUE=DURATION:PT1H
X-Robots-Tag:noindex
X-PUBLISHED-TTL:PT1H
BEGIN:VTIMEZONE
TZID:UTC
BEGIN:STANDARD
TZOFFSETFROM:+0000
TZOFFSETTO:+0000
TZNAME:UTC
DTSTART:20260101T000000
END:STANDARD
END:VTIMEZONE
BEGIN:VEVENT
DTSTART;TZID=UTC:20260513T203000
DTEND;TZID=UTC:20260513T220000
DTSTAMP:20260420T071359
CREATED:20251210T070157Z
LAST-MODIFIED:20260413T161942Z
UID:31059-1778704200-1778709600@www.acmtrioditrieste.it
SUMMARY:DUO OLIVA - BANDINI
DESCRIPTION:Un viaggio nel '900				\n				\n				\n				\n							\n			\n						\n		\n						\n				\n					\n		\n					\n		\n					\n		\n					\n		\n				\n						\n					\n			\n						\n						\n					\n			\n						\n				\n									Paul Hindemith (1895 – 1963)Sonata per arpa1.Mäßig schnell2.Lebhaft3.Lied “Ihr Freunde\, hänget” – Sehr langsam Jean-Michel Damase (1928 – 2013)Sicilienne variée op.30 Carlos Salzedo (1885 – 1961)da Suite of Eight Dances n.6 Tango n.7 Seguidilla 								\n				\n					\n		\n				\n			\n						\n				\n									Marcel Tournier (1879 – 1951)Vers la source dans le bois Étude de concert “Au matin” Féerie Prélude et danse   								\n				\n					\n		\n					\n		\n					\n		\n					\n		\n				\n						\n					\n			\n						\n						\n					\n			\n						\n				\n							\n			\n		\n						\n				\n				\n				\n					Filippo Craglietto				\n				\n				\n				\n							\n			\n						\n		\n						\n				\n				\n				\n							\n			\n		\n						\n				\n				\n				\n									Vincitore del 1° Concorso Internazionale d’arpa “Adriatic” di Duino – Trieste\, Filippo Craglietto classe 2007 ha incontrato la musica in giovanissima età. A due anni\, infatti\, inizia col seguire i corsi di propedeutica ed introduzione alla musica con Vincenzo Stera e Rossana Iugovaz presso la Scuola 55 di Trieste. Dal 2014 il suo percorso arpistico è seguito da Tatiana Donis presso la Glasbena Matica di Trieste. Nonostante la giovane età\, Filippo Craglietto è già vincitore di numerosi Concorsi Internazionali quali Concorso di Musica della Svizzera Italiana\, Concorso Giovani Talenti Città di Gorizia\, Arpademia Celtic Harp Competition ed il prestigioso Concorso Suoni d’Arpa di Saluzzo. Il suo percorso artistico lo vede protagonista di concerti in importanti sale nazionali ed internazionali quali Dvorana Uninon a Maribor\, Museo Revoltella di Trieste\, Villa Coronini a Gorizia\, Akademy of Music University a Zagabria. La sua formazione continua tutt’oggi con Tatiana Donis\, unitamente a numerosi corsi di perfezionamento con docenti di fama internazionale quali Gabriella Bosio\, Francesca Tirale\, Diana Grubisic\, Emanuela Degli Esposti\, Dalibor Bernatovic\, Cormac de Barra.
URL:https://www.acmtrioditrieste.it/evento/duo-oliva-bandini/
LOCATION:Teatro Miela\, Piazza Luigi Amedeo Duca degli Abruzzi\, 3\, 34132\, Trieste\, 34132\, Italy
CATEGORIES:CROMATISMI 2026
ATTACH;FMTTYPE=image/jpeg:https://www.acmtrioditrieste.it/wp-content/uploads/2025/11/Duo-Oliva-Bandini-scaled.jpeg
ORGANIZER;CN="Chamber Music Trieste":MAILTO:info@acmtrioditrieste.it
END:VEVENT
BEGIN:VEVENT
DTSTART;TZID=UTC:20260527T203000
DTEND;TZID=UTC:20260527T220000
DTSTAMP:20260420T071359
CREATED:20251210T070154Z
LAST-MODIFIED:20260308T114837Z
UID:31065-1779913800-1779919200@www.acmtrioditrieste.it
SUMMARY:LUIGI CARROCCIA
DESCRIPTION:Un viaggio nel '900				\n				\n				\n				\n							\n			\n						\n		\n						\n				\n					\n		\n					\n		\n					\n		\n					\n		\n				\n						\n					\n			\n						\n						\n					\n			\n						\n				\n									Paul Hindemith (1895 – 1963)Sonata per arpa1.Mäßig schnell2.Lebhaft3.Lied “Ihr Freunde\, hänget” – Sehr langsam Jean-Michel Damase (1928 – 2013)Sicilienne variée op.30 Carlos Salzedo (1885 – 1961)da Suite of Eight Dances n.6 Tango n.7 Seguidilla 								\n				\n					\n		\n				\n			\n						\n				\n									Marcel Tournier (1879 – 1951)Vers la source dans le bois Étude de concert “Au matin” Féerie Prélude et danse   								\n				\n					\n		\n					\n		\n					\n		\n					\n		\n				\n						\n					\n			\n						\n						\n					\n			\n						\n				\n							\n			\n		\n						\n				\n				\n				\n					Filippo Craglietto				\n				\n				\n				\n							\n			\n						\n		\n						\n				\n				\n				\n							\n			\n		\n						\n				\n				\n				\n									Vincitore del 1° Concorso Internazionale d’arpa “Adriatic” di Duino – Trieste\, Filippo Craglietto classe 2007 ha incontrato la musica in giovanissima età. A due anni\, infatti\, inizia col seguire i corsi di propedeutica ed introduzione alla musica con Vincenzo Stera e Rossana Iugovaz presso la Scuola 55 di Trieste. Dal 2014 il suo percorso arpistico è seguito da Tatiana Donis presso la Glasbena Matica di Trieste. Nonostante la giovane età\, Filippo Craglietto è già vincitore di numerosi Concorsi Internazionali quali Concorso di Musica della Svizzera Italiana\, Concorso Giovani Talenti Città di Gorizia\, Arpademia Celtic Harp Competition ed il prestigioso Concorso Suoni d’Arpa di Saluzzo. Il suo percorso artistico lo vede protagonista di concerti in importanti sale nazionali ed internazionali quali Dvorana Uninon a Maribor\, Museo Revoltella di Trieste\, Villa Coronini a Gorizia\, Akademy of Music University a Zagabria. La sua formazione continua tutt’oggi con Tatiana Donis\, unitamente a numerosi corsi di perfezionamento con docenti di fama internazionale quali Gabriella Bosio\, Francesca Tirale\, Diana Grubisic\, Emanuela Degli Esposti\, Dalibor Bernatovic\, Cormac de Barra.
URL:https://www.acmtrioditrieste.it/evento/luigi-carroccia-2/
LOCATION:Teatro Miela\, Piazza Luigi Amedeo Duca degli Abruzzi\, 3\, 34132\, Trieste\, 34132\, Italy
CATEGORIES:CROMATISMI 2026
ATTACH;FMTTYPE=image/jpeg:https://www.acmtrioditrieste.it/wp-content/uploads/2025/11/LUIGI-CARROCCIA-.jpg
ORGANIZER;CN="Chamber Music Trieste":MAILTO:info@acmtrioditrieste.it
END:VEVENT
BEGIN:VEVENT
DTSTART;TZID=UTC:20260610T203000
DTEND;TZID=UTC:20260610T220000
DTSTAMP:20260420T071359
CREATED:20251210T070149Z
LAST-MODIFIED:20260113T190653Z
UID:31071-1781123400-1781128800@www.acmtrioditrieste.it
SUMMARY:JOSEF SUK PIANO QUARTET
DESCRIPTION:Un viaggio nel '900				\n				\n				\n				\n							\n			\n						\n		\n						\n				\n					\n		\n					\n		\n					\n		\n					\n		\n				\n						\n					\n			\n						\n						\n					\n			\n						\n				\n									Paul Hindemith (1895 – 1963)Sonata per arpa1.Mäßig schnell2.Lebhaft3.Lied “Ihr Freunde\, hänget” – Sehr langsam Jean-Michel Damase (1928 – 2013)Sicilienne variée op.30 Carlos Salzedo (1885 – 1961)da Suite of Eight Dances n.6 Tango n.7 Seguidilla 								\n				\n					\n		\n				\n			\n						\n				\n									Marcel Tournier (1879 – 1951)Vers la source dans le bois Étude de concert “Au matin” Féerie Prélude et danse   								\n				\n					\n		\n					\n		\n					\n		\n					\n		\n				\n						\n					\n			\n						\n						\n					\n			\n						\n				\n							\n			\n		\n						\n				\n				\n				\n					Filippo Craglietto				\n				\n				\n				\n							\n			\n						\n		\n						\n				\n				\n				\n							\n			\n		\n						\n				\n				\n				\n									Vincitore del 1° Concorso Internazionale d’arpa “Adriatic” di Duino – Trieste\, Filippo Craglietto classe 2007 ha incontrato la musica in giovanissima età. A due anni\, infatti\, inizia col seguire i corsi di propedeutica ed introduzione alla musica con Vincenzo Stera e Rossana Iugovaz presso la Scuola 55 di Trieste. Dal 2014 il suo percorso arpistico è seguito da Tatiana Donis presso la Glasbena Matica di Trieste. Nonostante la giovane età\, Filippo Craglietto è già vincitore di numerosi Concorsi Internazionali quali Concorso di Musica della Svizzera Italiana\, Concorso Giovani Talenti Città di Gorizia\, Arpademia Celtic Harp Competition ed il prestigioso Concorso Suoni d’Arpa di Saluzzo. Il suo percorso artistico lo vede protagonista di concerti in importanti sale nazionali ed internazionali quali Dvorana Uninon a Maribor\, Museo Revoltella di Trieste\, Villa Coronini a Gorizia\, Akademy of Music University a Zagabria. La sua formazione continua tutt’oggi con Tatiana Donis\, unitamente a numerosi corsi di perfezionamento con docenti di fama internazionale quali Gabriella Bosio\, Francesca Tirale\, Diana Grubisic\, Emanuela Degli Esposti\, Dalibor Bernatovic\, Cormac de Barra.
URL:https://www.acmtrioditrieste.it/evento/josef-suk-piano-quartet-2/
LOCATION:Teatro Miela\, Piazza Luigi Amedeo Duca degli Abruzzi\, 3\, 34132\, Trieste\, 34132\, Italy
CATEGORIES:CROMATISMI 2026
ATTACH;FMTTYPE=image/jpeg:https://www.acmtrioditrieste.it/wp-content/uploads/2025/11/Josef-Suk-Piano-Quartet-foto-di-Petra-Hajska.jpg
ORGANIZER;CN="Chamber Music Trieste":MAILTO:info@acmtrioditrieste.it
END:VEVENT
BEGIN:VEVENT
DTSTART;TZID=UTC:20260916T203000
DTEND;TZID=UTC:20260916T220000
DTSTAMP:20260420T071359
CREATED:20251210T070233Z
LAST-MODIFIED:20251210T070233Z
UID:31077-1789590600-1789596000@www.acmtrioditrieste.it
SUMMARY:CONCERTO FINALE e PREMIAZIONE del 23° Concorso Internazionale “PREMIO TRIO di TRIESTE”
DESCRIPTION:Un viaggio nel '900				\n				\n				\n				\n							\n			\n						\n		\n						\n				\n					\n		\n					\n		\n					\n		\n					\n		\n				\n						\n					\n			\n						\n						\n					\n			\n						\n				\n									Paul Hindemith (1895 – 1963)Sonata per arpa1.Mäßig schnell2.Lebhaft3.Lied “Ihr Freunde\, hänget” – Sehr langsam Jean-Michel Damase (1928 – 2013)Sicilienne variée op.30 Carlos Salzedo (1885 – 1961)da Suite of Eight Dances n.6 Tango n.7 Seguidilla 								\n				\n					\n		\n				\n			\n						\n				\n									Marcel Tournier (1879 – 1951)Vers la source dans le bois Étude de concert “Au matin” Féerie Prélude et danse   								\n				\n					\n		\n					\n		\n					\n		\n					\n		\n				\n						\n					\n			\n						\n						\n					\n			\n						\n				\n							\n			\n		\n						\n				\n				\n				\n					Filippo Craglietto				\n				\n				\n				\n							\n			\n						\n		\n						\n				\n				\n				\n							\n			\n		\n						\n				\n				\n				\n									Vincitore del 1° Concorso Internazionale d’arpa “Adriatic” di Duino – Trieste\, Filippo Craglietto classe 2007 ha incontrato la musica in giovanissima età. A due anni\, infatti\, inizia col seguire i corsi di propedeutica ed introduzione alla musica con Vincenzo Stera e Rossana Iugovaz presso la Scuola 55 di Trieste. Dal 2014 il suo percorso arpistico è seguito da Tatiana Donis presso la Glasbena Matica di Trieste. Nonostante la giovane età\, Filippo Craglietto è già vincitore di numerosi Concorsi Internazionali quali Concorso di Musica della Svizzera Italiana\, Concorso Giovani Talenti Città di Gorizia\, Arpademia Celtic Harp Competition ed il prestigioso Concorso Suoni d’Arpa di Saluzzo. Il suo percorso artistico lo vede protagonista di concerti in importanti sale nazionali ed internazionali quali Dvorana Uninon a Maribor\, Museo Revoltella di Trieste\, Villa Coronini a Gorizia\, Akademy of Music University a Zagabria. La sua formazione continua tutt’oggi con Tatiana Donis\, unitamente a numerosi corsi di perfezionamento con docenti di fama internazionale quali Gabriella Bosio\, Francesca Tirale\, Diana Grubisic\, Emanuela Degli Esposti\, Dalibor Bernatovic\, Cormac de Barra.
URL:https://www.acmtrioditrieste.it/evento/concerto-finale-e-premiazione-del-23-concorso-internazionale-premio-trio-di-trieste/
LOCATION:Teatro Miela\, Piazza Luigi Amedeo Duca degli Abruzzi\, 3\, 34132\, Trieste\, 34132\, Italy
CATEGORIES:CROMATISMI 2026
ATTACH;FMTTYPE=image/jpeg:https://www.acmtrioditrieste.it/wp-content/uploads/2025/09/Banner-Premio-23a-edizione-scaled.jpg
ORGANIZER;CN="Chamber Music Trieste":MAILTO:info@acmtrioditrieste.it
END:VEVENT
BEGIN:VEVENT
DTSTART;TZID=UTC:20261007T203000
DTEND;TZID=UTC:20261007T220000
DTSTAMP:20260420T071359
CREATED:20251210T070230Z
LAST-MODIFIED:20251216T101620Z
UID:31082-1791405000-1791410400@www.acmtrioditrieste.it
SUMMARY:I VIRTUOSI ITALIANI con ALBERTO MARTINI e FEDERICO MONDELCI
DESCRIPTION:Un viaggio nel '900				\n				\n				\n				\n							\n			\n						\n		\n						\n				\n					\n		\n					\n		\n					\n		\n					\n		\n				\n						\n					\n			\n						\n						\n					\n			\n						\n				\n									Paul Hindemith (1895 – 1963)Sonata per arpa1.Mäßig schnell2.Lebhaft3.Lied “Ihr Freunde\, hänget” – Sehr langsam Jean-Michel Damase (1928 – 2013)Sicilienne variée op.30 Carlos Salzedo (1885 – 1961)da Suite of Eight Dances n.6 Tango n.7 Seguidilla 								\n				\n					\n		\n				\n			\n						\n				\n									Marcel Tournier (1879 – 1951)Vers la source dans le bois Étude de concert “Au matin” Féerie Prélude et danse   								\n				\n					\n		\n					\n		\n					\n		\n					\n		\n				\n						\n					\n			\n						\n						\n					\n			\n						\n				\n							\n			\n		\n						\n				\n				\n				\n					Filippo Craglietto				\n				\n				\n				\n							\n			\n						\n		\n						\n				\n				\n				\n							\n			\n		\n						\n				\n				\n				\n									Vincitore del 1° Concorso Internazionale d’arpa “Adriatic” di Duino – Trieste\, Filippo Craglietto classe 2007 ha incontrato la musica in giovanissima età. A due anni\, infatti\, inizia col seguire i corsi di propedeutica ed introduzione alla musica con Vincenzo Stera e Rossana Iugovaz presso la Scuola 55 di Trieste. Dal 2014 il suo percorso arpistico è seguito da Tatiana Donis presso la Glasbena Matica di Trieste. Nonostante la giovane età\, Filippo Craglietto è già vincitore di numerosi Concorsi Internazionali quali Concorso di Musica della Svizzera Italiana\, Concorso Giovani Talenti Città di Gorizia\, Arpademia Celtic Harp Competition ed il prestigioso Concorso Suoni d’Arpa di Saluzzo. Il suo percorso artistico lo vede protagonista di concerti in importanti sale nazionali ed internazionali quali Dvorana Uninon a Maribor\, Museo Revoltella di Trieste\, Villa Coronini a Gorizia\, Akademy of Music University a Zagabria. La sua formazione continua tutt’oggi con Tatiana Donis\, unitamente a numerosi corsi di perfezionamento con docenti di fama internazionale quali Gabriella Bosio\, Francesca Tirale\, Diana Grubisic\, Emanuela Degli Esposti\, Dalibor Bernatovic\, Cormac de Barra.
URL:https://www.acmtrioditrieste.it/evento/i-virtuosi-italiani-con-alberto-martini-e-federico-mondelci/
LOCATION:Teatro Miela\, Piazza Luigi Amedeo Duca degli Abruzzi\, 3\, 34132\, Trieste\, 34132\, Italy
CATEGORIES:CROMATISMI 2026
ATTACH;FMTTYPE=image/jpeg:https://www.acmtrioditrieste.it/wp-content/uploads/2025/12/I-VIRTUOSI-ITALIANI-con-ALBERTO-MARTINI-e-FEDERICO-MONDELCI-1.jpg
ORGANIZER;CN="Chamber Music Trieste":MAILTO:info@acmtrioditrieste.it
END:VEVENT
BEGIN:VEVENT
DTSTART;TZID=UTC:20261021T203000
DTEND;TZID=UTC:20261021T220000
DTSTAMP:20260420T071359
CREATED:20251210T070228Z
LAST-MODIFIED:20251210T070228Z
UID:31088-1792614600-1792620000@www.acmtrioditrieste.it
SUMMARY:DUO DALLAGNESE
DESCRIPTION:Un viaggio nel '900				\n				\n				\n				\n							\n			\n						\n		\n						\n				\n					\n		\n					\n		\n					\n		\n					\n		\n				\n						\n					\n			\n						\n						\n					\n			\n						\n				\n									Paul Hindemith (1895 – 1963)Sonata per arpa1.Mäßig schnell2.Lebhaft3.Lied “Ihr Freunde\, hänget” – Sehr langsam Jean-Michel Damase (1928 – 2013)Sicilienne variée op.30 Carlos Salzedo (1885 – 1961)da Suite of Eight Dances n.6 Tango n.7 Seguidilla 								\n				\n					\n		\n				\n			\n						\n				\n									Marcel Tournier (1879 – 1951)Vers la source dans le bois Étude de concert “Au matin” Féerie Prélude et danse   								\n				\n					\n		\n					\n		\n					\n		\n					\n		\n				\n						\n					\n			\n						\n						\n					\n			\n						\n				\n							\n			\n		\n						\n				\n				\n				\n					Filippo Craglietto				\n				\n				\n				\n							\n			\n						\n		\n						\n				\n				\n				\n							\n			\n		\n						\n				\n				\n				\n									Vincitore del 1° Concorso Internazionale d’arpa “Adriatic” di Duino – Trieste\, Filippo Craglietto classe 2007 ha incontrato la musica in giovanissima età. A due anni\, infatti\, inizia col seguire i corsi di propedeutica ed introduzione alla musica con Vincenzo Stera e Rossana Iugovaz presso la Scuola 55 di Trieste. Dal 2014 il suo percorso arpistico è seguito da Tatiana Donis presso la Glasbena Matica di Trieste. Nonostante la giovane età\, Filippo Craglietto è già vincitore di numerosi Concorsi Internazionali quali Concorso di Musica della Svizzera Italiana\, Concorso Giovani Talenti Città di Gorizia\, Arpademia Celtic Harp Competition ed il prestigioso Concorso Suoni d’Arpa di Saluzzo. Il suo percorso artistico lo vede protagonista di concerti in importanti sale nazionali ed internazionali quali Dvorana Uninon a Maribor\, Museo Revoltella di Trieste\, Villa Coronini a Gorizia\, Akademy of Music University a Zagabria. La sua formazione continua tutt’oggi con Tatiana Donis\, unitamente a numerosi corsi di perfezionamento con docenti di fama internazionale quali Gabriella Bosio\, Francesca Tirale\, Diana Grubisic\, Emanuela Degli Esposti\, Dalibor Bernatovic\, Cormac de Barra.
URL:https://www.acmtrioditrieste.it/evento/duo-dallagnese/
LOCATION:Teatro Miela\, Piazza Luigi Amedeo Duca degli Abruzzi\, 3\, 34132\, Trieste\, 34132\, Italy
CATEGORIES:CROMATISMI 2026
ATTACH;FMTTYPE=image/jpeg:https://www.acmtrioditrieste.it/wp-content/uploads/2025/11/DUO-DALLAGNESE-.jpg
ORGANIZER;CN="Chamber Music Trieste":MAILTO:info@acmtrioditrieste.it
END:VEVENT
BEGIN:VEVENT
DTSTART;TZID=UTC:20261111T203000
DTEND;TZID=UTC:20261111T220000
DTSTAMP:20260420T071359
CREATED:20251210T070146Z
LAST-MODIFIED:20260417T104704Z
UID:31098-1794429000-1794434400@www.acmtrioditrieste.it
SUMMARY:TRIO CONCEPT
DESCRIPTION:Un viaggio nel '900				\n				\n				\n				\n							\n			\n						\n		\n						\n				\n					\n		\n					\n		\n					\n		\n					\n		\n				\n						\n					\n			\n						\n						\n					\n			\n						\n				\n									Paul Hindemith (1895 – 1963)Sonata per arpa1.Mäßig schnell2.Lebhaft3.Lied “Ihr Freunde\, hänget” – Sehr langsam Jean-Michel Damase (1928 – 2013)Sicilienne variée op.30 Carlos Salzedo (1885 – 1961)da Suite of Eight Dances n.6 Tango n.7 Seguidilla 								\n				\n					\n		\n				\n			\n						\n				\n									Marcel Tournier (1879 – 1951)Vers la source dans le bois Étude de concert “Au matin” Féerie Prélude et danse   								\n				\n					\n		\n					\n		\n					\n		\n					\n		\n				\n						\n					\n			\n						\n						\n					\n			\n						\n				\n							\n			\n		\n						\n				\n				\n				\n					Filippo Craglietto				\n				\n				\n				\n							\n			\n						\n		\n						\n				\n				\n				\n							\n			\n		\n						\n				\n				\n				\n									Vincitore del 1° Concorso Internazionale d’arpa “Adriatic” di Duino – Trieste\, Filippo Craglietto classe 2007 ha incontrato la musica in giovanissima età. A due anni\, infatti\, inizia col seguire i corsi di propedeutica ed introduzione alla musica con Vincenzo Stera e Rossana Iugovaz presso la Scuola 55 di Trieste. Dal 2014 il suo percorso arpistico è seguito da Tatiana Donis presso la Glasbena Matica di Trieste. Nonostante la giovane età\, Filippo Craglietto è già vincitore di numerosi Concorsi Internazionali quali Concorso di Musica della Svizzera Italiana\, Concorso Giovani Talenti Città di Gorizia\, Arpademia Celtic Harp Competition ed il prestigioso Concorso Suoni d’Arpa di Saluzzo. Il suo percorso artistico lo vede protagonista di concerti in importanti sale nazionali ed internazionali quali Dvorana Uninon a Maribor\, Museo Revoltella di Trieste\, Villa Coronini a Gorizia\, Akademy of Music University a Zagabria. La sua formazione continua tutt’oggi con Tatiana Donis\, unitamente a numerosi corsi di perfezionamento con docenti di fama internazionale quali Gabriella Bosio\, Francesca Tirale\, Diana Grubisic\, Emanuela Degli Esposti\, Dalibor Bernatovic\, Cormac de Barra.
URL:https://www.acmtrioditrieste.it/evento/trio-concept/
LOCATION:Teatro Miela\, Piazza Luigi Amedeo Duca degli Abruzzi\, 3\, 34132\, Trieste\, 34132\, Italy
CATEGORIES:CROMATISMI 2026
ATTACH;FMTTYPE=image/jpeg:https://www.acmtrioditrieste.it/wp-content/uploads/2025/12/TrioChagall_studio_044-1400x933-1-e1765186426752.jpg
ORGANIZER;CN="Chamber Music Trieste":MAILTO:info@acmtrioditrieste.it
END:VEVENT
BEGIN:VEVENT
DTSTART;TZID=UTC:20261125T203000
DTEND;TZID=UTC:20261125T220000
DTSTAMP:20260420T071359
CREATED:20251210T070225Z
LAST-MODIFIED:20260304T172800Z
UID:31107-1795638600-1795644000@www.acmtrioditrieste.it
SUMMARY:ŠKAMPA QUARTET
DESCRIPTION:Un viaggio nel '900				\n				\n				\n				\n							\n			\n						\n		\n						\n				\n					\n		\n					\n		\n					\n		\n					\n		\n				\n						\n					\n			\n						\n						\n					\n			\n						\n				\n									Paul Hindemith (1895 – 1963)Sonata per arpa1.Mäßig schnell2.Lebhaft3.Lied “Ihr Freunde\, hänget” – Sehr langsam Jean-Michel Damase (1928 – 2013)Sicilienne variée op.30 Carlos Salzedo (1885 – 1961)da Suite of Eight Dances n.6 Tango n.7 Seguidilla 								\n				\n					\n		\n				\n			\n						\n				\n									Marcel Tournier (1879 – 1951)Vers la source dans le bois Étude de concert “Au matin” Féerie Prélude et danse   								\n				\n					\n		\n					\n		\n					\n		\n					\n		\n				\n						\n					\n			\n						\n						\n					\n			\n						\n				\n							\n			\n		\n						\n				\n				\n				\n					Filippo Craglietto				\n				\n				\n				\n							\n			\n						\n		\n						\n				\n				\n				\n							\n			\n		\n						\n				\n				\n				\n									Vincitore del 1° Concorso Internazionale d’arpa “Adriatic” di Duino – Trieste\, Filippo Craglietto classe 2007 ha incontrato la musica in giovanissima età. A due anni\, infatti\, inizia col seguire i corsi di propedeutica ed introduzione alla musica con Vincenzo Stera e Rossana Iugovaz presso la Scuola 55 di Trieste. Dal 2014 il suo percorso arpistico è seguito da Tatiana Donis presso la Glasbena Matica di Trieste. Nonostante la giovane età\, Filippo Craglietto è già vincitore di numerosi Concorsi Internazionali quali Concorso di Musica della Svizzera Italiana\, Concorso Giovani Talenti Città di Gorizia\, Arpademia Celtic Harp Competition ed il prestigioso Concorso Suoni d’Arpa di Saluzzo. Il suo percorso artistico lo vede protagonista di concerti in importanti sale nazionali ed internazionali quali Dvorana Uninon a Maribor\, Museo Revoltella di Trieste\, Villa Coronini a Gorizia\, Akademy of Music University a Zagabria. La sua formazione continua tutt’oggi con Tatiana Donis\, unitamente a numerosi corsi di perfezionamento con docenti di fama internazionale quali Gabriella Bosio\, Francesca Tirale\, Diana Grubisic\, Emanuela Degli Esposti\, Dalibor Bernatovic\, Cormac de Barra.
URL:https://www.acmtrioditrieste.it/evento/skampa-quartet-2/
LOCATION:Teatro Miela\, Piazza Luigi Amedeo Duca degli Abruzzi\, 3\, 34132\, Trieste\, 34132\, Italy
CATEGORIES:CROMATISMI 2026
ATTACH;FMTTYPE=image/jpeg:https://www.acmtrioditrieste.it/wp-content/uploads/2025/11/Quartetto_Skampa_foto_NEW.jpg
ORGANIZER;CN="Chamber Music Trieste":MAILTO:info@acmtrioditrieste.it
END:VEVENT
BEGIN:VEVENT
DTSTART;TZID=UTC:20261213T180000
DTEND;TZID=UTC:20261213T193000
DTSTAMP:20260420T071359
CREATED:20251210T070105Z
LAST-MODIFIED:20260209T111935Z
UID:31113-1797184800-1797190200@www.acmtrioditrieste.it
SUMMARY:AUGURI di NATALE con AXEL TROLESE
DESCRIPTION:Un viaggio nel '900				\n				\n				\n				\n							\n			\n						\n		\n						\n				\n					\n		\n					\n		\n					\n		\n					\n		\n				\n						\n					\n			\n						\n						\n					\n			\n						\n				\n									Paul Hindemith (1895 – 1963)Sonata per arpa1.Mäßig schnell2.Lebhaft3.Lied “Ihr Freunde\, hänget” – Sehr langsam Jean-Michel Damase (1928 – 2013)Sicilienne variée op.30 Carlos Salzedo (1885 – 1961)da Suite of Eight Dances n.6 Tango n.7 Seguidilla 								\n				\n					\n		\n				\n			\n						\n				\n									Marcel Tournier (1879 – 1951)Vers la source dans le bois Étude de concert “Au matin” Féerie Prélude et danse   								\n				\n					\n		\n					\n		\n					\n		\n					\n		\n				\n						\n					\n			\n						\n						\n					\n			\n						\n				\n							\n			\n		\n						\n				\n				\n				\n					Filippo Craglietto				\n				\n				\n				\n							\n			\n						\n		\n						\n				\n				\n				\n							\n			\n		\n						\n				\n				\n				\n									Vincitore del 1° Concorso Internazionale d’arpa “Adriatic” di Duino – Trieste\, Filippo Craglietto classe 2007 ha incontrato la musica in giovanissima età. A due anni\, infatti\, inizia col seguire i corsi di propedeutica ed introduzione alla musica con Vincenzo Stera e Rossana Iugovaz presso la Scuola 55 di Trieste. Dal 2014 il suo percorso arpistico è seguito da Tatiana Donis presso la Glasbena Matica di Trieste. Nonostante la giovane età\, Filippo Craglietto è già vincitore di numerosi Concorsi Internazionali quali Concorso di Musica della Svizzera Italiana\, Concorso Giovani Talenti Città di Gorizia\, Arpademia Celtic Harp Competition ed il prestigioso Concorso Suoni d’Arpa di Saluzzo. Il suo percorso artistico lo vede protagonista di concerti in importanti sale nazionali ed internazionali quali Dvorana Uninon a Maribor\, Museo Revoltella di Trieste\, Villa Coronini a Gorizia\, Akademy of Music University a Zagabria. La sua formazione continua tutt’oggi con Tatiana Donis\, unitamente a numerosi corsi di perfezionamento con docenti di fama internazionale quali Gabriella Bosio\, Francesca Tirale\, Diana Grubisic\, Emanuela Degli Esposti\, Dalibor Bernatovic\, Cormac de Barra.
URL:https://www.acmtrioditrieste.it/evento/auguri-di-natale-con-axel-trolese/
LOCATION:Hotel Savoia\, Riva del Mandracchio\, 4\, Trieste\, 34124
CATEGORIES:CROMATISMI 2026
ATTACH;FMTTYPE=image/jpeg:https://www.acmtrioditrieste.it/wp-content/uploads/2025/11/Axel-Trolese-@ChrisMcGuire.jpg
ORGANIZER;CN="Chamber Music Trieste":MAILTO:info@acmtrioditrieste.it
END:VEVENT
END:VCALENDAR