BEGIN:VCALENDAR
VERSION:2.0
PRODID:-//ACM Associazione Chamber Music - ECPv6.3.7//NONSGML v1.0//EN
CALSCALE:GREGORIAN
METHOD:PUBLISH
X-WR-CALNAME:ACM Associazione Chamber Music
X-ORIGINAL-URL:https://www.acmtrioditrieste.it
X-WR-CALDESC:Events for ACM Associazione Chamber Music
REFRESH-INTERVAL;VALUE=DURATION:PT1H
X-Robots-Tag:noindex
X-PUBLISHED-TTL:PT1H
BEGIN:VTIMEZONE
TZID:UTC
BEGIN:STANDARD
TZOFFSETFROM:+0000
TZOFFSETTO:+0000
TZNAME:UTC
DTSTART:20260101T000000
END:STANDARD
END:VTIMEZONE
BEGIN:VEVENT
DTSTART;TZID=UTC:20261125T203000
DTEND;TZID=UTC:20261125T220000
DTSTAMP:20260420T071205
CREATED:20251210T070225Z
LAST-MODIFIED:20260304T172800Z
UID:31107-1795638600-1795644000@www.acmtrioditrieste.it
SUMMARY:ŠKAMPA QUARTET
DESCRIPTION:Un viaggio nel '900				\n				\n				\n				\n							\n			\n						\n		\n						\n				\n					\n		\n					\n		\n					\n		\n					\n		\n				\n						\n					\n			\n						\n						\n					\n			\n						\n				\n									Paul Hindemith (1895 – 1963)Sonata per arpa1.Mäßig schnell2.Lebhaft3.Lied “Ihr Freunde\, hänget” – Sehr langsam Jean-Michel Damase (1928 – 2013)Sicilienne variée op.30 Carlos Salzedo (1885 – 1961)da Suite of Eight Dances n.6 Tango n.7 Seguidilla 								\n				\n					\n		\n				\n			\n						\n				\n									Marcel Tournier (1879 – 1951)Vers la source dans le bois Étude de concert “Au matin” Féerie Prélude et danse   								\n				\n					\n		\n					\n		\n					\n		\n					\n		\n				\n						\n					\n			\n						\n						\n					\n			\n						\n				\n							\n			\n		\n						\n				\n				\n				\n					Filippo Craglietto				\n				\n				\n				\n							\n			\n						\n		\n						\n				\n				\n				\n							\n			\n		\n						\n				\n				\n				\n									Vincitore del 1° Concorso Internazionale d’arpa “Adriatic” di Duino – Trieste\, Filippo Craglietto classe 2007 ha incontrato la musica in giovanissima età. A due anni\, infatti\, inizia col seguire i corsi di propedeutica ed introduzione alla musica con Vincenzo Stera e Rossana Iugovaz presso la Scuola 55 di Trieste. Dal 2014 il suo percorso arpistico è seguito da Tatiana Donis presso la Glasbena Matica di Trieste. Nonostante la giovane età\, Filippo Craglietto è già vincitore di numerosi Concorsi Internazionali quali Concorso di Musica della Svizzera Italiana\, Concorso Giovani Talenti Città di Gorizia\, Arpademia Celtic Harp Competition ed il prestigioso Concorso Suoni d’Arpa di Saluzzo. Il suo percorso artistico lo vede protagonista di concerti in importanti sale nazionali ed internazionali quali Dvorana Uninon a Maribor\, Museo Revoltella di Trieste\, Villa Coronini a Gorizia\, Akademy of Music University a Zagabria. La sua formazione continua tutt’oggi con Tatiana Donis\, unitamente a numerosi corsi di perfezionamento con docenti di fama internazionale quali Gabriella Bosio\, Francesca Tirale\, Diana Grubisic\, Emanuela Degli Esposti\, Dalibor Bernatovic\, Cormac de Barra.
URL:https://www.acmtrioditrieste.it/evento/skampa-quartet-2/
LOCATION:Teatro Miela\, Piazza Luigi Amedeo Duca degli Abruzzi\, 3\, 34132\, Trieste\, 34132\, Italy
CATEGORIES:CROMATISMI 2026
ATTACH;FMTTYPE=image/jpeg:https://www.acmtrioditrieste.it/wp-content/uploads/2025/11/Quartetto_Skampa_foto_NEW.jpg
ORGANIZER;CN="Chamber Music Trieste":MAILTO:info@acmtrioditrieste.it
END:VEVENT
BEGIN:VEVENT
DTSTART;TZID=UTC:20261213T180000
DTEND;TZID=UTC:20261213T193000
DTSTAMP:20260420T071205
CREATED:20251210T070105Z
LAST-MODIFIED:20260209T111935Z
UID:31113-1797184800-1797190200@www.acmtrioditrieste.it
SUMMARY:AUGURI di NATALE con AXEL TROLESE
DESCRIPTION:Un viaggio nel '900				\n				\n				\n				\n							\n			\n						\n		\n						\n				\n					\n		\n					\n		\n					\n		\n					\n		\n				\n						\n					\n			\n						\n						\n					\n			\n						\n				\n									Paul Hindemith (1895 – 1963)Sonata per arpa1.Mäßig schnell2.Lebhaft3.Lied “Ihr Freunde\, hänget” – Sehr langsam Jean-Michel Damase (1928 – 2013)Sicilienne variée op.30 Carlos Salzedo (1885 – 1961)da Suite of Eight Dances n.6 Tango n.7 Seguidilla 								\n				\n					\n		\n				\n			\n						\n				\n									Marcel Tournier (1879 – 1951)Vers la source dans le bois Étude de concert “Au matin” Féerie Prélude et danse   								\n				\n					\n		\n					\n		\n					\n		\n					\n		\n				\n						\n					\n			\n						\n						\n					\n			\n						\n				\n							\n			\n		\n						\n				\n				\n				\n					Filippo Craglietto				\n				\n				\n				\n							\n			\n						\n		\n						\n				\n				\n				\n							\n			\n		\n						\n				\n				\n				\n									Vincitore del 1° Concorso Internazionale d’arpa “Adriatic” di Duino – Trieste\, Filippo Craglietto classe 2007 ha incontrato la musica in giovanissima età. A due anni\, infatti\, inizia col seguire i corsi di propedeutica ed introduzione alla musica con Vincenzo Stera e Rossana Iugovaz presso la Scuola 55 di Trieste. Dal 2014 il suo percorso arpistico è seguito da Tatiana Donis presso la Glasbena Matica di Trieste. Nonostante la giovane età\, Filippo Craglietto è già vincitore di numerosi Concorsi Internazionali quali Concorso di Musica della Svizzera Italiana\, Concorso Giovani Talenti Città di Gorizia\, Arpademia Celtic Harp Competition ed il prestigioso Concorso Suoni d’Arpa di Saluzzo. Il suo percorso artistico lo vede protagonista di concerti in importanti sale nazionali ed internazionali quali Dvorana Uninon a Maribor\, Museo Revoltella di Trieste\, Villa Coronini a Gorizia\, Akademy of Music University a Zagabria. La sua formazione continua tutt’oggi con Tatiana Donis\, unitamente a numerosi corsi di perfezionamento con docenti di fama internazionale quali Gabriella Bosio\, Francesca Tirale\, Diana Grubisic\, Emanuela Degli Esposti\, Dalibor Bernatovic\, Cormac de Barra.
URL:https://www.acmtrioditrieste.it/evento/auguri-di-natale-con-axel-trolese/
LOCATION:Hotel Savoia\, Riva del Mandracchio\, 4\, Trieste\, 34124
CATEGORIES:CROMATISMI 2026
ATTACH;FMTTYPE=image/jpeg:https://www.acmtrioditrieste.it/wp-content/uploads/2025/11/Axel-Trolese-@ChrisMcGuire.jpg
ORGANIZER;CN="Chamber Music Trieste":MAILTO:info@acmtrioditrieste.it
END:VEVENT
END:VCALENDAR