BEGIN:VCALENDAR
VERSION:2.0
PRODID:-//ACM Associazione Chamber Music - ECPv6.3.7//NONSGML v1.0//EN
CALSCALE:GREGORIAN
METHOD:PUBLISH
X-WR-CALNAME:ACM Associazione Chamber Music
X-ORIGINAL-URL:https://www.acmtrioditrieste.it
X-WR-CALDESC:Events for ACM Associazione Chamber Music
REFRESH-INTERVAL;VALUE=DURATION:PT1H
X-Robots-Tag:noindex
X-PUBLISHED-TTL:PT1H
BEGIN:VTIMEZONE
TZID:UTC
BEGIN:STANDARD
TZOFFSETFROM:+0000
TZOFFSETTO:+0000
TZNAME:UTC
DTSTART:20070101T000000
END:STANDARD
END:VTIMEZONE
BEGIN:VEVENT
DTSTART;VALUE=DATE:20080512
DTEND;VALUE=DATE:20080513
DTSTAMP:20260424T200323
CREATED:20230110T182202Z
LAST-MODIFIED:20230110T182224Z
UID:22200-1210550400-1210636799@www.acmtrioditrieste.it
SUMMARY:Trio Mondrian
DESCRIPTION:Aleš Kacjan -flauto\nMatej Šarc - oboe\nJurji Jenko - clarinetto\nMetod Tomac - corno\nPaolo Calligaris - fagotto\n				\n				\n				\n				\n							\n			\n						\n		\n						\n				\n					\n		\n					\n		\n					\n		\n					\n		\n				\n						\n					\n			\n						\n						\n					\n			\n						\n				\n									Wolfgang Amadeus Mozart (1756 – 1791)Serenata in do minore K.3881. Allegro2. Andante3. Menuetto4. Allegro Nina Šenk (1982)Silhouettes and Shadows – prima esecuzione assoluta *** 								\n				\n					\n		\n				\n			\n						\n				\n									György Ligeti (1923 – 2006)Sei Bagatelle (1953)1. Allegro con spirito2. Rubato. Lamentoso3. Allegro grazioso4. Presto ruvido5. Adagio. Mesto6. Molto vivace. Capriccioso 10 pezzi per quintetto di fiati (1968)1. Molto sostenuto e calmo2. Prestissimo minaccioso e burlesco3. Lento4. Prestissimo leggiero e virtuoso5. Presto staccatissimo e leggiero6. Presto staccatissimo e leggiero7. Vivo\, energico8. Allegro con delicatezza9. Sostenuto\, stridente10. Presto bizzarro e rubato 								\n				\n					\n		\n					\n		\n					\n		\n					\n		\n				\n						\n					\n			\n						\n						\n					\n			\n						\n				\n							\n			\n		\n						\n				\n				\n				\n					Slowind				\n				\n				\n				\n							\n			\n						\n		\n						\n				\n				\n				\n							\n			\n		\n						\n				\n				\n				\n									SLOWIND è un quintetto di fiati formato dalle prime parti dell’Orchestra Filarmonica Slovena. Il repertorio dell’ensemble include tutte le maggiori opere classiche per questa formazione\, ma vengono affrontati con particolare attenzione anche i più recenti lavori dei compositori contemporanei. Il Quintetto si esibisce usualmente in molti festival e stagioni concertistiche in Europa (Lubiana\, Venezia\, Firenze\, Berlino\, Vienna\, Berna\, Bruxelles\, Budapest\, Friburgo\, Strasburgo\, Zagabria\, Copenhagen\, etc.) e nel mondo (USA\, Canada\, Messico\, Mongolia\, Giappone etc.). Gli impegni più recenti vedono la presenza dello Slowind come ensemble in residence al festival di musica contemporanea a Takefu in Giappone (2015)\, il concerto d’apertura alla Biennale di Venezia 2015 e un concerto a Ginevra in collaborazione con l’Ensemble Contrechamps. Inoltre\, dal 1999 organizza annualmente a Lubiana un importante Festival di musica da camera con numerosi ospiti\, tra i quali troviamo Heinz Holliger\, Arvid Engegard\, Aleksandar Madžar\, Alexander Lonquich\, Vinko Globokar\, Emanuele Torquati\, Jurg Wyttenbach\, Martin Smolka\, Muriel Cantoreggi\, Christiane Iven\, Steven Davislim\, Robert Aitken\, Toshio Osokava\, Daj Fujikura\, Matthias Pintscher\, Ivan Fedele\, ecc. Per i loro successi in campo internazionale i membri di Slowind hanno ricevuto il Premio della città di Lubiana (Zupančičeva nagrada) nel 2000 ed il Premio Prešeren nel 2003.
URL:https://www.acmtrioditrieste.it/evento/trio-mondrian/
CATEGORIES:Stagione Concertistica 2008
ATTACH;FMTTYPE=image/jpeg:https://www.acmtrioditrieste.it/wp-content/uploads/2023/01/foto-1140x758-1-2.jpg
ORGANIZER;CN="Chamber Music Trieste":MAILTO:info@acmtrioditrieste.it
END:VEVENT
BEGIN:VEVENT
DTSTART;VALUE=DATE:20080505
DTEND;VALUE=DATE:20080506
DTSTAMP:20260424T200323
CREATED:20230110T182305Z
LAST-MODIFIED:20230110T182329Z
UID:22202-1209945600-1210031999@www.acmtrioditrieste.it
SUMMARY:Duo Maurizio Baglini – Roberto Prosseda con Giuseppe Cacciola e Gianni Arfacchia
DESCRIPTION:Aleš Kacjan -flauto\nMatej Šarc - oboe\nJurji Jenko - clarinetto\nMetod Tomac - corno\nPaolo Calligaris - fagotto\n				\n				\n				\n				\n							\n			\n						\n		\n						\n				\n					\n		\n					\n		\n					\n		\n					\n		\n				\n						\n					\n			\n						\n						\n					\n			\n						\n				\n									Wolfgang Amadeus Mozart (1756 – 1791)Serenata in do minore K.3881. Allegro2. Andante3. Menuetto4. Allegro Nina Šenk (1982)Silhouettes and Shadows – prima esecuzione assoluta *** 								\n				\n					\n		\n				\n			\n						\n				\n									György Ligeti (1923 – 2006)Sei Bagatelle (1953)1. Allegro con spirito2. Rubato. Lamentoso3. Allegro grazioso4. Presto ruvido5. Adagio. Mesto6. Molto vivace. Capriccioso 10 pezzi per quintetto di fiati (1968)1. Molto sostenuto e calmo2. Prestissimo minaccioso e burlesco3. Lento4. Prestissimo leggiero e virtuoso5. Presto staccatissimo e leggiero6. Presto staccatissimo e leggiero7. Vivo\, energico8. Allegro con delicatezza9. Sostenuto\, stridente10. Presto bizzarro e rubato 								\n				\n					\n		\n					\n		\n					\n		\n					\n		\n				\n						\n					\n			\n						\n						\n					\n			\n						\n				\n							\n			\n		\n						\n				\n				\n				\n					Slowind				\n				\n				\n				\n							\n			\n						\n		\n						\n				\n				\n				\n							\n			\n		\n						\n				\n				\n				\n									SLOWIND è un quintetto di fiati formato dalle prime parti dell’Orchestra Filarmonica Slovena. Il repertorio dell’ensemble include tutte le maggiori opere classiche per questa formazione\, ma vengono affrontati con particolare attenzione anche i più recenti lavori dei compositori contemporanei. Il Quintetto si esibisce usualmente in molti festival e stagioni concertistiche in Europa (Lubiana\, Venezia\, Firenze\, Berlino\, Vienna\, Berna\, Bruxelles\, Budapest\, Friburgo\, Strasburgo\, Zagabria\, Copenhagen\, etc.) e nel mondo (USA\, Canada\, Messico\, Mongolia\, Giappone etc.). Gli impegni più recenti vedono la presenza dello Slowind come ensemble in residence al festival di musica contemporanea a Takefu in Giappone (2015)\, il concerto d’apertura alla Biennale di Venezia 2015 e un concerto a Ginevra in collaborazione con l’Ensemble Contrechamps. Inoltre\, dal 1999 organizza annualmente a Lubiana un importante Festival di musica da camera con numerosi ospiti\, tra i quali troviamo Heinz Holliger\, Arvid Engegard\, Aleksandar Madžar\, Alexander Lonquich\, Vinko Globokar\, Emanuele Torquati\, Jurg Wyttenbach\, Martin Smolka\, Muriel Cantoreggi\, Christiane Iven\, Steven Davislim\, Robert Aitken\, Toshio Osokava\, Daj Fujikura\, Matthias Pintscher\, Ivan Fedele\, ecc. Per i loro successi in campo internazionale i membri di Slowind hanno ricevuto il Premio della città di Lubiana (Zupančičeva nagrada) nel 2000 ed il Premio Prešeren nel 2003.
URL:https://www.acmtrioditrieste.it/evento/duo-maurizio-baglini-roberto-prosseda-con-giuseppe-cacciola-e-gianni-arfacchia/
CATEGORIES:Stagione Concertistica 2008
ATTACH;FMTTYPE=image/jpeg:https://www.acmtrioditrieste.it/wp-content/uploads/2023/01/foto-1140x758-2-1140x758-1.jpg
ORGANIZER;CN="Chamber Music Trieste":MAILTO:info@acmtrioditrieste.it
END:VEVENT
BEGIN:VEVENT
DTSTART;VALUE=DATE:20080428
DTEND;VALUE=DATE:20080429
DTSTAMP:20260424T200323
CREATED:20230110T182431Z
LAST-MODIFIED:20230110T182452Z
UID:22203-1209340800-1209427199@www.acmtrioditrieste.it
SUMMARY:Duo Sergej Antonov e Costantine Finehouse
DESCRIPTION:Aleš Kacjan -flauto\nMatej Šarc - oboe\nJurji Jenko - clarinetto\nMetod Tomac - corno\nPaolo Calligaris - fagotto\n				\n				\n				\n				\n							\n			\n						\n		\n						\n				\n					\n		\n					\n		\n					\n		\n					\n		\n				\n						\n					\n			\n						\n						\n					\n			\n						\n				\n									Wolfgang Amadeus Mozart (1756 – 1791)Serenata in do minore K.3881. Allegro2. Andante3. Menuetto4. Allegro Nina Šenk (1982)Silhouettes and Shadows – prima esecuzione assoluta *** 								\n				\n					\n		\n				\n			\n						\n				\n									György Ligeti (1923 – 2006)Sei Bagatelle (1953)1. Allegro con spirito2. Rubato. Lamentoso3. Allegro grazioso4. Presto ruvido5. Adagio. Mesto6. Molto vivace. Capriccioso 10 pezzi per quintetto di fiati (1968)1. Molto sostenuto e calmo2. Prestissimo minaccioso e burlesco3. Lento4. Prestissimo leggiero e virtuoso5. Presto staccatissimo e leggiero6. Presto staccatissimo e leggiero7. Vivo\, energico8. Allegro con delicatezza9. Sostenuto\, stridente10. Presto bizzarro e rubato 								\n				\n					\n		\n					\n		\n					\n		\n					\n		\n				\n						\n					\n			\n						\n						\n					\n			\n						\n				\n							\n			\n		\n						\n				\n				\n				\n					Slowind				\n				\n				\n				\n							\n			\n						\n		\n						\n				\n				\n				\n							\n			\n		\n						\n				\n				\n				\n									SLOWIND è un quintetto di fiati formato dalle prime parti dell’Orchestra Filarmonica Slovena. Il repertorio dell’ensemble include tutte le maggiori opere classiche per questa formazione\, ma vengono affrontati con particolare attenzione anche i più recenti lavori dei compositori contemporanei. Il Quintetto si esibisce usualmente in molti festival e stagioni concertistiche in Europa (Lubiana\, Venezia\, Firenze\, Berlino\, Vienna\, Berna\, Bruxelles\, Budapest\, Friburgo\, Strasburgo\, Zagabria\, Copenhagen\, etc.) e nel mondo (USA\, Canada\, Messico\, Mongolia\, Giappone etc.). Gli impegni più recenti vedono la presenza dello Slowind come ensemble in residence al festival di musica contemporanea a Takefu in Giappone (2015)\, il concerto d’apertura alla Biennale di Venezia 2015 e un concerto a Ginevra in collaborazione con l’Ensemble Contrechamps. Inoltre\, dal 1999 organizza annualmente a Lubiana un importante Festival di musica da camera con numerosi ospiti\, tra i quali troviamo Heinz Holliger\, Arvid Engegard\, Aleksandar Madžar\, Alexander Lonquich\, Vinko Globokar\, Emanuele Torquati\, Jurg Wyttenbach\, Martin Smolka\, Muriel Cantoreggi\, Christiane Iven\, Steven Davislim\, Robert Aitken\, Toshio Osokava\, Daj Fujikura\, Matthias Pintscher\, Ivan Fedele\, ecc. Per i loro successi in campo internazionale i membri di Slowind hanno ricevuto il Premio della città di Lubiana (Zupančičeva nagrada) nel 2000 ed il Premio Prešeren nel 2003.
URL:https://www.acmtrioditrieste.it/evento/duo-sergej-antonov-e-costantine-finehouse/
CATEGORIES:Stagione Concertistica 2008
ATTACH;FMTTYPE=image/jpeg:https://www.acmtrioditrieste.it/wp-content/uploads/2023/01/foto-1140x758-4.jpg
ORGANIZER;CN="Chamber Music Trieste":MAILTO:info@acmtrioditrieste.it
END:VEVENT
BEGIN:VEVENT
DTSTART;VALUE=DATE:20071011
DTEND;VALUE=DATE:20071012
DTSTAMP:20260424T200323
CREATED:20230113T133357Z
LAST-MODIFIED:20230113T133430Z
UID:22751-1192060800-1192147199@www.acmtrioditrieste.it
SUMMARY:Arnaldo Cohen
DESCRIPTION:Aleš Kacjan -flauto\nMatej Šarc - oboe\nJurji Jenko - clarinetto\nMetod Tomac - corno\nPaolo Calligaris - fagotto\n				\n				\n				\n				\n							\n			\n						\n		\n						\n				\n					\n		\n					\n		\n					\n		\n					\n		\n				\n						\n					\n			\n						\n						\n					\n			\n						\n				\n									Wolfgang Amadeus Mozart (1756 – 1791)Serenata in do minore K.3881. Allegro2. Andante3. Menuetto4. Allegro Nina Šenk (1982)Silhouettes and Shadows – prima esecuzione assoluta *** 								\n				\n					\n		\n				\n			\n						\n				\n									György Ligeti (1923 – 2006)Sei Bagatelle (1953)1. Allegro con spirito2. Rubato. Lamentoso3. Allegro grazioso4. Presto ruvido5. Adagio. Mesto6. Molto vivace. Capriccioso 10 pezzi per quintetto di fiati (1968)1. Molto sostenuto e calmo2. Prestissimo minaccioso e burlesco3. Lento4. Prestissimo leggiero e virtuoso5. Presto staccatissimo e leggiero6. Presto staccatissimo e leggiero7. Vivo\, energico8. Allegro con delicatezza9. Sostenuto\, stridente10. Presto bizzarro e rubato 								\n				\n					\n		\n					\n		\n					\n		\n					\n		\n				\n						\n					\n			\n						\n						\n					\n			\n						\n				\n							\n			\n		\n						\n				\n				\n				\n					Slowind				\n				\n				\n				\n							\n			\n						\n		\n						\n				\n				\n				\n							\n			\n		\n						\n				\n				\n				\n									SLOWIND è un quintetto di fiati formato dalle prime parti dell’Orchestra Filarmonica Slovena. Il repertorio dell’ensemble include tutte le maggiori opere classiche per questa formazione\, ma vengono affrontati con particolare attenzione anche i più recenti lavori dei compositori contemporanei. Il Quintetto si esibisce usualmente in molti festival e stagioni concertistiche in Europa (Lubiana\, Venezia\, Firenze\, Berlino\, Vienna\, Berna\, Bruxelles\, Budapest\, Friburgo\, Strasburgo\, Zagabria\, Copenhagen\, etc.) e nel mondo (USA\, Canada\, Messico\, Mongolia\, Giappone etc.). Gli impegni più recenti vedono la presenza dello Slowind come ensemble in residence al festival di musica contemporanea a Takefu in Giappone (2015)\, il concerto d’apertura alla Biennale di Venezia 2015 e un concerto a Ginevra in collaborazione con l’Ensemble Contrechamps. Inoltre\, dal 1999 organizza annualmente a Lubiana un importante Festival di musica da camera con numerosi ospiti\, tra i quali troviamo Heinz Holliger\, Arvid Engegard\, Aleksandar Madžar\, Alexander Lonquich\, Vinko Globokar\, Emanuele Torquati\, Jurg Wyttenbach\, Martin Smolka\, Muriel Cantoreggi\, Christiane Iven\, Steven Davislim\, Robert Aitken\, Toshio Osokava\, Daj Fujikura\, Matthias Pintscher\, Ivan Fedele\, ecc. Per i loro successi in campo internazionale i membri di Slowind hanno ricevuto il Premio della città di Lubiana (Zupančičeva nagrada) nel 2000 ed il Premio Prešeren nel 2003.
URL:https://www.acmtrioditrieste.it/evento/arnaldo-cohen/
LOCATION:Ridotto del Teatro Verdi\, Riva Tre Novembre\, 1\, Trieste\, 34121\, Italia
CATEGORIES:Festival Pianistico 2007
ATTACH;FMTTYPE=image/jpeg:https://www.acmtrioditrieste.it/wp-content/uploads/2023/01/foto-1140x758-1140x758-1-2.jpg
ORGANIZER;CN="Chamber Music Trieste":MAILTO:info@acmtrioditrieste.it
END:VEVENT
BEGIN:VEVENT
DTSTART;VALUE=DATE:20071008
DTEND;VALUE=DATE:20071009
DTSTAMP:20260424T200323
CREATED:20230113T133128Z
LAST-MODIFIED:20230113T133207Z
UID:22748-1191801600-1191887999@www.acmtrioditrieste.it
SUMMARY:I Virtuosi Italiani – Ramin Bahrami
DESCRIPTION:Aleš Kacjan -flauto\nMatej Šarc - oboe\nJurji Jenko - clarinetto\nMetod Tomac - corno\nPaolo Calligaris - fagotto\n				\n				\n				\n				\n							\n			\n						\n		\n						\n				\n					\n		\n					\n		\n					\n		\n					\n		\n				\n						\n					\n			\n						\n						\n					\n			\n						\n				\n									Wolfgang Amadeus Mozart (1756 – 1791)Serenata in do minore K.3881. Allegro2. Andante3. Menuetto4. Allegro Nina Šenk (1982)Silhouettes and Shadows – prima esecuzione assoluta *** 								\n				\n					\n		\n				\n			\n						\n				\n									György Ligeti (1923 – 2006)Sei Bagatelle (1953)1. Allegro con spirito2. Rubato. Lamentoso3. Allegro grazioso4. Presto ruvido5. Adagio. Mesto6. Molto vivace. Capriccioso 10 pezzi per quintetto di fiati (1968)1. Molto sostenuto e calmo2. Prestissimo minaccioso e burlesco3. Lento4. Prestissimo leggiero e virtuoso5. Presto staccatissimo e leggiero6. Presto staccatissimo e leggiero7. Vivo\, energico8. Allegro con delicatezza9. Sostenuto\, stridente10. Presto bizzarro e rubato 								\n				\n					\n		\n					\n		\n					\n		\n					\n		\n				\n						\n					\n			\n						\n						\n					\n			\n						\n				\n							\n			\n		\n						\n				\n				\n				\n					Slowind				\n				\n				\n				\n							\n			\n						\n		\n						\n				\n				\n				\n							\n			\n		\n						\n				\n				\n				\n									SLOWIND è un quintetto di fiati formato dalle prime parti dell’Orchestra Filarmonica Slovena. Il repertorio dell’ensemble include tutte le maggiori opere classiche per questa formazione\, ma vengono affrontati con particolare attenzione anche i più recenti lavori dei compositori contemporanei. Il Quintetto si esibisce usualmente in molti festival e stagioni concertistiche in Europa (Lubiana\, Venezia\, Firenze\, Berlino\, Vienna\, Berna\, Bruxelles\, Budapest\, Friburgo\, Strasburgo\, Zagabria\, Copenhagen\, etc.) e nel mondo (USA\, Canada\, Messico\, Mongolia\, Giappone etc.). Gli impegni più recenti vedono la presenza dello Slowind come ensemble in residence al festival di musica contemporanea a Takefu in Giappone (2015)\, il concerto d’apertura alla Biennale di Venezia 2015 e un concerto a Ginevra in collaborazione con l’Ensemble Contrechamps. Inoltre\, dal 1999 organizza annualmente a Lubiana un importante Festival di musica da camera con numerosi ospiti\, tra i quali troviamo Heinz Holliger\, Arvid Engegard\, Aleksandar Madžar\, Alexander Lonquich\, Vinko Globokar\, Emanuele Torquati\, Jurg Wyttenbach\, Martin Smolka\, Muriel Cantoreggi\, Christiane Iven\, Steven Davislim\, Robert Aitken\, Toshio Osokava\, Daj Fujikura\, Matthias Pintscher\, Ivan Fedele\, ecc. Per i loro successi in campo internazionale i membri di Slowind hanno ricevuto il Premio della città di Lubiana (Zupančičeva nagrada) nel 2000 ed il Premio Prešeren nel 2003.
URL:https://www.acmtrioditrieste.it/evento/i-virtuosi-italiani-ramin-bahrami/
LOCATION:Ridotto del Teatro Verdi\, Riva Tre Novembre\, 1\, Trieste\, 34121\, Italia
CATEGORIES:Festival Pianistico 2007
ATTACH;FMTTYPE=image/jpeg:https://www.acmtrioditrieste.it/wp-content/uploads/2023/01/foto-1140x758-1-1140x758-1.jpg
ORGANIZER;CN="Chamber Music Trieste":MAILTO:info@acmtrioditrieste.it
END:VEVENT
BEGIN:VEVENT
DTSTART;VALUE=DATE:20071004
DTEND;VALUE=DATE:20071005
DTSTAMP:20260424T200323
CREATED:20230113T133313Z
LAST-MODIFIED:20230113T133340Z
UID:22752-1191456000-1191542399@www.acmtrioditrieste.it
SUMMARY:Irina Zahharenkova
DESCRIPTION:Aleš Kacjan -flauto\nMatej Šarc - oboe\nJurji Jenko - clarinetto\nMetod Tomac - corno\nPaolo Calligaris - fagotto\n				\n				\n				\n				\n							\n			\n						\n		\n						\n				\n					\n		\n					\n		\n					\n		\n					\n		\n				\n						\n					\n			\n						\n						\n					\n			\n						\n				\n									Wolfgang Amadeus Mozart (1756 – 1791)Serenata in do minore K.3881. Allegro2. Andante3. Menuetto4. Allegro Nina Šenk (1982)Silhouettes and Shadows – prima esecuzione assoluta *** 								\n				\n					\n		\n				\n			\n						\n				\n									György Ligeti (1923 – 2006)Sei Bagatelle (1953)1. Allegro con spirito2. Rubato. Lamentoso3. Allegro grazioso4. Presto ruvido5. Adagio. Mesto6. Molto vivace. Capriccioso 10 pezzi per quintetto di fiati (1968)1. Molto sostenuto e calmo2. Prestissimo minaccioso e burlesco3. Lento4. Prestissimo leggiero e virtuoso5. Presto staccatissimo e leggiero6. Presto staccatissimo e leggiero7. Vivo\, energico8. Allegro con delicatezza9. Sostenuto\, stridente10. Presto bizzarro e rubato 								\n				\n					\n		\n					\n		\n					\n		\n					\n		\n				\n						\n					\n			\n						\n						\n					\n			\n						\n				\n							\n			\n		\n						\n				\n				\n				\n					Slowind				\n				\n				\n				\n							\n			\n						\n		\n						\n				\n				\n				\n							\n			\n		\n						\n				\n				\n				\n									SLOWIND è un quintetto di fiati formato dalle prime parti dell’Orchestra Filarmonica Slovena. Il repertorio dell’ensemble include tutte le maggiori opere classiche per questa formazione\, ma vengono affrontati con particolare attenzione anche i più recenti lavori dei compositori contemporanei. Il Quintetto si esibisce usualmente in molti festival e stagioni concertistiche in Europa (Lubiana\, Venezia\, Firenze\, Berlino\, Vienna\, Berna\, Bruxelles\, Budapest\, Friburgo\, Strasburgo\, Zagabria\, Copenhagen\, etc.) e nel mondo (USA\, Canada\, Messico\, Mongolia\, Giappone etc.). Gli impegni più recenti vedono la presenza dello Slowind come ensemble in residence al festival di musica contemporanea a Takefu in Giappone (2015)\, il concerto d’apertura alla Biennale di Venezia 2015 e un concerto a Ginevra in collaborazione con l’Ensemble Contrechamps. Inoltre\, dal 1999 organizza annualmente a Lubiana un importante Festival di musica da camera con numerosi ospiti\, tra i quali troviamo Heinz Holliger\, Arvid Engegard\, Aleksandar Madžar\, Alexander Lonquich\, Vinko Globokar\, Emanuele Torquati\, Jurg Wyttenbach\, Martin Smolka\, Muriel Cantoreggi\, Christiane Iven\, Steven Davislim\, Robert Aitken\, Toshio Osokava\, Daj Fujikura\, Matthias Pintscher\, Ivan Fedele\, ecc. Per i loro successi in campo internazionale i membri di Slowind hanno ricevuto il Premio della città di Lubiana (Zupančičeva nagrada) nel 2000 ed il Premio Prešeren nel 2003.
URL:https://www.acmtrioditrieste.it/evento/irina-zahharenkova/
LOCATION:Ridotto del Teatro Verdi\, Riva Tre Novembre\, 1\, Trieste\, 34121\, Italia
CATEGORIES:Festival Pianistico 2007
ATTACH;FMTTYPE=image/jpeg:https://www.acmtrioditrieste.it/wp-content/uploads/2023/01/foto-1-3.jpg
ORGANIZER;CN="Chamber Music Trieste":MAILTO:info@acmtrioditrieste.it
END:VEVENT
END:VCALENDAR