BEGIN:VCALENDAR
VERSION:2.0
PRODID:-//ACM Associazione Chamber Music - ECPv6.3.7//NONSGML v1.0//EN
CALSCALE:GREGORIAN
METHOD:PUBLISH
X-WR-CALNAME:ACM Associazione Chamber Music
X-ORIGINAL-URL:https://www.acmtrioditrieste.it
X-WR-CALDESC:Events for ACM Associazione Chamber Music
REFRESH-INTERVAL;VALUE=DURATION:PT1H
X-Robots-Tag:noindex
X-PUBLISHED-TTL:PT1H
BEGIN:VTIMEZONE
TZID:UTC
BEGIN:STANDARD
TZOFFSETFROM:+0000
TZOFFSETTO:+0000
TZNAME:UTC
DTSTART:20110101T000000
END:STANDARD
END:VTIMEZONE
BEGIN:VEVENT
DTSTART;TZID=UTC:20130513T203000
DTEND;TZID=UTC:20130513T223000
DTSTAMP:20260421T053317
CREATED:20230110T172258Z
LAST-MODIFIED:20230110T172343Z
UID:22056-1368477000-1368484200@www.acmtrioditrieste.it
SUMMARY:Artimus Ensemble
DESCRIPTION:Musiche di Beethoven\, Rota e Brahms
URL:https://www.acmtrioditrieste.it/evento/artimus-ensemble/
LOCATION:Ridotto del Teatro Verdi\, Riva Tre Novembre\, 1\, Trieste\, 34121\, Italia
CATEGORIES:Stagione Concertistica 2013
ATTACH;FMTTYPE=image/jpeg:https://www.acmtrioditrieste.it/wp-content/uploads/2023/01/foto1-2.jpg
ORGANIZER;CN="Chamber Music Trieste":MAILTO:info@acmtrioditrieste.it
END:VEVENT
BEGIN:VEVENT
DTSTART;TZID=UTC:20130429T203000
DTEND;TZID=UTC:20130429T223000
DTSTAMP:20260421T053317
CREATED:20230110T172432Z
LAST-MODIFIED:20230110T172506Z
UID:22055-1367267400-1367274600@www.acmtrioditrieste.it
SUMMARY:Duo Zosi – Bellocchio
DESCRIPTION:Musiche di Beethoven\, Rota e Brahms
URL:https://www.acmtrioditrieste.it/evento/duo-zosi-bellocchio/
LOCATION:Ridotto del Teatro Verdi\, Riva Tre Novembre\, 1\, Trieste\, 34121\, Italia
CATEGORIES:Stagione Concertistica 2013
ATTACH;FMTTYPE=image/jpeg:https://www.acmtrioditrieste.it/wp-content/uploads/2023/01/foto-3-1.jpg
ORGANIZER;CN="Chamber Music Trieste":MAILTO:info@acmtrioditrieste.it
END:VEVENT
BEGIN:VEVENT
DTSTART;TZID=UTC:20130422T203000
DTEND;TZID=UTC:20130422T223000
DTSTAMP:20260421T053317
CREATED:20230110T172607Z
LAST-MODIFIED:20230110T172702Z
UID:22057-1366662600-1366669800@www.acmtrioditrieste.it
SUMMARY:Duo Clerici – Martinez Mehner
DESCRIPTION:Musiche di Beethoven\, Rota e Brahms
URL:https://www.acmtrioditrieste.it/evento/duo-clerici-martinez-mehner/
LOCATION:Ridotto del Teatro Verdi\, Riva Tre Novembre\, 1\, Trieste\, 34121\, Italia
CATEGORIES:Stagione Concertistica 2013
ATTACH;FMTTYPE=image/jpeg:https://www.acmtrioditrieste.it/wp-content/uploads/2023/01/foto1-3.jpg
ORGANIZER;CN="Chamber Music Trieste":MAILTO:info@acmtrioditrieste.it
END:VEVENT
BEGIN:VEVENT
DTSTART;TZID=UTC:20130418T180000
DTEND;TZID=UTC:20130418T193000
DTSTAMP:20260421T053317
CREATED:20230113T173140Z
LAST-MODIFIED:20230113T173247Z
UID:22837-1366308000-1366313400@www.acmtrioditrieste.it
SUMMARY:Julian Steckel
DESCRIPTION:Musiche di Beethoven\, Rota e Brahms
URL:https://www.acmtrioditrieste.it/evento/julian-steckel/
LOCATION:Ridotto del Teatro Verdi\, Riva Tre Novembre\, 1\, Trieste\, 34121\, Italia
CATEGORIES:Il 18 alle ore 18
ATTACH;FMTTYPE=image/jpeg:https://www.acmtrioditrieste.it/wp-content/uploads/2023/01/foto3-3.jpg
ORGANIZER;CN="Chamber Music Trieste":MAILTO:info@acmtrioditrieste.it
END:VEVENT
BEGIN:VEVENT
DTSTART;TZID=UTC:20130404T203000
DTEND;TZID=UTC:20130404T223000
DTSTAMP:20260421T053317
CREATED:20230110T173006Z
LAST-MODIFIED:20230110T173102Z
UID:22058-1365107400-1365114600@www.acmtrioditrieste.it
SUMMARY:Mahler Jugend Ensemble
DESCRIPTION:Musiche di Beethoven\, Rota e Brahms
URL:https://www.acmtrioditrieste.it/evento/mahler-jugend-ensemble/
LOCATION:Palazzo del Governo\, Piazza Unità d'Italia\, Trieste\, 34121\, Italia
CATEGORIES:Stagione Concertistica 2013
ORGANIZER;CN="Chamber Music Trieste":MAILTO:info@acmtrioditrieste.it
END:VEVENT
BEGIN:VEVENT
DTSTART;TZID=UTC:20130318T180000
DTEND;TZID=UTC:20130318T193000
DTSTAMP:20260421T053317
CREATED:20230113T173416Z
LAST-MODIFIED:20230113T173459Z
UID:22845-1363629600-1363635000@www.acmtrioditrieste.it
SUMMARY:Quartetto Hermès
DESCRIPTION:Musiche di Beethoven\, Rota e Brahms
URL:https://www.acmtrioditrieste.it/evento/quartetto-hermes/
LOCATION:Ridotto del Teatro Verdi\, Riva Tre Novembre\, 1\, Trieste\, 34121\, Italia
CATEGORIES:Il 18 alle ore 18
ATTACH;FMTTYPE=image/jpeg:https://www.acmtrioditrieste.it/wp-content/uploads/2023/01/foto-3-2.jpg
ORGANIZER;CN="Chamber Music Trieste":MAILTO:info@acmtrioditrieste.it
END:VEVENT
BEGIN:VEVENT
DTSTART;TZID=UTC:20130218T180000
DTEND;TZID=UTC:20130218T193000
DTSTAMP:20260421T053317
CREATED:20230113T173536Z
LAST-MODIFIED:20230113T173616Z
UID:22846-1361210400-1361215800@www.acmtrioditrieste.it
SUMMARY:Jasna Corrado Merlak
DESCRIPTION:Musiche di Beethoven\, Rota e Brahms
URL:https://www.acmtrioditrieste.it/evento/jasna-corrado-merlak/
LOCATION:Ridotto del Teatro Verdi\, Riva Tre Novembre\, 1\, Trieste\, 34121\, Italia
CATEGORIES:Il 18 alle ore 18
ATTACH;FMTTYPE=image/jpeg:https://www.acmtrioditrieste.it/wp-content/uploads/2023/01/foto-4-2.jpg
ORGANIZER;CN="Chamber Music Trieste":MAILTO:info@acmtrioditrieste.it
END:VEVENT
BEGIN:VEVENT
DTSTART;TZID=UTC:20130118T180000
DTEND;TZID=UTC:20130118T193000
DTSTAMP:20260421T053317
CREATED:20230113T173638Z
LAST-MODIFIED:20230113T173717Z
UID:22844-1358532000-1358537400@www.acmtrioditrieste.it
SUMMARY:Duo Sinossi
DESCRIPTION:Musiche di Beethoven\, Rota e Brahms
URL:https://www.acmtrioditrieste.it/evento/julian-steckel-_duplicato/
LOCATION:Ridotto del Teatro Verdi\, Riva Tre Novembre\, 1\, Trieste\, 34121\, Italia
CATEGORIES:Il 18 alle ore 18
ATTACH;FMTTYPE=image/jpeg:https://www.acmtrioditrieste.it/wp-content/uploads/2023/01/foto-copia.jpg
ORGANIZER;CN="Chamber Music Trieste":MAILTO:info@acmtrioditrieste.it
END:VEVENT
BEGIN:VEVENT
DTSTART;TZID=UTC:20121008T203000
DTEND;TZID=UTC:20121008T220000
DTSTAMP:20260421T053317
CREATED:20230113T104400Z
LAST-MODIFIED:20230113T104531Z
UID:22535-1349728200-1349733600@www.acmtrioditrieste.it
SUMMARY:Danil Trifonov
DESCRIPTION:Musiche di Beethoven\, Rota e Brahms
URL:https://www.acmtrioditrieste.it/evento/danil-trifonov/
LOCATION:Ridotto del Teatro Verdi\, Riva Tre Novembre\, 1\, Trieste\, 34121\, Italia
CATEGORIES:Festival Pianistico 2012
ATTACH;FMTTYPE=image/jpeg:https://www.acmtrioditrieste.it/wp-content/uploads/2023/01/foto-1140x758-1-3.jpg
ORGANIZER;CN="Chamber Music Trieste":MAILTO:info@acmtrioditrieste.it
END:VEVENT
BEGIN:VEVENT
DTSTART;TZID=UTC:20121001T203000
DTEND;TZID=UTC:20121001T220000
DTSTAMP:20260421T053317
CREATED:20230113T105122Z
LAST-MODIFIED:20230113T105147Z
UID:22547-1349123400-1349128800@www.acmtrioditrieste.it
SUMMARY:Maurizio Baglini
DESCRIPTION:Musiche di Beethoven\, Rota e Brahms
URL:https://www.acmtrioditrieste.it/evento/maurizio-baglini/
LOCATION:Ridotto del Teatro Verdi\, Riva Tre Novembre\, 1\, Trieste\, 34121\, Italia
CATEGORIES:Festival Pianistico 2012
ATTACH;FMTTYPE=image/jpeg:https://www.acmtrioditrieste.it/wp-content/uploads/2023/01/foto1-11.jpg
ORGANIZER;CN="Chamber Music Trieste":MAILTO:info@acmtrioditrieste.it
END:VEVENT
BEGIN:VEVENT
DTSTART;TZID=UTC:20120927T203000
DTEND;TZID=UTC:20120927T220000
DTSTAMP:20260421T053317
CREATED:20230113T105222Z
LAST-MODIFIED:20230113T105304Z
UID:22545-1348777800-1348783200@www.acmtrioditrieste.it
SUMMARY:Emanuele Arciuli
DESCRIPTION:Musiche di Beethoven\, Rota e Brahms
URL:https://www.acmtrioditrieste.it/evento/emanuele-arciuli-2/
LOCATION:Ridotto del Teatro Verdi\, Riva Tre Novembre\, 1\, Trieste\, 34121\, Italia
CATEGORIES:Festival Pianistico 2012
ATTACH;FMTTYPE=image/jpeg:https://www.acmtrioditrieste.it/wp-content/uploads/2023/01/foto-12.jpg
ORGANIZER;CN="Chamber Music Trieste":MAILTO:info@acmtrioditrieste.it
END:VEVENT
BEGIN:VEVENT
DTSTART;TZID=UTC:20120924T203000
DTEND;TZID=UTC:20120924T220000
DTSTAMP:20260421T053317
CREATED:20230113T105324Z
LAST-MODIFIED:20230113T105350Z
UID:22546-1348518600-1348524000@www.acmtrioditrieste.it
SUMMARY:David Kadouch
DESCRIPTION:Musiche di Beethoven\, Rota e Brahms
URL:https://www.acmtrioditrieste.it/evento/david-kadouch/
LOCATION:Ridotto del Teatro Verdi\, Riva Tre Novembre\, 1\, Trieste\, 34121\, Italia
CATEGORIES:Festival Pianistico 2012
ATTACH;FMTTYPE=image/jpeg:https://www.acmtrioditrieste.it/wp-content/uploads/2023/01/foto1-12.jpg
ORGANIZER;CN="Chamber Music Trieste":MAILTO:info@acmtrioditrieste.it
END:VEVENT
BEGIN:VEVENT
DTSTART;TZID=UTC:20120920T203000
DTEND;TZID=UTC:20120920T220000
DTSTAMP:20260421T053317
CREATED:20230113T105414Z
LAST-MODIFIED:20230113T105440Z
UID:22544-1348173000-1348178400@www.acmtrioditrieste.it
SUMMARY:Louis Lortie
DESCRIPTION:Musiche di Beethoven\, Rota e Brahms
URL:https://www.acmtrioditrieste.it/evento/louis-lortie/
LOCATION:Ridotto del Teatro Verdi\, Riva Tre Novembre\, 1\, Trieste\, 34121\, Italia
CATEGORIES:Festival Pianistico 2012
ATTACH;FMTTYPE=image/jpeg:https://www.acmtrioditrieste.it/wp-content/uploads/2023/01/foto2-6.jpg
ORGANIZER;CN="Chamber Music Trieste":MAILTO:info@acmtrioditrieste.it
END:VEVENT
BEGIN:VEVENT
DTSTART;VALUE=DATE:20120528
DTEND;VALUE=DATE:20120529
DTSTAMP:20260421T053317
CREATED:20230110T173332Z
LAST-MODIFIED:20230110T174318Z
UID:22080-1338163200-1338249599@www.acmtrioditrieste.it
SUMMARY:Philharmonisches Streichquintett Berlin
DESCRIPTION:Musiche di Beethoven\, Rota e Brahms
URL:https://www.acmtrioditrieste.it/evento/philharmonisches-streichquintett-berlin-2/
CATEGORIES:Stagione Concertistica 2012
ATTACH;FMTTYPE=image/jpeg:https://www.acmtrioditrieste.it/wp-content/uploads/2023/01/foto-1140x7581-1.jpg
ORGANIZER;CN="Chamber Music Trieste":MAILTO:info@acmtrioditrieste.it
END:VEVENT
BEGIN:VEVENT
DTSTART;VALUE=DATE:20120521
DTEND;VALUE=DATE:20120522
DTSTAMP:20260421T053317
CREATED:20230110T173622Z
LAST-MODIFIED:20230110T174322Z
UID:22087-1337558400-1337644799@www.acmtrioditrieste.it
SUMMARY:Duo Sitkovetsky con i Virtuosi Italiani
DESCRIPTION:Musiche di Beethoven\, Rota e Brahms
URL:https://www.acmtrioditrieste.it/evento/duo-sitkovetsky-con-i-virtuosi-italiani/
CATEGORIES:Stagione Concertistica 2012
ATTACH;FMTTYPE=image/jpeg:https://www.acmtrioditrieste.it/wp-content/uploads/2023/01/foto1-5.jpg
ORGANIZER;CN="Chamber Music Trieste":MAILTO:info@acmtrioditrieste.it
END:VEVENT
BEGIN:VEVENT
DTSTART;VALUE=DATE:20120514
DTEND;VALUE=DATE:20120515
DTSTAMP:20260421T053317
CREATED:20230110T173720Z
LAST-MODIFIED:20230110T173926Z
UID:22086-1336953600-1337039999@www.acmtrioditrieste.it
SUMMARY:Trio Furini – Miani – Daris
DESCRIPTION:Musiche di Beethoven\, Rota e Brahms
URL:https://www.acmtrioditrieste.it/evento/trio-furini-miani-daris/
CATEGORIES:Stagione Concertistica 2012
ATTACH;FMTTYPE=image/jpeg:https://www.acmtrioditrieste.it/wp-content/uploads/2023/01/foto2-2.jpg
ORGANIZER;CN="Chamber Music Trieste":MAILTO:info@acmtrioditrieste.it
END:VEVENT
BEGIN:VEVENT
DTSTART;VALUE=DATE:20120503
DTEND;VALUE=DATE:20120504
DTSTAMP:20260421T053317
CREATED:20230110T174054Z
LAST-MODIFIED:20230110T174134Z
UID:22089-1336003200-1336089599@www.acmtrioditrieste.it
SUMMARY:Trio Schirmer – Schmid – Ishizaka
DESCRIPTION:Musiche di Beethoven\, Rota e Brahms
URL:https://www.acmtrioditrieste.it/evento/trio-schirmer-schmid-ishizaka/
CATEGORIES:Stagione Concertistica 2012
ATTACH;FMTTYPE=image/jpeg:https://www.acmtrioditrieste.it/wp-content/uploads/2023/01/foto1-4.jpg
ORGANIZER;CN="Chamber Music Trieste":MAILTO:info@acmtrioditrieste.it
END:VEVENT
BEGIN:VEVENT
DTSTART;VALUE=DATE:20120427
DTEND;VALUE=DATE:20120428
DTSTAMP:20260421T053317
CREATED:20230110T173855Z
LAST-MODIFIED:20230110T174021Z
UID:22088-1335484800-1335571199@www.acmtrioditrieste.it
SUMMARY:Luigi Piovano con Quartetto Musici Aurei
DESCRIPTION:Musiche di Beethoven\, Rota e Brahms
URL:https://www.acmtrioditrieste.it/evento/luigi-piovano-con-quartetto-musici-aurei/
CATEGORIES:Stagione Concertistica 2012
ATTACH;FMTTYPE=image/jpeg:https://www.acmtrioditrieste.it/wp-content/uploads/2023/01/foto-4-1.jpg
ORGANIZER;CN="Chamber Music Trieste":MAILTO:info@acmtrioditrieste.it
END:VEVENT
BEGIN:VEVENT
DTSTART;TZID=UTC:20120418T180000
DTEND;TZID=UTC:20120418T193000
DTSTAMP:20260421T053317
CREATED:20230113T173916Z
LAST-MODIFIED:20230113T174610Z
UID:22863-1334772000-1334777400@www.acmtrioditrieste.it
SUMMARY:Coro Polifonico di Ruda
DESCRIPTION:Musiche di Beethoven\, Rota e Brahms
URL:https://www.acmtrioditrieste.it/evento/coro-polifonico-di-ruda/
LOCATION:Ridotto del Teatro Verdi\, Riva Tre Novembre\, 1\, Trieste\, 34121\, Italia
CATEGORIES:Il 18 alle ore 18
ATTACH;FMTTYPE=image/jpeg:https://www.acmtrioditrieste.it/wp-content/uploads/2023/01/foto-5-2.jpg
ORGANIZER;CN="Chamber Music Trieste":MAILTO:info@acmtrioditrieste.it
END:VEVENT
BEGIN:VEVENT
DTSTART;TZID=UTC:20120418T180000
DTEND;TZID=UTC:20120418T193000
DTSTAMP:20260421T053317
CREATED:20230113T172229Z
LAST-MODIFIED:20230113T172259Z
UID:22810-1334772000-1334777400@www.acmtrioditrieste.it
SUMMARY:Duo Enescu
DESCRIPTION:Musiche di Beethoven\, Rota e Brahms
URL:https://www.acmtrioditrieste.it/evento/duo-enescu/
LOCATION:Ridotto del Teatro Verdi\, Riva Tre Novembre\, 1\, Trieste\, 34121\, Italia
CATEGORIES:Il 18 alle ore 18
ATTACH;FMTTYPE=image/jpeg:https://www.acmtrioditrieste.it/wp-content/uploads/2023/01/foto-17.jpg
ORGANIZER;CN="Chamber Music Trieste":MAILTO:info@acmtrioditrieste.it
END:VEVENT
BEGIN:VEVENT
DTSTART;TZID=UTC:20120318T180000
DTEND;TZID=UTC:20120318T193000
DTSTAMP:20260421T053317
CREATED:20230113T172527Z
LAST-MODIFIED:20230113T172636Z
UID:22817-1332093600-1332099000@www.acmtrioditrieste.it
SUMMARY:Duo Pavan – Canale
DESCRIPTION:Musiche di Beethoven\, Rota e Brahms
URL:https://www.acmtrioditrieste.it/evento/duo-pavan-canale/
LOCATION:Ridotto del Teatro Verdi\, Riva Tre Novembre\, 1\, Trieste\, 34121\, Italia
CATEGORIES:Il 18 alle ore 18
ATTACH;FMTTYPE=image/jpeg:https://www.acmtrioditrieste.it/wp-content/uploads/2023/01/foto-1-4.jpg
ORGANIZER;CN="Chamber Music Trieste":MAILTO:info@acmtrioditrieste.it
END:VEVENT
BEGIN:VEVENT
DTSTART;TZID=UTC:20120218T180000
DTEND;TZID=UTC:20120218T193000
DTSTAMP:20260421T053317
CREATED:20230113T172725Z
LAST-MODIFIED:20230113T172806Z
UID:22818-1329588000-1329593400@www.acmtrioditrieste.it
SUMMARY:Quartetto Avos
DESCRIPTION:Musiche di Beethoven\, Rota e Brahms
URL:https://www.acmtrioditrieste.it/evento/quartetto-avos-2/
LOCATION:Ridotto del Teatro Verdi\, Riva Tre Novembre\, 1\, Trieste\, 34121\, Italia
CATEGORIES:Il 18 alle ore 18
ATTACH;FMTTYPE=image/jpeg:https://www.acmtrioditrieste.it/wp-content/uploads/2023/01/foto1-8.jpg
ORGANIZER;CN="Chamber Music Trieste":MAILTO:info@acmtrioditrieste.it
END:VEVENT
BEGIN:VEVENT
DTSTART;TZID=UTC:20120118T180000
DTEND;TZID=UTC:20120118T193000
DTSTAMP:20260421T053317
CREATED:20230113T172853Z
LAST-MODIFIED:20230113T173007Z
UID:22816-1326909600-1326915000@www.acmtrioditrieste.it
SUMMARY:Duo Birringer
DESCRIPTION:Musiche di Beethoven\, Rota e Brahms
URL:https://www.acmtrioditrieste.it/evento/duo-birringer/
LOCATION:Ridotto del Teatro Verdi\, Riva Tre Novembre\, 1\, Trieste\, 34121\, Italia
CATEGORIES:Il 18 alle ore 18
ATTACH;FMTTYPE=image/jpeg:https://www.acmtrioditrieste.it/wp-content/uploads/2023/01/foto-2-3.jpg
ORGANIZER;CN="Chamber Music Trieste":MAILTO:info@acmtrioditrieste.it
END:VEVENT
BEGIN:VEVENT
DTSTART;TZID=UTC:20111024T203000
DTEND;TZID=UTC:20111024T220000
DTSTAMP:20260421T053317
CREATED:20230113T111843Z
LAST-MODIFIED:20230113T112335Z
UID:22588-1319488200-1319493600@www.acmtrioditrieste.it
SUMMARY:Uto Ughi con Alessandro Specchi
DESCRIPTION:Musiche di Beethoven\, Rota e Brahms
URL:https://www.acmtrioditrieste.it/evento/uto-ughi-con-alessandro-specchi/
LOCATION:Ridotto del Teatro Verdi\, Riva Tre Novembre\, 1\, Trieste\, 34121\, Italia
CATEGORIES:Festival Pianistico 2011
ATTACH;FMTTYPE=image/jpeg:https://www.acmtrioditrieste.it/wp-content/uploads/2023/01/foto-13.jpg
ORGANIZER;CN="Chamber Music Trieste":MAILTO:info@acmtrioditrieste.it
END:VEVENT
BEGIN:VEVENT
DTSTART;TZID=UTC:20111003T203000
DTEND;TZID=UTC:20111003T220000
DTSTAMP:20260421T053317
CREATED:20230113T110751Z
LAST-MODIFIED:20230113T111035Z
UID:22568-1317673800-1317679200@www.acmtrioditrieste.it
SUMMARY:Jue Wang
DESCRIPTION:Musiche di Beethoven\, Rota e Brahms
URL:https://www.acmtrioditrieste.it/evento/jue-wang/
LOCATION:Ridotto del Teatro Verdi\, Riva Tre Novembre\, 1\, Trieste\, 34121\, Italia
CATEGORIES:Festival Pianistico 2011
ATTACH;FMTTYPE=image/jpeg:https://www.acmtrioditrieste.it/wp-content/uploads/2023/01/foto-1-1-1.jpg
ORGANIZER;CN="Chamber Music Trieste":MAILTO:info@acmtrioditrieste.it
END:VEVENT
BEGIN:VEVENT
DTSTART;TZID=UTC:20110929T203000
DTEND;TZID=UTC:20110929T220000
DTSTAMP:20260421T053317
CREATED:20230113T112258Z
LAST-MODIFIED:20230113T112324Z
UID:22597-1317328200-1317333600@www.acmtrioditrieste.it
SUMMARY:Giulio Biddau
DESCRIPTION:Musiche di Beethoven\, Rota e Brahms
URL:https://www.acmtrioditrieste.it/evento/giulio-biddau/
LOCATION:Ridotto del Teatro Verdi\, Riva Tre Novembre\, 1\, Trieste\, 34121\, Italia
CATEGORIES:Festival Pianistico 2011
ATTACH;FMTTYPE=image/jpeg:https://www.acmtrioditrieste.it/wp-content/uploads/2023/01/foto-2-2-1.jpg
ORGANIZER;CN="Chamber Music Trieste":MAILTO:info@acmtrioditrieste.it
END:VEVENT
BEGIN:VEVENT
DTSTART;TZID=UTC:20110926T203000
DTEND;TZID=UTC:20110926T220000
DTSTAMP:20260421T053317
CREATED:20230113T112410Z
LAST-MODIFIED:20230113T112440Z
UID:22595-1317069000-1317074400@www.acmtrioditrieste.it
SUMMARY:Simon Trpceski
DESCRIPTION:Musiche di Beethoven\, Rota e Brahms
URL:https://www.acmtrioditrieste.it/evento/simon-trpceski/
LOCATION:Ridotto del Teatro Verdi\, Riva Tre Novembre\, 1\, Trieste\, 34121\, Italia
CATEGORIES:Festival Pianistico 2011
ATTACH;FMTTYPE=image/jpeg:https://www.acmtrioditrieste.it/wp-content/uploads/2023/01/foto-14.jpg
ORGANIZER;CN="Chamber Music Trieste":MAILTO:info@acmtrioditrieste.it
END:VEVENT
BEGIN:VEVENT
DTSTART;TZID=UTC:20110922T203000
DTEND;TZID=UTC:20110922T220000
DTSTAMP:20260421T053317
CREATED:20230113T112520Z
LAST-MODIFIED:20230113T112543Z
UID:22596-1316723400-1316728800@www.acmtrioditrieste.it
SUMMARY:Markus Schirmer
DESCRIPTION:Musiche di Beethoven\, Rota e Brahms
URL:https://www.acmtrioditrieste.it/evento/markus-schirmer/
LOCATION:Ridotto del Teatro Verdi\, Riva Tre Novembre\, 1\, Trieste\, 34121\, Italia
CATEGORIES:Festival Pianistico 2011
ATTACH;FMTTYPE=image/jpeg:https://www.acmtrioditrieste.it/wp-content/uploads/2023/01/foto-1-2-1.jpg
ORGANIZER;CN="Chamber Music Trieste":MAILTO:info@acmtrioditrieste.it
END:VEVENT
BEGIN:VEVENT
DTSTART;TZID=UTC:20110919T203000
DTEND;TZID=UTC:20110919T220000
DTSTAMP:20260421T053317
CREATED:20230113T112659Z
LAST-MODIFIED:20230113T113132Z
UID:22594-1316464200-1316469600@www.acmtrioditrieste.it
SUMMARY:Jin Ju con il Quintetto d’archi de i Virtuosi Italiani
DESCRIPTION:Musiche di Beethoven\, Rota e Brahms
URL:https://www.acmtrioditrieste.it/evento/jin-ju-con-il-quintetto-darchi-de-i-virtuosi-italiani/
LOCATION:Ridotto del Teatro Verdi\, Riva Tre Novembre\, 1\, Trieste\, 34121\, Italia
CATEGORIES:Festival Pianistico 2011
ATTACH;FMTTYPE=image/jpeg:https://www.acmtrioditrieste.it/wp-content/uploads/2023/01/foto-2-1140x758-1-602x400-1.jpg
ORGANIZER;CN="Chamber Music Trieste":MAILTO:info@acmtrioditrieste.it
END:VEVENT
BEGIN:VEVENT
DTSTART;VALUE=DATE:20110530
DTEND;VALUE=DATE:20110531
DTSTAMP:20260421T053317
CREATED:20230110T174527Z
LAST-MODIFIED:20230110T174547Z
UID:22110-1306713600-1306799999@www.acmtrioditrieste.it
SUMMARY:Concerto del DUO vincitore del XII Concorso Internazionale “Premio Trio di Trieste”
DESCRIPTION:Musiche di Beethoven\, Rota e Brahms
URL:https://www.acmtrioditrieste.it/evento/concerto-del-duo-vincitore-del-xii-concorso-internazionale-premio-trio-di-trieste/
CATEGORIES:Stagione Concertistica 2011
ATTACH;FMTTYPE=image/jpeg:https://www.acmtrioditrieste.it/wp-content/uploads/2023/01/fot.jpg
ORGANIZER;CN="Chamber Music Trieste":MAILTO:info@acmtrioditrieste.it
END:VEVENT
END:VCALENDAR