BEGIN:VCALENDAR
VERSION:2.0
PRODID:-//ACM Associazione Chamber Music - ECPv6.3.7//NONSGML v1.0//EN
CALSCALE:GREGORIAN
METHOD:PUBLISH
X-WR-CALNAME:ACM Associazione Chamber Music
X-ORIGINAL-URL:https://www.acmtrioditrieste.it
X-WR-CALDESC:Events for ACM Associazione Chamber Music
REFRESH-INTERVAL;VALUE=DURATION:PT1H
X-Robots-Tag:noindex
X-PUBLISHED-TTL:PT1H
BEGIN:VTIMEZONE
TZID:UTC
BEGIN:STANDARD
TZOFFSETFROM:+0000
TZOFFSETTO:+0000
TZNAME:UTC
DTSTART:20090101T000000
END:STANDARD
END:VTIMEZONE
BEGIN:VEVENT
DTSTART;TZID=UTC:20110929T203000
DTEND;TZID=UTC:20110929T220000
DTSTAMP:20260421T235620
CREATED:20230113T112258Z
LAST-MODIFIED:20230113T112324Z
UID:22597-1317328200-1317333600@www.acmtrioditrieste.it
SUMMARY:Giulio Biddau
DESCRIPTION:Musiche di Beethoven\, Rota e Brahms
URL:https://www.acmtrioditrieste.it/evento/giulio-biddau/
LOCATION:Ridotto del Teatro Verdi\, Riva Tre Novembre\, 1\, Trieste\, 34121\, Italia
CATEGORIES:Festival Pianistico 2011
ATTACH;FMTTYPE=image/jpeg:https://www.acmtrioditrieste.it/wp-content/uploads/2023/01/foto-2-2-1.jpg
ORGANIZER;CN="Chamber Music Trieste":MAILTO:info@acmtrioditrieste.it
END:VEVENT
BEGIN:VEVENT
DTSTART;TZID=UTC:20110926T203000
DTEND;TZID=UTC:20110926T220000
DTSTAMP:20260421T235620
CREATED:20230113T112410Z
LAST-MODIFIED:20230113T112440Z
UID:22595-1317069000-1317074400@www.acmtrioditrieste.it
SUMMARY:Simon Trpceski
DESCRIPTION:Musiche di Beethoven\, Rota e Brahms
URL:https://www.acmtrioditrieste.it/evento/simon-trpceski/
LOCATION:Ridotto del Teatro Verdi\, Riva Tre Novembre\, 1\, Trieste\, 34121\, Italia
CATEGORIES:Festival Pianistico 2011
ATTACH;FMTTYPE=image/jpeg:https://www.acmtrioditrieste.it/wp-content/uploads/2023/01/foto-14.jpg
ORGANIZER;CN="Chamber Music Trieste":MAILTO:info@acmtrioditrieste.it
END:VEVENT
BEGIN:VEVENT
DTSTART;TZID=UTC:20110922T203000
DTEND;TZID=UTC:20110922T220000
DTSTAMP:20260421T235620
CREATED:20230113T112520Z
LAST-MODIFIED:20230113T112543Z
UID:22596-1316723400-1316728800@www.acmtrioditrieste.it
SUMMARY:Markus Schirmer
DESCRIPTION:Musiche di Beethoven\, Rota e Brahms
URL:https://www.acmtrioditrieste.it/evento/markus-schirmer/
LOCATION:Ridotto del Teatro Verdi\, Riva Tre Novembre\, 1\, Trieste\, 34121\, Italia
CATEGORIES:Festival Pianistico 2011
ATTACH;FMTTYPE=image/jpeg:https://www.acmtrioditrieste.it/wp-content/uploads/2023/01/foto-1-2-1.jpg
ORGANIZER;CN="Chamber Music Trieste":MAILTO:info@acmtrioditrieste.it
END:VEVENT
BEGIN:VEVENT
DTSTART;TZID=UTC:20110919T203000
DTEND;TZID=UTC:20110919T220000
DTSTAMP:20260421T235620
CREATED:20230113T112659Z
LAST-MODIFIED:20230113T113132Z
UID:22594-1316464200-1316469600@www.acmtrioditrieste.it
SUMMARY:Jin Ju con il Quintetto d’archi de i Virtuosi Italiani
DESCRIPTION:Musiche di Beethoven\, Rota e Brahms
URL:https://www.acmtrioditrieste.it/evento/jin-ju-con-il-quintetto-darchi-de-i-virtuosi-italiani/
LOCATION:Ridotto del Teatro Verdi\, Riva Tre Novembre\, 1\, Trieste\, 34121\, Italia
CATEGORIES:Festival Pianistico 2011
ATTACH;FMTTYPE=image/jpeg:https://www.acmtrioditrieste.it/wp-content/uploads/2023/01/foto-2-1140x758-1-602x400-1.jpg
ORGANIZER;CN="Chamber Music Trieste":MAILTO:info@acmtrioditrieste.it
END:VEVENT
BEGIN:VEVENT
DTSTART;VALUE=DATE:20110530
DTEND;VALUE=DATE:20110531
DTSTAMP:20260421T235620
CREATED:20230110T174527Z
LAST-MODIFIED:20230110T174547Z
UID:22110-1306713600-1306799999@www.acmtrioditrieste.it
SUMMARY:Concerto del DUO vincitore del XII Concorso Internazionale “Premio Trio di Trieste”
DESCRIPTION:Musiche di Beethoven\, Rota e Brahms
URL:https://www.acmtrioditrieste.it/evento/concerto-del-duo-vincitore-del-xii-concorso-internazionale-premio-trio-di-trieste/
CATEGORIES:Stagione Concertistica 2011
ATTACH;FMTTYPE=image/jpeg:https://www.acmtrioditrieste.it/wp-content/uploads/2023/01/fot.jpg
ORGANIZER;CN="Chamber Music Trieste":MAILTO:info@acmtrioditrieste.it
END:VEVENT
BEGIN:VEVENT
DTSTART;VALUE=DATE:20110527
DTEND;VALUE=DATE:20110528
DTSTAMP:20260421T235620
CREATED:20230110T174841Z
LAST-MODIFIED:20230110T174924Z
UID:22116-1306454400-1306540799@www.acmtrioditrieste.it
SUMMARY:Salvatore Accardo e Laura Manzini
DESCRIPTION:Musiche di Beethoven\, Rota e Brahms
URL:https://www.acmtrioditrieste.it/evento/salvatore-accardo-e-laura-manzini/
CATEGORIES:Stagione Concertistica 2011
ATTACH;FMTTYPE=image/jpeg:https://www.acmtrioditrieste.it/wp-content/uploads/2023/01/foto-1-1140x758-1.jpg
ORGANIZER;CN="Chamber Music Trieste":MAILTO:info@acmtrioditrieste.it
END:VEVENT
BEGIN:VEVENT
DTSTART;VALUE=DATE:20110516
DTEND;VALUE=DATE:20110517
DTSTAMP:20260421T235620
CREATED:20230110T175030Z
LAST-MODIFIED:20230110T175053Z
UID:22118-1305504000-1305590399@www.acmtrioditrieste.it
SUMMARY:Quartetto Avos
DESCRIPTION:Musiche di Beethoven\, Rota e Brahms
URL:https://www.acmtrioditrieste.it/evento/quartetto-avos/
CATEGORIES:Stagione Concertistica 2011
ATTACH;FMTTYPE=image/jpeg:https://www.acmtrioditrieste.it/wp-content/uploads/2023/01/foto-5-1.jpg
ORGANIZER;CN="Chamber Music Trieste":MAILTO:info@acmtrioditrieste.it
END:VEVENT
BEGIN:VEVENT
DTSTART;VALUE=DATE:20110509
DTEND;VALUE=DATE:20110510
DTSTAMP:20260421T235620
CREATED:20230110T175154Z
LAST-MODIFIED:20230110T175231Z
UID:22117-1304899200-1304985599@www.acmtrioditrieste.it
SUMMARY:Gomalan Brass Quintet
DESCRIPTION:Musiche di Beethoven\, Rota e Brahms
URL:https://www.acmtrioditrieste.it/evento/gomalan-brass-quintet/
CATEGORIES:Stagione Concertistica 2011
ATTACH;FMTTYPE=image/jpeg:https://www.acmtrioditrieste.it/wp-content/uploads/2023/01/foto-1140x758-2.jpg
ORGANIZER;CN="Chamber Music Trieste":MAILTO:info@acmtrioditrieste.it
END:VEVENT
BEGIN:VEVENT
DTSTART;VALUE=DATE:20110502
DTEND;VALUE=DATE:20110503
DTSTAMP:20260421T235620
CREATED:20230110T175335Z
LAST-MODIFIED:20230110T175410Z
UID:22119-1304294400-1304380799@www.acmtrioditrieste.it
SUMMARY:Mauro Maur\, Françoise de Clossey\, Nuovo Quartetto Italiano
DESCRIPTION:Musiche di Beethoven\, Rota e Brahms
URL:https://www.acmtrioditrieste.it/evento/mauro-maur-francoise-de-clossey-nuovo-quartetto-italiano/
CATEGORIES:Stagione Concertistica 2011
ATTACH;FMTTYPE=image/jpeg:https://www.acmtrioditrieste.it/wp-content/uploads/2023/01/foto-1140x758-3-1140x758-1.jpg
ORGANIZER;CN="Chamber Music Trieste":MAILTO:info@acmtrioditrieste.it
END:VEVENT
BEGIN:VEVENT
DTSTART;TZID=UTC:20110418T180000
DTEND;TZID=UTC:20110418T193000
DTSTAMP:20260421T235620
CREATED:20230113T141752Z
LAST-MODIFIED:20230113T141834Z
UID:22790-1303149600-1303155000@www.acmtrioditrieste.it
SUMMARY:Heath Quartet
DESCRIPTION:Musiche di Beethoven\, Rota e Brahms
URL:https://www.acmtrioditrieste.it/evento/duo-miani-zhok-_duplicato/
LOCATION:Ridotto del Teatro Verdi\, Riva Tre Novembre\, 1\, Trieste\, 34121\, Italia
CATEGORIES:Il 18 alle ore 18
ATTACH;FMTTYPE=image/jpeg:https://www.acmtrioditrieste.it/wp-content/uploads/2023/01/foto-1140x758-4-2.jpg
ORGANIZER;CN="Chamber Music Trieste":MAILTO:info@acmtrioditrieste.it
END:VEVENT
BEGIN:VEVENT
DTSTART;TZID=UTC:20110318T180000
DTEND;TZID=UTC:20110318T193000
DTSTAMP:20260421T235620
CREATED:20230113T141652Z
LAST-MODIFIED:20230113T141733Z
UID:22792-1300471200-1300476600@www.acmtrioditrieste.it
SUMMARY:Duo Dillon – Torquati
DESCRIPTION:Musiche di Beethoven\, Rota e Brahms
URL:https://www.acmtrioditrieste.it/evento/duo-dillon-torquati/
LOCATION:Ridotto del Teatro Verdi\, Riva Tre Novembre\, 1\, Trieste\, 34121\, Italia
CATEGORIES:Il 18 alle ore 18
ATTACH;FMTTYPE=image/jpeg:https://www.acmtrioditrieste.it/wp-content/uploads/2023/01/foto-1140x758-3-4.jpg
ORGANIZER;CN="Chamber Music Trieste":MAILTO:info@acmtrioditrieste.it
END:VEVENT
BEGIN:VEVENT
DTSTART;TZID=UTC:20110218T180000
DTEND;TZID=UTC:20110218T193000
DTSTAMP:20260421T235620
CREATED:20230113T141553Z
LAST-MODIFIED:20230113T141624Z
UID:22791-1298052000-1298057400@www.acmtrioditrieste.it
SUMMARY:Minetti Quartett
DESCRIPTION:Musiche di Beethoven\, Rota e Brahms
URL:https://www.acmtrioditrieste.it/evento/minetti-quartett/
LOCATION:Ridotto del Teatro Verdi\, Riva Tre Novembre\, 1\, Trieste\, 34121\, Italia
CATEGORIES:Il 18 alle ore 18
ATTACH;FMTTYPE=image/jpeg:https://www.acmtrioditrieste.it/wp-content/uploads/2023/01/foto-1140x758-2-6.jpg
ORGANIZER;CN="Chamber Music Trieste":MAILTO:info@acmtrioditrieste.it
END:VEVENT
BEGIN:VEVENT
DTSTART;TZID=UTC:20110118T180000
DTEND;TZID=UTC:20110118T193000
DTSTAMP:20260421T235620
CREATED:20230113T141407Z
LAST-MODIFIED:20230113T141440Z
UID:22784-1295373600-1295379000@www.acmtrioditrieste.it
SUMMARY:Duo Miani – Zhok
DESCRIPTION:Musiche di Beethoven\, Rota e Brahms
URL:https://www.acmtrioditrieste.it/evento/duo-miani-zhok/
LOCATION:Ridotto del Teatro Verdi\, Riva Tre Novembre\, 1\, Trieste\, 34121\, Italia
CATEGORIES:Il 18 alle ore 18
ATTACH;FMTTYPE=image/jpeg:https://www.acmtrioditrieste.it/wp-content/uploads/2023/01/foto-2-1140x758-1-1140x758-1-1.jpg
ORGANIZER;CN="Chamber Music Trieste":MAILTO:info@acmtrioditrieste.it
END:VEVENT
BEGIN:VEVENT
DTSTART;TZID=UTC:20101014T203000
DTEND;TZID=UTC:20101014T220000
DTSTAMP:20260421T235620
CREATED:20230113T113354Z
LAST-MODIFIED:20230113T115054Z
UID:22625-1287088200-1287093600@www.acmtrioditrieste.it
SUMMARY:Gli Archi dell’Orchestra Filarmonica di Torino con Anna Kravtchenko
DESCRIPTION:Musiche di Beethoven\, Rota e Brahms
URL:https://www.acmtrioditrieste.it/evento/gli-archi-dellorchestra-filarmonica-di-torino-con-anna-kravtchenko/
LOCATION:Ridotto del Teatro Verdi\, Riva Tre Novembre\, 1\, Trieste\, 34121\, Italia
CATEGORIES:Festival Pianistico 2010
ATTACH;FMTTYPE=image/jpeg:https://www.acmtrioditrieste.it/wp-content/uploads/2023/01/foto-1140x758-1-3-1.jpg
ORGANIZER;CN="Chamber Music Trieste":MAILTO:info@acmtrioditrieste.it
END:VEVENT
BEGIN:VEVENT
DTSTART;TZID=UTC:20101004T203000
DTEND;TZID=UTC:20101004T220000
DTSTAMP:20260421T235620
CREATED:20230113T130617Z
LAST-MODIFIED:20230113T130638Z
UID:22639-1286224200-1286229600@www.acmtrioditrieste.it
SUMMARY:Sofya Gulyak
DESCRIPTION:Musiche di Beethoven\, Rota e Brahms
URL:https://www.acmtrioditrieste.it/evento/sofya-gulyak-2/
LOCATION:Ridotto del Teatro Verdi\, Riva Tre Novembre\, 1\, Trieste\, 34121\, Italia
CATEGORIES:Festival Pianistico 2010
ATTACH;FMTTYPE=image/jpeg:https://www.acmtrioditrieste.it/wp-content/uploads/2023/01/foto-1140x758-2-1.jpg
ORGANIZER;CN="Chamber Music Trieste":MAILTO:info@acmtrioditrieste.it
END:VEVENT
BEGIN:VEVENT
DTSTART;TZID=UTC:20100930T203000
DTEND;TZID=UTC:20100930T220000
DTSTAMP:20260421T235620
CREATED:20230113T130252Z
LAST-MODIFIED:20230113T130316Z
UID:22638-1285878600-1285884000@www.acmtrioditrieste.it
SUMMARY:Emanuele Arciuli
DESCRIPTION:Musiche di Beethoven\, Rota e Brahms
URL:https://www.acmtrioditrieste.it/evento/emanuele-arciuli-4/
LOCATION:Ridotto del Teatro Verdi\, Riva Tre Novembre\, 1\, Trieste\, 34121\, Italia
CATEGORIES:Festival Pianistico 2010
ATTACH;FMTTYPE=image/jpeg:https://www.acmtrioditrieste.it/wp-content/uploads/2023/01/foto-1140x758-3-1.jpg
ORGANIZER;CN="Chamber Music Trieste":MAILTO:info@acmtrioditrieste.it
END:VEVENT
BEGIN:VEVENT
DTSTART;TZID=UTC:20100927T203000
DTEND;TZID=UTC:20100927T220000
DTSTAMP:20260421T235620
CREATED:20230113T130345Z
LAST-MODIFIED:20230113T130406Z
UID:22637-1285619400-1285624800@www.acmtrioditrieste.it
SUMMARY:Alexander Gadjiev e Giuseppe Guarrera
DESCRIPTION:Musiche di Beethoven\, Rota e Brahms
URL:https://www.acmtrioditrieste.it/evento/alexander-gadjiev-e-giuseppe-guarrera-2/
LOCATION:Ridotto del Teatro Verdi\, Riva Tre Novembre\, 1\, Trieste\, 34121\, Italia
CATEGORIES:Festival Pianistico 2010
ATTACH;FMTTYPE=image/jpeg:https://www.acmtrioditrieste.it/wp-content/uploads/2023/01/foto-1140x758-2-3.jpg
ORGANIZER;CN="Chamber Music Trieste":MAILTO:info@acmtrioditrieste.it
END:VEVENT
BEGIN:VEVENT
DTSTART;TZID=UTC:20100923T203000
DTEND;TZID=UTC:20100923T220000
DTSTAMP:20260421T235620
CREATED:20230113T130432Z
LAST-MODIFIED:20230113T130453Z
UID:22636-1285273800-1285279200@www.acmtrioditrieste.it
SUMMARY:Nelson Goerner
DESCRIPTION:Musiche di Beethoven\, Rota e Brahms
URL:https://www.acmtrioditrieste.it/evento/nelson-goerner-2/
LOCATION:Ridotto del Teatro Verdi\, Riva Tre Novembre\, 1\, Trieste\, 34121\, Italia
CATEGORIES:Festival Pianistico 2010
ATTACH;FMTTYPE=image/jpeg:https://www.acmtrioditrieste.it/wp-content/uploads/2023/01/foto-1140x758-1-4.jpg
ORGANIZER;CN="Chamber Music Trieste":MAILTO:info@acmtrioditrieste.it
END:VEVENT
BEGIN:VEVENT
DTSTART;TZID=UTC:20100920T203000
DTEND;TZID=UTC:20100920T220000
DTSTAMP:20260421T235620
CREATED:20230113T130526Z
LAST-MODIFIED:20230113T130549Z
UID:22640-1285014600-1285020000@www.acmtrioditrieste.it
SUMMARY:Daniil Trifonov
DESCRIPTION:Musiche di Beethoven\, Rota e Brahms
URL:https://www.acmtrioditrieste.it/evento/daniil-trifonov-2/
LOCATION:Ridotto del Teatro Verdi\, Riva Tre Novembre\, 1\, Trieste\, 34121\, Italia
CATEGORIES:Festival Pianistico 2010
ATTACH;FMTTYPE=image/jpeg:https://www.acmtrioditrieste.it/wp-content/uploads/2023/01/foto-1140x758-3-2.jpg
ORGANIZER;CN="Chamber Music Trieste":MAILTO:info@acmtrioditrieste.it
END:VEVENT
BEGIN:VEVENT
DTSTART;VALUE=DATE:20100516
DTEND;VALUE=DATE:20100517
DTSTAMP:20260421T235620
CREATED:20230110T175734Z
LAST-MODIFIED:20230110T175756Z
UID:22140-1273968000-1274054399@www.acmtrioditrieste.it
SUMMARY:Danjulo Ishizaka – Markus Schirmer
DESCRIPTION:Musiche di Beethoven\, Rota e Brahms
URL:https://www.acmtrioditrieste.it/evento/danjulo-ishizaka-markus-schirmer/
CATEGORIES:Stagione Concertistica 2010
ATTACH;FMTTYPE=image/jpeg:https://www.acmtrioditrieste.it/wp-content/uploads/2023/01/foto-1140x758-3.jpg
ORGANIZER;CN="Chamber Music Trieste":MAILTO:info@acmtrioditrieste.it
END:VEVENT
BEGIN:VEVENT
DTSTART;VALUE=DATE:20100510
DTEND;VALUE=DATE:20100511
DTSTAMP:20260421T235620
CREATED:20230110T180002Z
LAST-MODIFIED:20230110T180027Z
UID:22147-1273449600-1273535999@www.acmtrioditrieste.it
SUMMARY:Bennewitz Quartet
DESCRIPTION:Musiche di Beethoven\, Rota e Brahms
URL:https://www.acmtrioditrieste.it/evento/bennewitz-quartet/
CATEGORIES:Stagione Concertistica 2010
ATTACH;FMTTYPE=image/jpeg:https://www.acmtrioditrieste.it/wp-content/uploads/2023/01/foto-6-1.jpg
ORGANIZER;CN="Chamber Music Trieste":MAILTO:info@acmtrioditrieste.it
END:VEVENT
BEGIN:VEVENT
DTSTART;VALUE=DATE:20100503
DTEND;VALUE=DATE:20100504
DTSTAMP:20260421T235621
CREATED:20230110T180158Z
LAST-MODIFIED:20230110T180218Z
UID:22146-1272844800-1272931199@www.acmtrioditrieste.it
SUMMARY:Quintetto Bibiena
DESCRIPTION:Musiche di Beethoven\, Rota e Brahms
URL:https://www.acmtrioditrieste.it/evento/quintetto-bibiena/
CATEGORIES:Stagione Concertistica 2010
ATTACH;FMTTYPE=image/jpeg:https://www.acmtrioditrieste.it/wp-content/uploads/2023/01/foto-1-2.jpg
ORGANIZER;CN="Chamber Music Trieste":MAILTO:info@acmtrioditrieste.it
END:VEVENT
BEGIN:VEVENT
DTSTART;VALUE=DATE:20100426
DTEND;VALUE=DATE:20100427
DTSTAMP:20260421T235621
CREATED:20230110T180318Z
LAST-MODIFIED:20230110T180340Z
UID:22148-1272240000-1272326399@www.acmtrioditrieste.it
SUMMARY:Alessio Allegrini\, Marco Fiorentini e Laura Pietrocini
DESCRIPTION:Musiche di Beethoven\, Rota e Brahms
URL:https://www.acmtrioditrieste.it/evento/alessio-allegrini-marco-fiorentini-e-laura-pietrocini/
CATEGORIES:Stagione Concertistica 2010
ATTACH;FMTTYPE=image/jpeg:https://www.acmtrioditrieste.it/wp-content/uploads/2023/01/foto-1140x758-1.jpg
ORGANIZER;CN="Chamber Music Trieste":MAILTO:info@acmtrioditrieste.it
END:VEVENT
BEGIN:VEVENT
DTSTART;TZID=UTC:20100418T180000
DTEND;TZID=UTC:20100418T193000
DTSTAMP:20260421T235621
CREATED:20230113T140833Z
LAST-MODIFIED:20230113T140905Z
UID:22769-1271613600-1271619000@www.acmtrioditrieste.it
SUMMARY:Luigi Piovano
DESCRIPTION:Musiche di Beethoven\, Rota e Brahms
URL:https://www.acmtrioditrieste.it/evento/luigi-piovano/
LOCATION:Ridotto del Teatro Verdi\, Riva Tre Novembre\, 1\, Trieste\, 34121\, Italia
CATEGORIES:Il 18 alle ore 18
ATTACH;FMTTYPE=image/jpeg:https://www.acmtrioditrieste.it/wp-content/uploads/2023/01/foto-1140x758-6.jpg
ORGANIZER;CN="Chamber Music Trieste":MAILTO:info@acmtrioditrieste.it
END:VEVENT
BEGIN:VEVENT
DTSTART;TZID=UTC:20100318T180000
DTEND;TZID=UTC:20100318T193000
DTSTAMP:20260421T235621
CREATED:20230113T141015Z
LAST-MODIFIED:20230113T141045Z
UID:22776-1268935200-1268940600@www.acmtrioditrieste.it
SUMMARY:Carlo Guaitoli\, Omero Antonutti\, Anton Dressler\, Roberto Cominati
DESCRIPTION:Musiche di Beethoven\, Rota e Brahms
URL:https://www.acmtrioditrieste.it/evento/carlo-guaitoli-omero-antonutti-anton-dressler-roberto-cominati/
LOCATION:Ridotto del Teatro Verdi\, Riva Tre Novembre\, 1\, Trieste\, 34121\, Italia
CATEGORIES:Il 18 alle ore 18
ATTACH;FMTTYPE=image/jpeg:https://www.acmtrioditrieste.it/wp-content/uploads/2023/01/foto-2-1140x758-1-1140x758-1.jpg
ORGANIZER;CN="Chamber Music Trieste":MAILTO:info@acmtrioditrieste.it
END:VEVENT
BEGIN:VEVENT
DTSTART;TZID=UTC:20100218T180000
DTEND;TZID=UTC:20100218T193000
DTSTAMP:20260421T235621
CREATED:20230113T141111Z
LAST-MODIFIED:20230113T141111Z
UID:22775-1266516000-1266521400@www.acmtrioditrieste.it
SUMMARY:Quartetto Savinio
DESCRIPTION:Musiche di Beethoven\, Rota e Brahms
URL:https://www.acmtrioditrieste.it/evento/quartetto-savinio/
LOCATION:Ridotto del Teatro Verdi\, Riva Tre Novembre\, 1\, Trieste\, 34121\, Italia
CATEGORIES:Il 18 alle ore 18
ATTACH;FMTTYPE=image/jpeg:https://www.acmtrioditrieste.it/wp-content/uploads/2023/01/foto-1140x758-1-7.jpg
ORGANIZER;CN="Chamber Music Trieste":MAILTO:info@acmtrioditrieste.it
END:VEVENT
BEGIN:VEVENT
DTSTART;VALUE=DATE:20091005
DTEND;VALUE=DATE:20091006
DTSTAMP:20260421T235621
CREATED:20230113T130958Z
LAST-MODIFIED:20230113T131217Z
UID:22689-1254700800-1254787199@www.acmtrioditrieste.it
SUMMARY:Duo Ammara – Prosseda
DESCRIPTION:Musiche di Beethoven\, Rota e Brahms
URL:https://www.acmtrioditrieste.it/evento/duo-ammara-prosseda/
LOCATION:Ridotto del Teatro Verdi\, Riva Tre Novembre\, 1\, Trieste\, 34121\, Italia
CATEGORIES:Festival Pianistico 2009
ATTACH;FMTTYPE=image/jpeg:https://www.acmtrioditrieste.it/wp-content/uploads/2023/01/foto-1140x758-4-1.jpg
ORGANIZER;CN="Chamber Music Trieste":MAILTO:info@acmtrioditrieste.it
END:VEVENT
BEGIN:VEVENT
DTSTART;VALUE=DATE:20090928
DTEND;VALUE=DATE:20090929
DTSTAMP:20260421T235621
CREATED:20230113T131455Z
LAST-MODIFIED:20230113T131516Z
UID:22695-1254096000-1254182399@www.acmtrioditrieste.it
SUMMARY:Evgeni Bozhanov
DESCRIPTION:Musiche di Beethoven\, Rota e Brahms
URL:https://www.acmtrioditrieste.it/evento/evgeni-bozhanov/
LOCATION:Ridotto del Teatro Verdi\, Riva Tre Novembre\, 1\, Trieste\, 34121\, Italia
CATEGORIES:Festival Pianistico 2009
ATTACH;FMTTYPE=image/jpeg:https://www.acmtrioditrieste.it/wp-content/uploads/2023/01/foto-1140x758-5.jpg
ORGANIZER;CN="Chamber Music Trieste":MAILTO:info@acmtrioditrieste.it
END:VEVENT
BEGIN:VEVENT
DTSTART;VALUE=DATE:20090924
DTEND;VALUE=DATE:20090925
DTSTAMP:20260421T235621
CREATED:20230113T131547Z
LAST-MODIFIED:20230113T131610Z
UID:22696-1253750400-1253836799@www.acmtrioditrieste.it
SUMMARY:Alessandro Lanzoni
DESCRIPTION:Musiche di Beethoven\, Rota e Brahms
URL:https://www.acmtrioditrieste.it/evento/alessandro-lanzoni/
LOCATION:Ridotto del Teatro Verdi\, Riva Tre Novembre\, 1\, Trieste\, 34121\, Italia
CATEGORIES:Festival Pianistico 2009
ATTACH;FMTTYPE=image/jpeg:https://www.acmtrioditrieste.it/wp-content/uploads/2023/01/foto-1140x758-1-5.jpg
ORGANIZER;CN="Chamber Music Trieste":MAILTO:info@acmtrioditrieste.it
END:VEVENT
BEGIN:VEVENT
DTSTART;VALUE=DATE:20090921
DTEND;VALUE=DATE:20090922
DTSTAMP:20260421T235621
CREATED:20230113T131654Z
LAST-MODIFIED:20230113T131723Z
UID:22697-1253491200-1253577599@www.acmtrioditrieste.it
SUMMARY:Duo Chipak-Kushnir
DESCRIPTION:Musiche di Beethoven\, Rota e Brahms
URL:https://www.acmtrioditrieste.it/evento/duo-chipak-kushnir/
LOCATION:Ridotto del Teatro Verdi\, Riva Tre Novembre\, 1\, Trieste\, 34121\, Italia
CATEGORIES:Festival Pianistico 2009
ATTACH;FMTTYPE=image/jpeg:https://www.acmtrioditrieste.it/wp-content/uploads/2023/01/foto-1140x758-2-4.jpg
ORGANIZER;CN="Chamber Music Trieste":MAILTO:info@acmtrioditrieste.it
END:VEVENT
END:VCALENDAR