BEGIN:VCALENDAR
VERSION:2.0
PRODID:-//ACM Associazione Chamber Music - ECPv6.3.7//NONSGML v1.0//EN
CALSCALE:GREGORIAN
METHOD:PUBLISH
X-WR-CALNAME:ACM Associazione Chamber Music
X-ORIGINAL-URL:https://www.acmtrioditrieste.it
X-WR-CALDESC:Events for ACM Associazione Chamber Music
REFRESH-INTERVAL;VALUE=DURATION:PT1H
X-Robots-Tag:noindex
X-PUBLISHED-TTL:PT1H
BEGIN:VTIMEZONE
TZID:UTC
BEGIN:STANDARD
TZOFFSETFROM:+0000
TZOFFSETTO:+0000
TZNAME:UTC
DTSTART:20070101T000000
END:STANDARD
END:VTIMEZONE
BEGIN:VEVENT
DTSTART;VALUE=DATE:20090511
DTEND;VALUE=DATE:20090512
DTSTAMP:20260424T204519
CREATED:20230110T181158Z
LAST-MODIFIED:20230110T181218Z
UID:22171-1242000000-1242086399@www.acmtrioditrieste.it
SUMMARY:Quartetto Petersen e Christian Poltéra
DESCRIPTION:Eckart Runge – violoncello\nJacques Ammon – pianoforte				\n				\n				\n				\n							\n			\n						\n		\n						\n				\n					\n		\n					\n		\n					\n		\n					\n		\n				\n						\n					\n			\n						\n				\n					JazzTangoNuevo				\n				\n					\n		\n					\n		\n				\n						\n					\n			\n						\n				\n							\n			\n		\n						\n				\n					\n		\n					\n		\n				\n						\n					\n			\n						\n				\n									musiche di Astor Piazzolla (Libertango\, Fuga y Misterio\, Le Grand Tango)\, Nikolai Kapustin (Elegia\, Burlesque\, Sonata op.84)\, Carlos Gardel\, Sergej Prokof’ev\, Lucio Franco Amanti (Jazz Sonata).
URL:https://www.acmtrioditrieste.it/evento/quartetto-petersen-e-christian-poltera/
CATEGORIES:Stagione Concertistica 2009
ATTACH;FMTTYPE=image/jpeg:https://www.acmtrioditrieste.it/wp-content/uploads/2023/01/foto-1140x758-3-1140x758-1-1.jpg
ORGANIZER;CN="Chamber Music Trieste":MAILTO:info@acmtrioditrieste.it
END:VEVENT
BEGIN:VEVENT
DTSTART;VALUE=DATE:20090504
DTEND;VALUE=DATE:20090505
DTSTAMP:20260424T204519
CREATED:20230110T181354Z
LAST-MODIFIED:20230110T181419Z
UID:22173-1241395200-1241481599@www.acmtrioditrieste.it
SUMMARY:Eos Quartet Wien e Herbert Schuch
DESCRIPTION:Eckart Runge – violoncello\nJacques Ammon – pianoforte				\n				\n				\n				\n							\n			\n						\n		\n						\n				\n					\n		\n					\n		\n					\n		\n					\n		\n				\n						\n					\n			\n						\n				\n					JazzTangoNuevo				\n				\n					\n		\n					\n		\n				\n						\n					\n			\n						\n				\n							\n			\n		\n						\n				\n					\n		\n					\n		\n				\n						\n					\n			\n						\n				\n									musiche di Astor Piazzolla (Libertango\, Fuga y Misterio\, Le Grand Tango)\, Nikolai Kapustin (Elegia\, Burlesque\, Sonata op.84)\, Carlos Gardel\, Sergej Prokof’ev\, Lucio Franco Amanti (Jazz Sonata).
URL:https://www.acmtrioditrieste.it/evento/eos-quartet-wien-e-herbert-schuch/
CATEGORIES:Stagione Concertistica 2009
ATTACH;FMTTYPE=image/jpeg:https://www.acmtrioditrieste.it/wp-content/uploads/2023/01/foto-1140x758-4-1140x758-1-1.jpg
ORGANIZER;CN="Chamber Music Trieste":MAILTO:info@acmtrioditrieste.it
END:VEVENT
BEGIN:VEVENT
DTSTART;VALUE=DATE:20090427
DTEND;VALUE=DATE:20090428
DTSTAMP:20260424T204519
CREATED:20230110T181535Z
LAST-MODIFIED:20230110T181605Z
UID:22172-1240790400-1240876799@www.acmtrioditrieste.it
SUMMARY:Duo Giun-Haruka e Ars Trio di Roma
DESCRIPTION:Eckart Runge – violoncello\nJacques Ammon – pianoforte				\n				\n				\n				\n							\n			\n						\n		\n						\n				\n					\n		\n					\n		\n					\n		\n					\n		\n				\n						\n					\n			\n						\n				\n					JazzTangoNuevo				\n				\n					\n		\n					\n		\n				\n						\n					\n			\n						\n				\n							\n			\n		\n						\n				\n					\n		\n					\n		\n				\n						\n					\n			\n						\n				\n									musiche di Astor Piazzolla (Libertango\, Fuga y Misterio\, Le Grand Tango)\, Nikolai Kapustin (Elegia\, Burlesque\, Sonata op.84)\, Carlos Gardel\, Sergej Prokof’ev\, Lucio Franco Amanti (Jazz Sonata).
URL:https://www.acmtrioditrieste.it/evento/duo-giun-haruka-e-ars-trio-di-roma/
CATEGORIES:Stagione Concertistica 2009
ATTACH;FMTTYPE=image/jpeg:https://www.acmtrioditrieste.it/wp-content/uploads/2023/01/foto-1140x758-1-1.jpg
ORGANIZER;CN="Chamber Music Trieste":MAILTO:info@acmtrioditrieste.it
END:VEVENT
BEGIN:VEVENT
DTSTART;VALUE=DATE:20081013
DTEND;VALUE=DATE:20081014
DTSTAMP:20260424T204519
CREATED:20230113T132039Z
LAST-MODIFIED:20230113T132105Z
UID:22717-1223856000-1223942399@www.acmtrioditrieste.it
SUMMARY:Duo Alexander Lonquich – Cristina Barbuti
DESCRIPTION:Eckart Runge – violoncello\nJacques Ammon – pianoforte				\n				\n				\n				\n							\n			\n						\n		\n						\n				\n					\n		\n					\n		\n					\n		\n					\n		\n				\n						\n					\n			\n						\n				\n					JazzTangoNuevo				\n				\n					\n		\n					\n		\n				\n						\n					\n			\n						\n				\n							\n			\n		\n						\n				\n					\n		\n					\n		\n				\n						\n					\n			\n						\n				\n									musiche di Astor Piazzolla (Libertango\, Fuga y Misterio\, Le Grand Tango)\, Nikolai Kapustin (Elegia\, Burlesque\, Sonata op.84)\, Carlos Gardel\, Sergej Prokof’ev\, Lucio Franco Amanti (Jazz Sonata).
URL:https://www.acmtrioditrieste.it/evento/duo-alexander-lonquich-cristina-barbuti/
LOCATION:Ridotto del Teatro Verdi\, Riva Tre Novembre\, 1\, Trieste\, 34121\, Italia
CATEGORIES:Festival Pianistico 2008
ATTACH;FMTTYPE=image/jpeg:https://www.acmtrioditrieste.it/wp-content/uploads/2023/01/foto-1140x758-1-6.jpg
ORGANIZER;CN="Chamber Music Trieste":MAILTO:info@acmtrioditrieste.it
END:VEVENT
BEGIN:VEVENT
DTSTART;VALUE=DATE:20081009
DTEND;VALUE=DATE:20081010
DTSTAMP:20260424T204519
CREATED:20230113T132446Z
LAST-MODIFIED:20230113T132516Z
UID:22724-1223510400-1223596799@www.acmtrioditrieste.it
SUMMARY:David Fray
DESCRIPTION:Eckart Runge – violoncello\nJacques Ammon – pianoforte				\n				\n				\n				\n							\n			\n						\n		\n						\n				\n					\n		\n					\n		\n					\n		\n					\n		\n				\n						\n					\n			\n						\n				\n					JazzTangoNuevo				\n				\n					\n		\n					\n		\n				\n						\n					\n			\n						\n				\n							\n			\n		\n						\n				\n					\n		\n					\n		\n				\n						\n					\n			\n						\n				\n									musiche di Astor Piazzolla (Libertango\, Fuga y Misterio\, Le Grand Tango)\, Nikolai Kapustin (Elegia\, Burlesque\, Sonata op.84)\, Carlos Gardel\, Sergej Prokof’ev\, Lucio Franco Amanti (Jazz Sonata).
URL:https://www.acmtrioditrieste.it/evento/david-fray/
LOCATION:Ridotto del Teatro Verdi\, Riva Tre Novembre\, 1\, Trieste\, 34121\, Italia
CATEGORIES:Festival Pianistico 2008
ATTACH;FMTTYPE=image/jpeg:https://www.acmtrioditrieste.it/wp-content/uploads/2023/01/foto-15.jpg
ORGANIZER;CN="Chamber Music Trieste":MAILTO:info@acmtrioditrieste.it
END:VEVENT
BEGIN:VEVENT
DTSTART;VALUE=DATE:20081006
DTEND;VALUE=DATE:20081007
DTSTAMP:20260424T204519
CREATED:20230113T132640Z
LAST-MODIFIED:20230113T132717Z
UID:22732-1223251200-1223337599@www.acmtrioditrieste.it
SUMMARY:Viviana Lasaracina
DESCRIPTION:Eckart Runge – violoncello\nJacques Ammon – pianoforte				\n				\n				\n				\n							\n			\n						\n		\n						\n				\n					\n		\n					\n		\n					\n		\n					\n		\n				\n						\n					\n			\n						\n				\n					JazzTangoNuevo				\n				\n					\n		\n					\n		\n				\n						\n					\n			\n						\n				\n							\n			\n		\n						\n				\n					\n		\n					\n		\n				\n						\n					\n			\n						\n				\n									musiche di Astor Piazzolla (Libertango\, Fuga y Misterio\, Le Grand Tango)\, Nikolai Kapustin (Elegia\, Burlesque\, Sonata op.84)\, Carlos Gardel\, Sergej Prokof’ev\, Lucio Franco Amanti (Jazz Sonata).
URL:https://www.acmtrioditrieste.it/evento/viviana-lasaracina-2/
LOCATION:Ridotto del Teatro Verdi\, Riva Tre Novembre\, 1\, Trieste\, 34121\, Italia
CATEGORIES:Festival Pianistico 2008
ATTACH;FMTTYPE=image/jpeg:https://www.acmtrioditrieste.it/wp-content/uploads/2023/01/foto-1140x758-2-5.jpg
ORGANIZER;CN="Chamber Music Trieste":MAILTO:info@acmtrioditrieste.it
END:VEVENT
BEGIN:VEVENT
DTSTART;VALUE=DATE:20081002
DTEND;VALUE=DATE:20081003
DTSTAMP:20260424T204519
CREATED:20230113T132749Z
LAST-MODIFIED:20230113T132825Z
UID:22731-1222905600-1222991999@www.acmtrioditrieste.it
SUMMARY:Benedetto Lupo
DESCRIPTION:Eckart Runge – violoncello\nJacques Ammon – pianoforte				\n				\n				\n				\n							\n			\n						\n		\n						\n				\n					\n		\n					\n		\n					\n		\n					\n		\n				\n						\n					\n			\n						\n				\n					JazzTangoNuevo				\n				\n					\n		\n					\n		\n				\n						\n					\n			\n						\n				\n							\n			\n		\n						\n				\n					\n		\n					\n		\n				\n						\n					\n			\n						\n				\n									musiche di Astor Piazzolla (Libertango\, Fuga y Misterio\, Le Grand Tango)\, Nikolai Kapustin (Elegia\, Burlesque\, Sonata op.84)\, Carlos Gardel\, Sergej Prokof’ev\, Lucio Franco Amanti (Jazz Sonata).
URL:https://www.acmtrioditrieste.it/evento/benedetto-lupo-3/
LOCATION:Ridotto del Teatro Verdi\, Riva Tre Novembre\, 1\, Trieste\, 34121\, Italia
CATEGORIES:Festival Pianistico 2008
ATTACH;FMTTYPE=image/jpeg:https://www.acmtrioditrieste.it/wp-content/uploads/2023/01/foto-1140x758-3-3.jpg
ORGANIZER;CN="Chamber Music Trieste":MAILTO:info@acmtrioditrieste.it
END:VEVENT
BEGIN:VEVENT
DTSTART;VALUE=DATE:20080929
DTEND;VALUE=DATE:20080930
DTSTAMP:20260424T204519
CREATED:20230113T132910Z
LAST-MODIFIED:20230113T132946Z
UID:22727-1222646400-1222732799@www.acmtrioditrieste.it
SUMMARY:Alexander Kobrin con l’Orchestra da Camera di Mantova
DESCRIPTION:Eckart Runge – violoncello\nJacques Ammon – pianoforte				\n				\n				\n				\n							\n			\n						\n		\n						\n				\n					\n		\n					\n		\n					\n		\n					\n		\n				\n						\n					\n			\n						\n				\n					JazzTangoNuevo				\n				\n					\n		\n					\n		\n				\n						\n					\n			\n						\n				\n							\n			\n		\n						\n				\n					\n		\n					\n		\n				\n						\n					\n			\n						\n				\n									musiche di Astor Piazzolla (Libertango\, Fuga y Misterio\, Le Grand Tango)\, Nikolai Kapustin (Elegia\, Burlesque\, Sonata op.84)\, Carlos Gardel\, Sergej Prokof’ev\, Lucio Franco Amanti (Jazz Sonata).
URL:https://www.acmtrioditrieste.it/evento/alexander-kobrin-con-lorchestra-da-camera-di-mantova/
LOCATION:Ridotto del Teatro Verdi\, Riva Tre Novembre\, 1\, Trieste\, 34121\, Italia
CATEGORIES:Festival Pianistico 2008
ATTACH;FMTTYPE=image/jpeg:https://www.acmtrioditrieste.it/wp-content/uploads/2023/01/foto-16.jpg
ORGANIZER;CN="Chamber Music Trieste":MAILTO:info@acmtrioditrieste.it
END:VEVENT
BEGIN:VEVENT
DTSTART;VALUE=DATE:20080526
DTEND;VALUE=DATE:20080527
DTSTAMP:20260424T204519
CREATED:20230110T181814Z
LAST-MODIFIED:20230110T181903Z
UID:22194-1211760000-1211846399@www.acmtrioditrieste.it
SUMMARY:Duo Gabriele Cassone – Roberto Plano
DESCRIPTION:Eckart Runge – violoncello\nJacques Ammon – pianoforte				\n				\n				\n				\n							\n			\n						\n		\n						\n				\n					\n		\n					\n		\n					\n		\n					\n		\n				\n						\n					\n			\n						\n				\n					JazzTangoNuevo				\n				\n					\n		\n					\n		\n				\n						\n					\n			\n						\n				\n							\n			\n		\n						\n				\n					\n		\n					\n		\n				\n						\n					\n			\n						\n				\n									musiche di Astor Piazzolla (Libertango\, Fuga y Misterio\, Le Grand Tango)\, Nikolai Kapustin (Elegia\, Burlesque\, Sonata op.84)\, Carlos Gardel\, Sergej Prokof’ev\, Lucio Franco Amanti (Jazz Sonata).
URL:https://www.acmtrioditrieste.it/evento/duo-gabriele-cassone-roberto-plano/
CATEGORIES:Stagione Concertistica 2008
ATTACH;FMTTYPE=image/jpeg:https://www.acmtrioditrieste.it/wp-content/uploads/2023/01/foto-1140x758-1140x758-1-1.jpg
ORGANIZER;CN="Chamber Music Trieste":MAILTO:info@acmtrioditrieste.it
END:VEVENT
BEGIN:VEVENT
DTSTART;VALUE=DATE:20080519
DTEND;VALUE=DATE:20080520
DTSTAMP:20260424T204519
CREATED:20230110T182056Z
LAST-MODIFIED:20230110T182115Z
UID:22201-1211155200-1211241599@www.acmtrioditrieste.it
SUMMARY:Maureen Jones and friends
DESCRIPTION:Eckart Runge – violoncello\nJacques Ammon – pianoforte				\n				\n				\n				\n							\n			\n						\n		\n						\n				\n					\n		\n					\n		\n					\n		\n					\n		\n				\n						\n					\n			\n						\n				\n					JazzTangoNuevo				\n				\n					\n		\n					\n		\n				\n						\n					\n			\n						\n				\n							\n			\n		\n						\n				\n					\n		\n					\n		\n				\n						\n					\n			\n						\n				\n									musiche di Astor Piazzolla (Libertango\, Fuga y Misterio\, Le Grand Tango)\, Nikolai Kapustin (Elegia\, Burlesque\, Sonata op.84)\, Carlos Gardel\, Sergej Prokof’ev\, Lucio Franco Amanti (Jazz Sonata).
URL:https://www.acmtrioditrieste.it/evento/maureen-jones-and-friends/
CATEGORIES:Stagione Concertistica 2008
ATTACH;FMTTYPE=image/jpeg:https://www.acmtrioditrieste.it/wp-content/uploads/2023/01/foto-7.jpg
ORGANIZER;CN="Chamber Music Trieste":MAILTO:info@acmtrioditrieste.it
END:VEVENT
BEGIN:VEVENT
DTSTART;VALUE=DATE:20080512
DTEND;VALUE=DATE:20080513
DTSTAMP:20260424T204519
CREATED:20230110T182202Z
LAST-MODIFIED:20230110T182224Z
UID:22200-1210550400-1210636799@www.acmtrioditrieste.it
SUMMARY:Trio Mondrian
DESCRIPTION:Eckart Runge – violoncello\nJacques Ammon – pianoforte				\n				\n				\n				\n							\n			\n						\n		\n						\n				\n					\n		\n					\n		\n					\n		\n					\n		\n				\n						\n					\n			\n						\n				\n					JazzTangoNuevo				\n				\n					\n		\n					\n		\n				\n						\n					\n			\n						\n				\n							\n			\n		\n						\n				\n					\n		\n					\n		\n				\n						\n					\n			\n						\n				\n									musiche di Astor Piazzolla (Libertango\, Fuga y Misterio\, Le Grand Tango)\, Nikolai Kapustin (Elegia\, Burlesque\, Sonata op.84)\, Carlos Gardel\, Sergej Prokof’ev\, Lucio Franco Amanti (Jazz Sonata).
URL:https://www.acmtrioditrieste.it/evento/trio-mondrian/
CATEGORIES:Stagione Concertistica 2008
ATTACH;FMTTYPE=image/jpeg:https://www.acmtrioditrieste.it/wp-content/uploads/2023/01/foto-1140x758-1-2.jpg
ORGANIZER;CN="Chamber Music Trieste":MAILTO:info@acmtrioditrieste.it
END:VEVENT
BEGIN:VEVENT
DTSTART;VALUE=DATE:20080505
DTEND;VALUE=DATE:20080506
DTSTAMP:20260424T204520
CREATED:20230110T182305Z
LAST-MODIFIED:20230110T182329Z
UID:22202-1209945600-1210031999@www.acmtrioditrieste.it
SUMMARY:Duo Maurizio Baglini – Roberto Prosseda con Giuseppe Cacciola e Gianni Arfacchia
DESCRIPTION:Eckart Runge – violoncello\nJacques Ammon – pianoforte				\n				\n				\n				\n							\n			\n						\n		\n						\n				\n					\n		\n					\n		\n					\n		\n					\n		\n				\n						\n					\n			\n						\n				\n					JazzTangoNuevo				\n				\n					\n		\n					\n		\n				\n						\n					\n			\n						\n				\n							\n			\n		\n						\n				\n					\n		\n					\n		\n				\n						\n					\n			\n						\n				\n									musiche di Astor Piazzolla (Libertango\, Fuga y Misterio\, Le Grand Tango)\, Nikolai Kapustin (Elegia\, Burlesque\, Sonata op.84)\, Carlos Gardel\, Sergej Prokof’ev\, Lucio Franco Amanti (Jazz Sonata).
URL:https://www.acmtrioditrieste.it/evento/duo-maurizio-baglini-roberto-prosseda-con-giuseppe-cacciola-e-gianni-arfacchia/
CATEGORIES:Stagione Concertistica 2008
ATTACH;FMTTYPE=image/jpeg:https://www.acmtrioditrieste.it/wp-content/uploads/2023/01/foto-1140x758-2-1140x758-1.jpg
ORGANIZER;CN="Chamber Music Trieste":MAILTO:info@acmtrioditrieste.it
END:VEVENT
BEGIN:VEVENT
DTSTART;VALUE=DATE:20080428
DTEND;VALUE=DATE:20080429
DTSTAMP:20260424T204520
CREATED:20230110T182431Z
LAST-MODIFIED:20230110T182452Z
UID:22203-1209340800-1209427199@www.acmtrioditrieste.it
SUMMARY:Duo Sergej Antonov e Costantine Finehouse
DESCRIPTION:Eckart Runge – violoncello\nJacques Ammon – pianoforte				\n				\n				\n				\n							\n			\n						\n		\n						\n				\n					\n		\n					\n		\n					\n		\n					\n		\n				\n						\n					\n			\n						\n				\n					JazzTangoNuevo				\n				\n					\n		\n					\n		\n				\n						\n					\n			\n						\n				\n							\n			\n		\n						\n				\n					\n		\n					\n		\n				\n						\n					\n			\n						\n				\n									musiche di Astor Piazzolla (Libertango\, Fuga y Misterio\, Le Grand Tango)\, Nikolai Kapustin (Elegia\, Burlesque\, Sonata op.84)\, Carlos Gardel\, Sergej Prokof’ev\, Lucio Franco Amanti (Jazz Sonata).
URL:https://www.acmtrioditrieste.it/evento/duo-sergej-antonov-e-costantine-finehouse/
CATEGORIES:Stagione Concertistica 2008
ATTACH;FMTTYPE=image/jpeg:https://www.acmtrioditrieste.it/wp-content/uploads/2023/01/foto-1140x758-4.jpg
ORGANIZER;CN="Chamber Music Trieste":MAILTO:info@acmtrioditrieste.it
END:VEVENT
BEGIN:VEVENT
DTSTART;VALUE=DATE:20071011
DTEND;VALUE=DATE:20071012
DTSTAMP:20260424T204520
CREATED:20230113T133357Z
LAST-MODIFIED:20230113T133430Z
UID:22751-1192060800-1192147199@www.acmtrioditrieste.it
SUMMARY:Arnaldo Cohen
DESCRIPTION:Eckart Runge – violoncello\nJacques Ammon – pianoforte				\n				\n				\n				\n							\n			\n						\n		\n						\n				\n					\n		\n					\n		\n					\n		\n					\n		\n				\n						\n					\n			\n						\n				\n					JazzTangoNuevo				\n				\n					\n		\n					\n		\n				\n						\n					\n			\n						\n				\n							\n			\n		\n						\n				\n					\n		\n					\n		\n				\n						\n					\n			\n						\n				\n									musiche di Astor Piazzolla (Libertango\, Fuga y Misterio\, Le Grand Tango)\, Nikolai Kapustin (Elegia\, Burlesque\, Sonata op.84)\, Carlos Gardel\, Sergej Prokof’ev\, Lucio Franco Amanti (Jazz Sonata).
URL:https://www.acmtrioditrieste.it/evento/arnaldo-cohen/
LOCATION:Ridotto del Teatro Verdi\, Riva Tre Novembre\, 1\, Trieste\, 34121\, Italia
CATEGORIES:Festival Pianistico 2007
ATTACH;FMTTYPE=image/jpeg:https://www.acmtrioditrieste.it/wp-content/uploads/2023/01/foto-1140x758-1140x758-1-2.jpg
ORGANIZER;CN="Chamber Music Trieste":MAILTO:info@acmtrioditrieste.it
END:VEVENT
BEGIN:VEVENT
DTSTART;VALUE=DATE:20071008
DTEND;VALUE=DATE:20071009
DTSTAMP:20260424T204520
CREATED:20230113T133128Z
LAST-MODIFIED:20230113T133207Z
UID:22748-1191801600-1191887999@www.acmtrioditrieste.it
SUMMARY:I Virtuosi Italiani – Ramin Bahrami
DESCRIPTION:Eckart Runge – violoncello\nJacques Ammon – pianoforte				\n				\n				\n				\n							\n			\n						\n		\n						\n				\n					\n		\n					\n		\n					\n		\n					\n		\n				\n						\n					\n			\n						\n				\n					JazzTangoNuevo				\n				\n					\n		\n					\n		\n				\n						\n					\n			\n						\n				\n							\n			\n		\n						\n				\n					\n		\n					\n		\n				\n						\n					\n			\n						\n				\n									musiche di Astor Piazzolla (Libertango\, Fuga y Misterio\, Le Grand Tango)\, Nikolai Kapustin (Elegia\, Burlesque\, Sonata op.84)\, Carlos Gardel\, Sergej Prokof’ev\, Lucio Franco Amanti (Jazz Sonata).
URL:https://www.acmtrioditrieste.it/evento/i-virtuosi-italiani-ramin-bahrami/
LOCATION:Ridotto del Teatro Verdi\, Riva Tre Novembre\, 1\, Trieste\, 34121\, Italia
CATEGORIES:Festival Pianistico 2007
ATTACH;FMTTYPE=image/jpeg:https://www.acmtrioditrieste.it/wp-content/uploads/2023/01/foto-1140x758-1-1140x758-1.jpg
ORGANIZER;CN="Chamber Music Trieste":MAILTO:info@acmtrioditrieste.it
END:VEVENT
BEGIN:VEVENT
DTSTART;VALUE=DATE:20071004
DTEND;VALUE=DATE:20071005
DTSTAMP:20260424T204520
CREATED:20230113T133313Z
LAST-MODIFIED:20230113T133340Z
UID:22752-1191456000-1191542399@www.acmtrioditrieste.it
SUMMARY:Irina Zahharenkova
DESCRIPTION:Eckart Runge – violoncello\nJacques Ammon – pianoforte				\n				\n				\n				\n							\n			\n						\n		\n						\n				\n					\n		\n					\n		\n					\n		\n					\n		\n				\n						\n					\n			\n						\n				\n					JazzTangoNuevo				\n				\n					\n		\n					\n		\n				\n						\n					\n			\n						\n				\n							\n			\n		\n						\n				\n					\n		\n					\n		\n				\n						\n					\n			\n						\n				\n									musiche di Astor Piazzolla (Libertango\, Fuga y Misterio\, Le Grand Tango)\, Nikolai Kapustin (Elegia\, Burlesque\, Sonata op.84)\, Carlos Gardel\, Sergej Prokof’ev\, Lucio Franco Amanti (Jazz Sonata).
URL:https://www.acmtrioditrieste.it/evento/irina-zahharenkova/
LOCATION:Ridotto del Teatro Verdi\, Riva Tre Novembre\, 1\, Trieste\, 34121\, Italia
CATEGORIES:Festival Pianistico 2007
ATTACH;FMTTYPE=image/jpeg:https://www.acmtrioditrieste.it/wp-content/uploads/2023/01/foto-1-3.jpg
ORGANIZER;CN="Chamber Music Trieste":MAILTO:info@acmtrioditrieste.it
END:VEVENT
END:VCALENDAR