BEGIN:VCALENDAR
VERSION:2.0
PRODID:-//ACM Associazione Chamber Music - ECPv6.3.7//NONSGML v1.0//EN
CALSCALE:GREGORIAN
METHOD:PUBLISH
X-WR-CALNAME:ACM Associazione Chamber Music
X-ORIGINAL-URL:https://www.acmtrioditrieste.it
X-WR-CALDESC:Events for ACM Associazione Chamber Music
REFRESH-INTERVAL;VALUE=DURATION:PT1H
X-Robots-Tag:noindex
X-PUBLISHED-TTL:PT1H
BEGIN:VTIMEZONE
TZID:UTC
BEGIN:STANDARD
TZOFFSETFROM:+0000
TZOFFSETTO:+0000
TZNAME:UTC
DTSTART:20150101T000000
END:STANDARD
END:VTIMEZONE
BEGIN:VEVENT
DTSTART;TZID=UTC:20170925T203000
DTEND;TZID=UTC:20170925T220000
DTSTAMP:20260421T102226
CREATED:20230111T155624Z
LAST-MODIFIED:20230111T155713Z
UID:22393-1506371400-1506376800@www.acmtrioditrieste.it
SUMMARY:Emanuele Arciuli
DESCRIPTION:violino e pianoforte\n				\n				\n				\n				\n							\n			\n						\n		\n						\n				\n					\n		\n					\n		\n				\n						\n					\n			\n						\n				\n									Musiche di Beethoven\, Tartini\, Prokof’ev
URL:https://www.acmtrioditrieste.it/evento/emanuele-arciuli/
LOCATION:Ridotto del Teatro Verdi\, Riva Tre Novembre\, 1\, Trieste\, 34121\, Italia
CATEGORIES:Festival Pianistico 2017
ATTACH;FMTTYPE=image/jpeg:https://www.acmtrioditrieste.it/wp-content/uploads/2023/01/arciuli.jpg
ORGANIZER;CN="Chamber Music Trieste":MAILTO:info@acmtrioditrieste.it
END:VEVENT
BEGIN:VEVENT
DTSTART;TZID=UTC:20170918T183000
DTEND;TZID=UTC:20170918T193000
DTSTAMP:20260421T102226
CREATED:20230119T103310Z
LAST-MODIFIED:20230123T110032Z
UID:23529-1505759400-1505763000@www.acmtrioditrieste.it
SUMMARY:Zerkalo Quartet
DESCRIPTION:violino e pianoforte\n				\n				\n				\n				\n							\n			\n						\n		\n						\n				\n					\n		\n					\n		\n				\n						\n					\n			\n						\n				\n									Musiche di Beethoven\, Tartini\, Prokof’ev
URL:https://www.acmtrioditrieste.it/evento/zerkalo-quartet/
LOCATION:Salone di Rappresentanza della Regione Friuli Venezia Giulia\, Piazza I° Maggio\, Udine
CATEGORIES:Concerti straordinari
ATTACH;FMTTYPE=image/jpeg:https://www.acmtrioditrieste.it/wp-content/uploads/2023/01/Josef-Suk-String-Trio.jpg
ORGANIZER;CN="Chamber Music Trieste":MAILTO:info@acmtrioditrieste.it
END:VEVENT
BEGIN:VEVENT
DTSTART;TZID=UTC:20170911T203000
DTEND;TZID=UTC:20170911T223000
DTSTAMP:20260421T102226
CREATED:20230110T112321Z
LAST-MODIFIED:20230110T154230Z
UID:21785-1505161800-1505169000@www.acmtrioditrieste.it
SUMMARY:18° Concorso Internazionale “PREMIO TRIO DI TRIESTE”
DESCRIPTION:violino e pianoforte\n				\n				\n				\n				\n							\n			\n						\n		\n						\n				\n					\n		\n					\n		\n				\n						\n					\n			\n						\n				\n									Musiche di Beethoven\, Tartini\, Prokof’ev
URL:https://www.acmtrioditrieste.it/evento/11-settembre-2017-18-concorso-internazionale-premio-trio-di-trieste/
LOCATION:Ridotto del Teatro Verdi\, Riva Tre Novembre\, 1\, Trieste\, 34121\, Italia
CATEGORIES:Stagione Concertistica 2017
ATTACH;FMTTYPE=image/jpeg:https://www.acmtrioditrieste.it/wp-content/uploads/2023/01/ACD_01_660x440-3-1-1-1-1-3.jpg
ORGANIZER;CN="Chamber Music Trieste":MAILTO:info@acmtrioditrieste.it
END:VEVENT
BEGIN:VEVENT
DTSTART;TZID=UTC:20170522T203000
DTEND;TZID=UTC:20170522T223000
DTSTAMP:20260421T102226
CREATED:20230110T112551Z
LAST-MODIFIED:20230110T154129Z
UID:21791-1495485000-1495492200@www.acmtrioditrieste.it
SUMMARY:Streichsextett Wien-Berlin
DESCRIPTION:violino e pianoforte\n				\n				\n				\n				\n							\n			\n						\n		\n						\n				\n					\n		\n					\n		\n				\n						\n					\n			\n						\n				\n									Musiche di Beethoven\, Tartini\, Prokof’ev
URL:https://www.acmtrioditrieste.it/evento/22-maggio-2017-streichsextett-wien-berlin-sala-del-ridotto-del-teatro-verdi/
LOCATION:Ridotto del Teatro Verdi\, Riva Tre Novembre\, 1\, Trieste\, 34121\, Italia
CATEGORIES:Stagione Concertistica 2017
ATTACH;FMTTYPE=image/jpeg:https://www.acmtrioditrieste.it/wp-content/uploads/2023/01/ACD_01_660x440-3-1-1-1-1.jpg
ORGANIZER;CN="Chamber Music Trieste":MAILTO:info@acmtrioditrieste.it
END:VEVENT
BEGIN:VEVENT
DTSTART;TZID=UTC:20170424T203000
DTEND;TZID=UTC:20170424T223000
DTSTAMP:20260421T102226
CREATED:20230110T112943Z
LAST-MODIFIED:20230110T154002Z
UID:21802-1493065800-1493073000@www.acmtrioditrieste.it
SUMMARY:Trio Oliva – Parazzoli – Sanzò
DESCRIPTION:violino e pianoforte\n				\n				\n				\n				\n							\n			\n						\n		\n						\n				\n					\n		\n					\n		\n				\n						\n					\n			\n						\n				\n									Musiche di Beethoven\, Tartini\, Prokof’ev
URL:https://www.acmtrioditrieste.it/evento/24-aprile-2017-trio-oliva-parazzoli-sanzo/
LOCATION:Ridotto del Teatro Verdi\, Riva Tre Novembre\, 1\, Trieste\, 34121\, Italia
CATEGORIES:Stagione Concertistica 2017
ATTACH;FMTTYPE=image/jpeg:https://www.acmtrioditrieste.it/wp-content/uploads/2023/01/ACD_01_660x440-3-1-1-1.jpg
ORGANIZER;CN="Chamber Music Trieste":MAILTO:info@acmtrioditrieste.it
END:VEVENT
BEGIN:VEVENT
DTSTART;TZID=UTC:20170410T203000
DTEND;TZID=UTC:20170410T223000
DTSTAMP:20260421T102226
CREATED:20230110T113225Z
LAST-MODIFIED:20230110T153904Z
UID:21800-1491856200-1491863400@www.acmtrioditrieste.it
SUMMARY:Josef Suk Piano Quartet
DESCRIPTION:violino e pianoforte\n				\n				\n				\n				\n							\n			\n						\n		\n						\n				\n					\n		\n					\n		\n				\n						\n					\n			\n						\n				\n									Musiche di Beethoven\, Tartini\, Prokof’ev
URL:https://www.acmtrioditrieste.it/evento/10-aprile-2017-josef-suk-piano-quartet/
LOCATION:Ridotto del Teatro Verdi\, Riva Tre Novembre\, 1\, Trieste\, 34121\, Italia
CATEGORIES:Stagione Concertistica 2017
ATTACH;FMTTYPE=image/jpeg:https://www.acmtrioditrieste.it/wp-content/uploads/2023/01/ACD_01_660x440-3-1-1-1-1-1.jpg
ORGANIZER;CN="Chamber Music Trieste":MAILTO:info@acmtrioditrieste.it
END:VEVENT
BEGIN:VEVENT
DTSTART;TZID=UTC:20170327T203000
DTEND;TZID=UTC:20170327T223000
DTSTAMP:20260421T102226
CREATED:20230110T113509Z
LAST-MODIFIED:20230110T153804Z
UID:21801-1490646600-1490653800@www.acmtrioditrieste.it
SUMMARY:Duo Caiello – Bellocchio
DESCRIPTION:violino e pianoforte\n				\n				\n				\n				\n							\n			\n						\n		\n						\n				\n					\n		\n					\n		\n				\n						\n					\n			\n						\n				\n									Musiche di Beethoven\, Tartini\, Prokof’ev
URL:https://www.acmtrioditrieste.it/evento/27-marzo-2017-duo-caiello-bellocchio/
LOCATION:Ridotto del Teatro Verdi\, Riva Tre Novembre\, 1\, Trieste\, 34121\, Italia
CATEGORIES:Stagione Concertistica 2017
ATTACH;FMTTYPE=image/jpeg:https://www.acmtrioditrieste.it/wp-content/uploads/2023/01/ACD_01_660x440-3-1-1.jpg
ORGANIZER;CN="Chamber Music Trieste":MAILTO:info@acmtrioditrieste.it
END:VEVENT
BEGIN:VEVENT
DTSTART;TZID=UTC:20170313T203000
DTEND;TZID=UTC:20170313T223000
DTSTAMP:20260421T102226
CREATED:20230110T151936Z
LAST-MODIFIED:20230110T153707Z
UID:21798-1489437000-1489444200@www.acmtrioditrieste.it
SUMMARY:Trio Gaspard
DESCRIPTION:violino e pianoforte\n				\n				\n				\n				\n							\n			\n						\n		\n						\n				\n					\n		\n					\n		\n				\n						\n					\n			\n						\n				\n									Musiche di Beethoven\, Tartini\, Prokof’ev
URL:https://www.acmtrioditrieste.it/evento/trio-gaspard/
LOCATION:Ridotto del Teatro Verdi\, Riva Tre Novembre\, 1\, Trieste\, 34121\, Italia
CATEGORIES:Stagione Concertistica 2017
ATTACH;FMTTYPE=image/jpeg:https://www.acmtrioditrieste.it/wp-content/uploads/2023/01/ACD_01_660x440-3-1.jpg
ORGANIZER;CN="Chamber Music Trieste":MAILTO:info@acmtrioditrieste.it
END:VEVENT
BEGIN:VEVENT
DTSTART;TZID=UTC:20170306T203000
DTEND;TZID=UTC:20170306T223000
DTSTAMP:20260421T102226
CREATED:20230110T152527Z
LAST-MODIFIED:20230110T152654Z
UID:21836-1488832200-1488839400@www.acmtrioditrieste.it
SUMMARY:Quartetto Guadagnini
DESCRIPTION:violino e pianoforte\n				\n				\n				\n				\n							\n			\n						\n		\n						\n				\n					\n		\n					\n		\n				\n						\n					\n			\n						\n				\n									Musiche di Beethoven\, Tartini\, Prokof’ev
URL:https://www.acmtrioditrieste.it/evento/quartetto-guadagnini/
LOCATION:Ridotto del Teatro Verdi\, Riva Tre Novembre\, 1\, Trieste\, 34121\, Italia
CATEGORIES:Stagione Concertistica 2017
ATTACH;FMTTYPE=image/jpeg:https://www.acmtrioditrieste.it/wp-content/uploads/2023/01/ACD_01_660x440-3-1-1-2.jpg
ORGANIZER;CN="Chamber Music Trieste":MAILTO:info@acmtrioditrieste.it
END:VEVENT
BEGIN:VEVENT
DTSTART;TZID=UTC:20170213T203000
DTEND;TZID=UTC:20170213T223000
DTSTAMP:20260421T102226
CREATED:20230110T152825Z
LAST-MODIFIED:20230110T153013Z
UID:21835-1487017800-1487025000@www.acmtrioditrieste.it
SUMMARY:Duo Prandi – Romanovsky
DESCRIPTION:violino e pianoforte\n				\n				\n				\n				\n							\n			\n						\n		\n						\n				\n					\n		\n					\n		\n				\n						\n					\n			\n						\n				\n									Musiche di Beethoven\, Tartini\, Prokof’ev
URL:https://www.acmtrioditrieste.it/evento/duo-prandi-romanovsky/
LOCATION:Ridotto del Teatro Verdi\, Riva Tre Novembre\, 1\, Trieste\, 34121\, Italia
CATEGORIES:Stagione Concertistica 2017
ATTACH;FMTTYPE=image/jpeg:https://www.acmtrioditrieste.it/wp-content/uploads/2023/01/ACD_01_660x440-3-1-2.jpg
ORGANIZER;CN="Chamber Music Trieste":MAILTO:info@acmtrioditrieste.it
END:VEVENT
BEGIN:VEVENT
DTSTART;TZID=UTC:20170130T203000
DTEND;TZID=UTC:20170130T223000
DTSTAMP:20260421T102226
CREATED:20230110T153207Z
LAST-MODIFIED:20230110T153537Z
UID:21847-1485808200-1485815400@www.acmtrioditrieste.it
SUMMARY:Slowind
DESCRIPTION:violino e pianoforte\n				\n				\n				\n				\n							\n			\n						\n		\n						\n				\n					\n		\n					\n		\n				\n						\n					\n			\n						\n				\n									Musiche di Beethoven\, Tartini\, Prokof’ev
URL:https://www.acmtrioditrieste.it/evento/slowind/
LOCATION:Ridotto del Teatro Verdi\, Riva Tre Novembre\, 1\, Trieste\, 34121\, Italia
CATEGORIES:Stagione Concertistica 2017
ATTACH;FMTTYPE=image/jpeg:https://www.acmtrioditrieste.it/wp-content/uploads/2023/01/ACD_01_660x440.jpg
ORGANIZER;CN="Chamber Music Trieste":MAILTO:info@acmtrioditrieste.it
END:VEVENT
BEGIN:VEVENT
DTSTART;TZID=UTC:20161219T180000
DTEND;TZID=UTC:20161219T190000
DTSTAMP:20260421T102227
CREATED:20230119T103443Z
LAST-MODIFIED:20230123T110147Z
UID:23528-1482170400-1482174000@www.acmtrioditrieste.it
SUMMARY:Alexandra Conunova
DESCRIPTION:violino e pianoforte\n				\n				\n				\n				\n							\n			\n						\n		\n						\n				\n					\n		\n					\n		\n				\n						\n					\n			\n						\n				\n									Musiche di Beethoven\, Tartini\, Prokof’ev
URL:https://www.acmtrioditrieste.it/evento/alexandra-conunova/
LOCATION:Hotel Savoia\, Riva del Mandracchio\, 4\, Trieste\, 34124
CATEGORIES:Concerti straordinari
ATTACH;FMTTYPE=image/jpeg:https://www.acmtrioditrieste.it/wp-content/uploads/2023/01/ACD_01_660x440-2.jpg
ORGANIZER;CN="Chamber Music Trieste":MAILTO:info@acmtrioditrieste.it
END:VEVENT
BEGIN:VEVENT
DTSTART;TZID=UTC:20161031T180000
DTEND;TZID=UTC:20161031T193000
DTSTAMP:20260421T102227
CREATED:20230114T174255Z
LAST-MODIFIED:20230114T174428Z
UID:22989-1477936800-1477942200@www.acmtrioditrieste.it
SUMMARY:Duo Guliei – Lavrynenko
DESCRIPTION:violino e pianoforte\n				\n				\n				\n				\n							\n			\n						\n		\n						\n				\n					\n		\n					\n		\n				\n						\n					\n			\n						\n				\n									Musiche di Beethoven\, Tartini\, Prokof’ev
URL:https://www.acmtrioditrieste.it/evento/duo-guliei-lavrynenko/
LOCATION:Ridotto del Teatro Verdi\, Riva Tre Novembre\, 1\, Trieste\, 34121\, Italia
CATEGORIES:Il 18 alle ore 18
ATTACH;FMTTYPE=image/jpeg:https://www.acmtrioditrieste.it/wp-content/uploads/2023/01/foto-4.jpg
ORGANIZER;CN="Chamber Music Trieste":MAILTO:info@acmtrioditrieste.it
END:VEVENT
BEGIN:VEVENT
DTSTART;TZID=UTC:20161010T203000
DTEND;TZID=UTC:20161010T220000
DTSTAMP:20260421T102227
CREATED:20230111T161010Z
LAST-MODIFIED:20230111T161115Z
UID:22422-1476131400-1476136800@www.acmtrioditrieste.it
SUMMARY:Alexander Gadjiev e I Virtuosi Italiani
DESCRIPTION:violino e pianoforte\n				\n				\n				\n				\n							\n			\n						\n		\n						\n				\n					\n		\n					\n		\n				\n						\n					\n			\n						\n				\n									Musiche di Beethoven\, Tartini\, Prokof’ev
URL:https://www.acmtrioditrieste.it/evento/alexander-gadjiev-e-i-virtuosi-italiani/
LOCATION:Ridotto del Teatro Verdi\, Riva Tre Novembre\, 1\, Trieste\, 34121\, Italia
CATEGORIES:Festival Pianistico 2016
ATTACH;FMTTYPE=image/jpeg:https://www.acmtrioditrieste.it/wp-content/uploads/2023/01/foto1-1140x758-4-1140x758-1.jpg
ORGANIZER;CN="Chamber Music Trieste":MAILTO:info@acmtrioditrieste.it
END:VEVENT
BEGIN:VEVENT
DTSTART;TZID=UTC:20161003T203000
DTEND;TZID=UTC:20161003T220000
DTSTAMP:20260421T102227
CREATED:20230111T160836Z
LAST-MODIFIED:20230111T160928Z
UID:22424-1475526600-1475532000@www.acmtrioditrieste.it
SUMMARY:Philippe Cassard – Cedric Pescia
DESCRIPTION:violino e pianoforte\n				\n				\n				\n				\n							\n			\n						\n		\n						\n				\n					\n		\n					\n		\n				\n						\n					\n			\n						\n				\n									Musiche di Beethoven\, Tartini\, Prokof’ev
URL:https://www.acmtrioditrieste.it/evento/philippe-cassard-cedric-pescia/
LOCATION:Ridotto del Teatro Verdi\, Riva Tre Novembre\, 1\, Trieste\, 34121\, Italia
CATEGORIES:Festival Pianistico 2016
ATTACH;FMTTYPE=image/jpeg:https://www.acmtrioditrieste.it/wp-content/uploads/2023/01/cassard-con-pescia.jpg
ORGANIZER;CN="Chamber Music Trieste":MAILTO:info@acmtrioditrieste.it
END:VEVENT
BEGIN:VEVENT
DTSTART;TZID=UTC:20160926T203000
DTEND;TZID=UTC:20160926T220000
DTSTAMP:20260421T102227
CREATED:20230111T160633Z
LAST-MODIFIED:20230111T160725Z
UID:22423-1474921800-1474927200@www.acmtrioditrieste.it
SUMMARY:Antonii Baryshevskyi
DESCRIPTION:violino e pianoforte\n				\n				\n				\n				\n							\n			\n						\n		\n						\n				\n					\n		\n					\n		\n				\n						\n					\n			\n						\n				\n									Musiche di Beethoven\, Tartini\, Prokof’ev
URL:https://www.acmtrioditrieste.it/evento/antonii-baryshevskyi-2/
LOCATION:Ridotto del Teatro Verdi\, Riva Tre Novembre\, 1\, Trieste\, 34121\, Italia
CATEGORIES:Festival Pianistico 2016
ATTACH;FMTTYPE=image/jpeg:https://www.acmtrioditrieste.it/wp-content/uploads/2023/01/Baryshevskyi-1140x760-1.jpg
ORGANIZER;CN="Chamber Music Trieste":MAILTO:info@acmtrioditrieste.it
END:VEVENT
BEGIN:VEVENT
DTSTART;TZID=UTC:20160919T203000
DTEND;TZID=UTC:20160919T220000
DTSTAMP:20260421T102227
CREATED:20230111T160406Z
LAST-MODIFIED:20230111T160530Z
UID:22413-1474317000-1474322400@www.acmtrioditrieste.it
SUMMARY:Evgeni Koroliov
DESCRIPTION:violino e pianoforte\n				\n				\n				\n				\n							\n			\n						\n		\n						\n				\n					\n		\n					\n		\n				\n						\n					\n			\n						\n				\n									Musiche di Beethoven\, Tartini\, Prokof’ev
URL:https://www.acmtrioditrieste.it/evento/evgeni-koroliov/
LOCATION:Ridotto del Teatro Verdi\, Riva Tre Novembre\, 1\, Trieste\, 34121\, Italia
CATEGORIES:Festival Pianistico 2016
ATTACH;FMTTYPE=image/jpeg:https://www.acmtrioditrieste.it/wp-content/uploads/2023/01/Koroliov-Evgeni-0060-by-Gela-Megrelidze-mittel-1140x892-1.jpg
ORGANIZER;CN="Chamber Music Trieste":MAILTO:info@acmtrioditrieste.it
END:VEVENT
BEGIN:VEVENT
DTSTART;TZID=UTC:20160523T203000
DTEND;TZID=UTC:20160523T223000
DTSTAMP:20260421T102227
CREATED:20230110T164956Z
LAST-MODIFIED:20230110T165238Z
UID:21972-1464035400-1464042600@www.acmtrioditrieste.it
SUMMARY:Filarmonica del Festival Pianistico Internazionale di Brescia e Bergamo
DESCRIPTION:violino e pianoforte\n				\n				\n				\n				\n							\n			\n						\n		\n						\n				\n					\n		\n					\n		\n				\n						\n					\n			\n						\n				\n									Musiche di Beethoven\, Tartini\, Prokof’ev
URL:https://www.acmtrioditrieste.it/evento/i-solisti-di-pavia-enrico-dindo-_duplicato/
LOCATION:Ridotto del Teatro Verdi\, Riva Tre Novembre\, 1\, Trieste\, 34121\, Italia
CATEGORIES:Stagione Concertistica 2016
ATTACH;FMTTYPE=image/jpeg:https://www.acmtrioditrieste.it/wp-content/uploads/2023/01/foto1-1140x758-4.jpg
ORGANIZER;CN="Chamber Music Trieste":MAILTO:info@acmtrioditrieste.it
END:VEVENT
BEGIN:VEVENT
DTSTART;TZID=UTC:20160516T203000
DTEND;TZID=UTC:20160516T223000
DTSTAMP:20260421T102227
CREATED:20230110T164827Z
LAST-MODIFIED:20230110T165127Z
UID:21970-1463430600-1463437800@www.acmtrioditrieste.it
SUMMARY:Duo Lavrynenko – Guliei
DESCRIPTION:violino e pianoforte\n				\n				\n				\n				\n							\n			\n						\n		\n						\n				\n					\n		\n					\n		\n				\n						\n					\n			\n						\n				\n									Musiche di Beethoven\, Tartini\, Prokof’ev
URL:https://www.acmtrioditrieste.it/evento/duo-lavrynenko-guliei/
LOCATION:Ridotto del Teatro Verdi\, Riva Tre Novembre\, 1\, Trieste\, 34121\, Italia
CATEGORIES:Stagione Concertistica 2016
ATTACH;FMTTYPE=image/jpeg:https://www.acmtrioditrieste.it/wp-content/uploads/2023/01/foto-4.jpg
ORGANIZER;CN="Chamber Music Trieste":MAILTO:info@acmtrioditrieste.it
END:VEVENT
BEGIN:VEVENT
DTSTART;TZID=UTC:20160509T203000
DTEND;TZID=UTC:20160509T223000
DTSTAMP:20260421T102227
CREATED:20230110T164618Z
LAST-MODIFIED:20230110T164743Z
UID:21971-1462825800-1462833000@www.acmtrioditrieste.it
SUMMARY:I Virtuosi Italiani-Josef Suk Piano Quartet
DESCRIPTION:violino e pianoforte\n				\n				\n				\n				\n							\n			\n						\n		\n						\n				\n					\n		\n					\n		\n				\n						\n					\n			\n						\n				\n									Musiche di Beethoven\, Tartini\, Prokof’ev
URL:https://www.acmtrioditrieste.it/evento/i-virtuosi-italiani-josef-suk-piano-quartet/
LOCATION:Ridotto del Teatro Verdi\, Riva Tre Novembre\, 1\, Trieste\, 34121\, Italia
CATEGORIES:Stagione Concertistica 2016
ORGANIZER;CN="Chamber Music Trieste":MAILTO:info@acmtrioditrieste.it
END:VEVENT
BEGIN:VEVENT
DTSTART;TZID=UTC:20160502T203000
DTEND;TZID=UTC:20160502T223000
DTSTAMP:20260421T102227
CREATED:20230110T163528Z
LAST-MODIFIED:20230110T164415Z
UID:21969-1462221000-1462228200@www.acmtrioditrieste.it
SUMMARY:Duo Banciu – Goicea
DESCRIPTION:violino e pianoforte\n				\n				\n				\n				\n							\n			\n						\n		\n						\n				\n					\n		\n					\n		\n				\n						\n					\n			\n						\n				\n									Musiche di Beethoven\, Tartini\, Prokof’ev
URL:https://www.acmtrioditrieste.it/evento/duo-banciu-goicea/
LOCATION:Ridotto del Teatro Verdi\, Riva Tre Novembre\, 1\, Trieste\, 34121\, Italia
CATEGORIES:Stagione Concertistica 2016
ORGANIZER;CN="Chamber Music Trieste":MAILTO:info@acmtrioditrieste.it
END:VEVENT
BEGIN:VEVENT
DTSTART;TZID=UTC:20160418T203000
DTEND;TZID=UTC:20160418T223000
DTSTAMP:20260421T102227
CREATED:20230110T163113Z
LAST-MODIFIED:20230110T163350Z
UID:21960-1461011400-1461018600@www.acmtrioditrieste.it
SUMMARY:I Solisti di Pavia – Enrico Dindo
DESCRIPTION:violino e pianoforte\n				\n				\n				\n				\n							\n			\n						\n		\n						\n				\n					\n		\n					\n		\n				\n						\n					\n			\n						\n				\n									Musiche di Beethoven\, Tartini\, Prokof’ev
URL:https://www.acmtrioditrieste.it/evento/i-solisti-di-pavia-enrico-dindo/
LOCATION:Ridotto del Teatro Verdi\, Riva Tre Novembre\, 1\, Trieste\, 34121\, Italia
CATEGORIES:Stagione Concertistica 2016
ORGANIZER;CN="Chamber Music Trieste":MAILTO:info@acmtrioditrieste.it
END:VEVENT
BEGIN:VEVENT
DTSTART;TZID=UTC:20160318T180000
DTEND;TZID=UTC:20160318T193000
DTSTAMP:20260421T102227
CREATED:20230114T174057Z
LAST-MODIFIED:20230114T174403Z
UID:22988-1458324000-1458329400@www.acmtrioditrieste.it
SUMMARY:Herbert Duo
DESCRIPTION:violino e pianoforte\n				\n				\n				\n				\n							\n			\n						\n		\n						\n				\n					\n		\n					\n		\n				\n						\n					\n			\n						\n				\n									Musiche di Beethoven\, Tartini\, Prokof’ev
URL:https://www.acmtrioditrieste.it/evento/herbert-duo/
LOCATION:Ridotto del Teatro Verdi\, Riva Tre Novembre\, 1\, Trieste\, 34121\, Italia
CATEGORIES:Il 18 alle ore 18
ATTACH;FMTTYPE=image/jpeg:https://www.acmtrioditrieste.it/wp-content/uploads/2023/01/foto2-1140x7582-1.jpg
ORGANIZER;CN="Chamber Music Trieste":MAILTO:info@acmtrioditrieste.it
END:VEVENT
BEGIN:VEVENT
DTSTART;TZID=UTC:20160218T180000
DTEND;TZID=UTC:20160218T193000
DTSTAMP:20260421T102227
CREATED:20230114T173930Z
LAST-MODIFIED:20230114T174023Z
UID:22990-1455818400-1455823800@www.acmtrioditrieste.it
SUMMARY:Belenus Quartett
DESCRIPTION:violino e pianoforte\n				\n				\n				\n				\n							\n			\n						\n		\n						\n				\n					\n		\n					\n		\n				\n						\n					\n			\n						\n				\n									Musiche di Beethoven\, Tartini\, Prokof’ev
URL:https://www.acmtrioditrieste.it/evento/belenus-quartett/
LOCATION:Ridotto del Teatro Verdi\, Riva Tre Novembre\, 1\, Trieste\, 34121\, Italia
CATEGORIES:Il 18 alle ore 18
ATTACH;FMTTYPE=image/jpeg:https://www.acmtrioditrieste.it/wp-content/uploads/2023/01/foto2-1140x7581-1.jpg
ORGANIZER;CN="Chamber Music Trieste":MAILTO:info@acmtrioditrieste.it
END:VEVENT
BEGIN:VEVENT
DTSTART;TZID=UTC:20160118T180000
DTEND;TZID=UTC:20160118T193000
DTSTAMP:20260421T102227
CREATED:20230114T173630Z
LAST-MODIFIED:20230114T173839Z
UID:22981-1453140000-1453145400@www.acmtrioditrieste.it
SUMMARY:Trio Ancillotti
DESCRIPTION:violino e pianoforte\n				\n				\n				\n				\n							\n			\n						\n		\n						\n				\n					\n		\n					\n		\n				\n						\n					\n			\n						\n				\n									Musiche di Beethoven\, Tartini\, Prokof’ev
URL:https://www.acmtrioditrieste.it/evento/trio-ancillotti-gotlibovich-corrado-merlak/
LOCATION:Ridotto del Teatro Verdi\, Riva Tre Novembre\, 1\, Trieste\, 34121\, Italia
CATEGORIES:Il 18 alle ore 18
ATTACH;FMTTYPE=image/jpeg:https://www.acmtrioditrieste.it/wp-content/uploads/2023/01/foto2-1140x758-1.jpg
ORGANIZER;CN="Chamber Music Trieste":MAILTO:info@acmtrioditrieste.it
END:VEVENT
BEGIN:VEVENT
DTSTART;TZID=UTC:20151218T180000
DTEND;TZID=UTC:20151218T190000
DTSTAMP:20260421T102227
CREATED:20230119T103657Z
LAST-MODIFIED:20230123T110252Z
UID:23526-1450461600-1450465200@www.acmtrioditrieste.it
SUMMARY:Josef Suk String Trio
DESCRIPTION:violino e pianoforte\n				\n				\n				\n				\n							\n			\n						\n		\n						\n				\n					\n		\n					\n		\n				\n						\n					\n			\n						\n				\n									Musiche di Beethoven\, Tartini\, Prokof’ev
URL:https://www.acmtrioditrieste.it/evento/josef-suk-string-trio/
LOCATION:Sala Grande dell’ In.C.E. (Iniziativa Centro Europea) – C.E.I.\, Via Genova 9\, Trieste\, Italia
CATEGORIES:Concerti straordinari
ATTACH;FMTTYPE=image/jpeg:https://www.acmtrioditrieste.it/wp-content/uploads/2023/01/Josef-Suk-String-Trio-1.jpg
ORGANIZER;CN="Chamber Music Trieste":MAILTO:info@acmtrioditrieste.it
END:VEVENT
BEGIN:VEVENT
DTSTART;TZID=UTC:20151118T180000
DTEND;TZID=UTC:20151118T193000
DTSTAMP:20260421T102227
CREATED:20230113T181404Z
LAST-MODIFIED:20230113T183121Z
UID:22893-1447869600-1447875000@www.acmtrioditrieste.it
SUMMARY:Mondrian Trio
DESCRIPTION:violino e pianoforte\n				\n				\n				\n				\n							\n			\n						\n		\n						\n				\n					\n		\n					\n		\n				\n						\n					\n			\n						\n				\n									Musiche di Beethoven\, Tartini\, Prokof’ev
URL:https://www.acmtrioditrieste.it/evento/mondrian-trio/
LOCATION:Palazzo del Governo\, Piazza Unità d'Italia\, Trieste\, 34121\, Italia
CATEGORIES:Il 18 alle ore 18
ATTACH;FMTTYPE=image/jpeg:https://www.acmtrioditrieste.it/wp-content/uploads/2023/01/Trio-Mondrian-1.jpg
ORGANIZER;CN="Chamber Music Trieste":MAILTO:info@acmtrioditrieste.it
END:VEVENT
BEGIN:VEVENT
DTSTART;TZID=UTC:20151019T203000
DTEND;TZID=UTC:20151019T220000
DTSTAMP:20260421T102227
CREATED:20230111T161326Z
LAST-MODIFIED:20230111T161419Z
UID:22443-1445286600-1445292000@www.acmtrioditrieste.it
SUMMARY:Alexei Nabioulin
DESCRIPTION:violino e pianoforte\n				\n				\n				\n				\n							\n			\n						\n		\n						\n				\n					\n		\n					\n		\n				\n						\n					\n			\n						\n				\n									Musiche di Beethoven\, Tartini\, Prokof’ev
URL:https://www.acmtrioditrieste.it/evento/alexei-nabioulin/
LOCATION:Ridotto del Teatro Verdi\, Riva Tre Novembre\, 1\, Trieste\, 34121\, Italia
CATEGORIES:Festival Pianistico 2015
ATTACH;FMTTYPE=image/jpeg:https://www.acmtrioditrieste.it/wp-content/uploads/2023/01/foto-8.jpg
ORGANIZER;CN="Chamber Music Trieste":MAILTO:info@acmtrioditrieste.it
END:VEVENT
BEGIN:VEVENT
DTSTART;TZID=UTC:20151012T203000
DTEND;TZID=UTC:20151012T220000
DTSTAMP:20260421T102227
CREATED:20230111T161600Z
LAST-MODIFIED:20230111T161651Z
UID:22451-1444681800-1444687200@www.acmtrioditrieste.it
SUMMARY:Emanuele Torquati
DESCRIPTION:violino e pianoforte\n				\n				\n				\n				\n							\n			\n						\n		\n						\n				\n					\n		\n					\n		\n				\n						\n					\n			\n						\n				\n									Musiche di Beethoven\, Tartini\, Prokof’ev
URL:https://www.acmtrioditrieste.it/evento/emanuele-torquati/
LOCATION:Ridotto del Teatro Verdi\, Riva Tre Novembre\, 1\, Trieste\, 34121\, Italia
CATEGORIES:Festival Pianistico 2015
ATTACH;FMTTYPE=image/jpeg:https://www.acmtrioditrieste.it/wp-content/uploads/2023/01/foto1-6.jpg
ORGANIZER;CN="Chamber Music Trieste":MAILTO:info@acmtrioditrieste.it
END:VEVENT
BEGIN:VEVENT
DTSTART;TZID=UTC:20151005T203000
DTEND;TZID=UTC:20151005T220000
DTSTAMP:20260421T102227
CREATED:20230111T161721Z
LAST-MODIFIED:20230111T161837Z
UID:22452-1444077000-1444082400@www.acmtrioditrieste.it
SUMMARY:János Palojtay
DESCRIPTION:violino e pianoforte\n				\n				\n				\n				\n							\n			\n						\n		\n						\n				\n					\n		\n					\n		\n				\n						\n					\n			\n						\n				\n									Musiche di Beethoven\, Tartini\, Prokof’ev
URL:https://www.acmtrioditrieste.it/evento/janos-palojtay/
LOCATION:Ridotto del Teatro Verdi\, Riva Tre Novembre\, 1\, Trieste\, 34121\, Italia
CATEGORIES:Festival Pianistico 2015
ATTACH;FMTTYPE=image/jpeg:https://www.acmtrioditrieste.it/wp-content/uploads/2023/01/foto2-3.jpg
ORGANIZER;CN="Chamber Music Trieste":MAILTO:info@acmtrioditrieste.it
END:VEVENT
END:VCALENDAR