BEGIN:VCALENDAR
VERSION:2.0
PRODID:-//ACM Associazione Chamber Music - ECPv6.3.7//NONSGML v1.0//EN
CALSCALE:GREGORIAN
METHOD:PUBLISH
X-WR-CALNAME:ACM Associazione Chamber Music
X-ORIGINAL-URL:https://www.acmtrioditrieste.it
X-WR-CALDESC:Events for ACM Associazione Chamber Music
REFRESH-INTERVAL;VALUE=DURATION:PT1H
X-Robots-Tag:noindex
X-PUBLISHED-TTL:PT1H
BEGIN:VTIMEZONE
TZID:UTC
BEGIN:STANDARD
TZOFFSETFROM:+0000
TZOFFSETTO:+0000
TZNAME:UTC
DTSTART:20180101T000000
END:STANDARD
END:VTIMEZONE
BEGIN:VEVENT
DTSTART;TZID=UTC:20190415T203000
DTEND;TZID=UTC:20190415T220000
DTSTAMP:20260420T211452
CREATED:20230111T142038Z
LAST-MODIFIED:20230113T190400Z
UID:22320-1555360200-1555365600@www.acmtrioditrieste.it
SUMMARY:Sebastian Di Bin
DESCRIPTION:pianoforte				\n				\n					\n		\n					\n		\n				\n						\n					\n			\n						\n				\n							\n			\n		\n						\n				\n					\n		\n					\n		\n				\n						\n					\n			\n						\n				\n									Musiche di Chopin\, Takemitsu e Schubert
URL:https://www.acmtrioditrieste.it/evento/sebastian-di-bin/
LOCATION:Teatro Miela\, Piazza Luigi Amedeo Duca degli Abruzzi\, 3\, 34132\, Trieste\, 34132\, Italy
CATEGORIES:Festival Pianistico 2019
ATTACH;FMTTYPE=image/jpeg:https://www.acmtrioditrieste.it/wp-content/uploads/2023/01/2.-Sebastian-Di-Bin-1140x779-1.jpg
ORGANIZER;CN="Chamber Music Trieste":MAILTO:info@acmtrioditrieste.it
END:VEVENT
BEGIN:VEVENT
DTSTART;TZID=UTC:20190415T203000
DTEND;TZID=UTC:20190415T220000
DTSTAMP:20260420T211452
CREATED:20230110T093213Z
LAST-MODIFIED:20230110T155633Z
UID:21708-1555360200-1555365600@www.acmtrioditrieste.it
SUMMARY:Trio Gaon
DESCRIPTION:pianoforte				\n				\n					\n		\n					\n		\n				\n						\n					\n			\n						\n				\n							\n			\n		\n						\n				\n					\n		\n					\n		\n				\n						\n					\n			\n						\n				\n									Musiche di Chopin\, Takemitsu e Schubert
URL:https://www.acmtrioditrieste.it/evento/15-aprile-2019-trio-gaon/
LOCATION:Ridotto del Teatro Verdi\, Riva Tre Novembre\, 1\, Trieste\, 34121\, Italia
CATEGORIES:Stagione Concertistica 2019
ATTACH;FMTTYPE=image/jpeg:https://www.acmtrioditrieste.it/wp-content/uploads/2023/01/foto-3.jpg
ORGANIZER;CN="Chamber Music Trieste":MAILTO:info@acmtrioditrieste.it
END:VEVENT
BEGIN:VEVENT
DTSTART;TZID=UTC:20190401T203000
DTEND;TZID=UTC:20190401T220000
DTSTAMP:20260420T211452
CREATED:20230110T092838Z
LAST-MODIFIED:20230110T155544Z
UID:21692-1554150600-1554156000@www.acmtrioditrieste.it
SUMMARY:Trio Debussy
DESCRIPTION:pianoforte				\n				\n					\n		\n					\n		\n				\n						\n					\n			\n						\n				\n							\n			\n		\n						\n				\n					\n		\n					\n		\n				\n						\n					\n			\n						\n				\n									Musiche di Chopin\, Takemitsu e Schubert
URL:https://www.acmtrioditrieste.it/evento/1-aprile-2019-trio-debussy/
LOCATION:Ridotto del Teatro Verdi\, Riva Tre Novembre\, 1\, Trieste\, 34121\, Italia
CATEGORIES:Stagione Concertistica 2019
ATTACH;FMTTYPE=image/jpeg:https://www.acmtrioditrieste.it/wp-content/uploads/2023/01/foto-2-1.jpg
ORGANIZER;CN="Chamber Music Trieste":MAILTO:info@acmtrioditrieste.it
END:VEVENT
BEGIN:VEVENT
DTSTART;TZID=UTC:20190318T203000
DTEND;TZID=UTC:20190318T220000
DTSTAMP:20260420T211452
CREATED:20230110T092428Z
LAST-MODIFIED:20230110T155517Z
UID:21691-1552941000-1552946400@www.acmtrioditrieste.it
SUMMARY:Josef Suk Piano Quartet
DESCRIPTION:pianoforte				\n				\n					\n		\n					\n		\n				\n						\n					\n			\n						\n				\n							\n			\n		\n						\n				\n					\n		\n					\n		\n				\n						\n					\n			\n						\n				\n									Musiche di Chopin\, Takemitsu e Schubert
URL:https://www.acmtrioditrieste.it/evento/18-marzo-2019-josef-suk-piano-quartet/
LOCATION:Ridotto del Teatro Verdi\, Riva Tre Novembre\, 1\, Trieste\, 34121\, Italia
CATEGORIES:Stagione Concertistica 2019
ATTACH;FMTTYPE=image/jpeg:https://www.acmtrioditrieste.it/wp-content/uploads/2023/01/foto-1-1.jpg
ORGANIZER;CN="Chamber Music Trieste":MAILTO:info@acmtrioditrieste.it
END:VEVENT
BEGIN:VEVENT
DTSTART;TZID=UTC:20190225T203000
DTEND;TZID=UTC:20190225T220000
DTSTAMP:20260420T211452
CREATED:20230110T091927Z
LAST-MODIFIED:20230110T155446Z
UID:21690-1551126600-1551132000@www.acmtrioditrieste.it
SUMMARY:Duo Sitkovetsky
DESCRIPTION:pianoforte				\n				\n					\n		\n					\n		\n				\n						\n					\n			\n						\n				\n							\n			\n		\n						\n				\n					\n		\n					\n		\n				\n						\n					\n			\n						\n				\n									Musiche di Chopin\, Takemitsu e Schubert
URL:https://www.acmtrioditrieste.it/evento/25-febbraio-2019-duo-sitkovetsky/
LOCATION:Ridotto del Teatro Verdi\, Riva Tre Novembre\, 1\, Trieste\, 34121\, Italia
CATEGORIES:Stagione Concertistica 2019
ATTACH;FMTTYPE=image/jpeg:https://www.acmtrioditrieste.it/wp-content/uploads/2023/01/foto.jpg
ORGANIZER;CN="Chamber Music Trieste":MAILTO:info@acmtrioditrieste.it
END:VEVENT
BEGIN:VEVENT
DTSTART;TZID=UTC:20190128T203000
DTEND;TZID=UTC:20190128T220000
DTSTAMP:20260420T211452
CREATED:20230110T091300Z
LAST-MODIFIED:20230110T155337Z
UID:21680-1548707400-1548712800@www.acmtrioditrieste.it
SUMMARY:Trio Mondrian
DESCRIPTION:pianoforte				\n				\n					\n		\n					\n		\n				\n						\n					\n			\n						\n				\n							\n			\n		\n						\n				\n					\n		\n					\n		\n				\n						\n					\n			\n						\n				\n									Musiche di Chopin\, Takemitsu e Schubert
URL:https://www.acmtrioditrieste.it/evento/28-gennaio-2019-trio-mondrian/
LOCATION:Ridotto del Teatro Verdi\, Riva Tre Novembre\, 1\, Trieste\, 34121\, Italia
CATEGORIES:Stagione Concertistica 2019
ATTACH;FMTTYPE=image/jpeg:https://www.acmtrioditrieste.it/wp-content/uploads/2023/01/Trio-Mondrian-1.jpg
ORGANIZER;CN="Chamber Music Trieste":MAILTO:info@acmtrioditrieste.it
END:VEVENT
BEGIN:VEVENT
DTSTART;TZID=UTC:20181210T180000
DTEND;TZID=UTC:20181210T190000
DTSTAMP:20260420T211452
CREATED:20230119T102657Z
LAST-MODIFIED:20230123T105917Z
UID:23517-1544464800-1544468400@www.acmtrioditrieste.it
SUMMARY:Ella Van Poucke
DESCRIPTION:pianoforte				\n				\n					\n		\n					\n		\n				\n						\n					\n			\n						\n				\n							\n			\n		\n						\n				\n					\n		\n					\n		\n				\n						\n					\n			\n						\n				\n									Musiche di Chopin\, Takemitsu e Schubert
URL:https://www.acmtrioditrieste.it/evento/ella-van-poucke/
LOCATION:Hotel Savoia\, Riva del Mandracchio\, 4\, Trieste\, 34124
CATEGORIES:Concerti straordinari
ATTACH;FMTTYPE=image/jpeg:https://www.acmtrioditrieste.it/wp-content/uploads/2023/01/base-2-1140x761-1140x761-3-1140x761-1.jpg
ORGANIZER;CN="Chamber Music Trieste":MAILTO:info@acmtrioditrieste.it
END:VEVENT
BEGIN:VEVENT
DTSTART;TZID=UTC:20181022T203000
DTEND;TZID=UTC:20181022T220000
DTSTAMP:20260420T211452
CREATED:20230111T143736Z
LAST-MODIFIED:20230111T143947Z
UID:22349-1540240200-1540245600@www.acmtrioditrieste.it
SUMMARY:Trio Gaon
DESCRIPTION:pianoforte				\n				\n					\n		\n					\n		\n				\n						\n					\n			\n						\n				\n							\n			\n		\n						\n				\n					\n		\n					\n		\n				\n						\n					\n			\n						\n				\n									Musiche di Chopin\, Takemitsu e Schubert
URL:https://www.acmtrioditrieste.it/evento/trio-gaon/
LOCATION:Ridotto del Teatro Verdi\, Riva Tre Novembre\, 1\, Trieste\, 34121\, Italia
CATEGORIES:Festival Pianistico 2018
ATTACH;FMTTYPE=image/jpeg:https://www.acmtrioditrieste.it/wp-content/uploads/2023/01/immagine-ok-5-1140x758-1140x758-1.jpg
ORGANIZER;CN="Chamber Music Trieste":MAILTO:info@acmtrioditrieste.it
END:VEVENT
BEGIN:VEVENT
DTSTART;TZID=UTC:20181021T110000
DTEND;TZID=UTC:20181021T120000
DTSTAMP:20260420T211452
CREATED:20230117T112128Z
LAST-MODIFIED:20230117T112432Z
UID:23420-1540119600-1540123200@www.acmtrioditrieste.it
SUMMARY:Quartetto Chagall e Maria Bertos
DESCRIPTION:pianoforte				\n				\n					\n		\n					\n		\n				\n						\n					\n			\n						\n				\n							\n			\n		\n						\n				\n					\n		\n					\n		\n				\n						\n					\n			\n						\n				\n									Musiche di Chopin\, Takemitsu e Schubert
URL:https://www.acmtrioditrieste.it/evento/quartetto-chagall-e-maria-bertos/
LOCATION:Palazzo Attems\, Piazza Edmondo De Amicis\, 2\, Gorizia\, Italia
CATEGORIES:Concerti Gorizia 2018
ATTACH;FMTTYPE=image/jpeg:https://www.acmtrioditrieste.it/wp-content/uploads/2023/01/base-2-1140x761-1140x761-3.jpg
ORGANIZER;CN="Chamber Music Trieste":MAILTO:info@acmtrioditrieste.it
END:VEVENT
BEGIN:VEVENT
DTSTART;TZID=UTC:20181015T203000
DTEND;TZID=UTC:20181015T220000
DTSTAMP:20260420T211452
CREATED:20230111T143519Z
LAST-MODIFIED:20230111T143622Z
UID:22350-1539635400-1539640800@www.acmtrioditrieste.it
SUMMARY:Volodymyr Lavrynenko
DESCRIPTION:pianoforte				\n				\n					\n		\n					\n		\n				\n						\n					\n			\n						\n				\n							\n			\n		\n						\n				\n					\n		\n					\n		\n				\n						\n					\n			\n						\n				\n									Musiche di Chopin\, Takemitsu e Schubert
URL:https://www.acmtrioditrieste.it/evento/volodymyr-lavrynenko/
LOCATION:Ridotto del Teatro Verdi\, Riva Tre Novembre\, 1\, Trieste\, 34121\, Italia
CATEGORIES:Festival Pianistico 2018
ATTACH;FMTTYPE=image/jpeg:https://www.acmtrioditrieste.it/wp-content/uploads/2023/01/base-3.jpg
ORGANIZER;CN="Chamber Music Trieste":MAILTO:info@acmtrioditrieste.it
END:VEVENT
BEGIN:VEVENT
DTSTART;TZID=UTC:20181014T110000
DTEND;TZID=UTC:20181014T120000
DTSTAMP:20260420T211452
CREATED:20230117T112510Z
LAST-MODIFIED:20230117T112556Z
UID:23429-1539514800-1539518400@www.acmtrioditrieste.it
SUMMARY:Ivana Damjanov
DESCRIPTION:pianoforte				\n				\n					\n		\n					\n		\n				\n						\n					\n			\n						\n				\n							\n			\n		\n						\n				\n					\n		\n					\n		\n				\n						\n					\n			\n						\n				\n									Musiche di Chopin\, Takemitsu e Schubert
URL:https://www.acmtrioditrieste.it/evento/ivana-damjanov/
LOCATION:Palazzo Attems\, Piazza Edmondo De Amicis\, 2\, Gorizia\, Italia
CATEGORIES:Concerti Gorizia 2018
ATTACH;FMTTYPE=image/jpeg:https://www.acmtrioditrieste.it/wp-content/uploads/2023/01/base-2-1140x761-1140x761-2.jpg
ORGANIZER;CN="Chamber Music Trieste":MAILTO:info@acmtrioditrieste.it
END:VEVENT
BEGIN:VEVENT
DTSTART;TZID=UTC:20181008T203000
DTEND;TZID=UTC:20181008T220000
DTSTAMP:20260420T211452
CREATED:20230111T143333Z
LAST-MODIFIED:20230111T143438Z
UID:22352-1539030600-1539036000@www.acmtrioditrieste.it
SUMMARY:Giuseppe Albanese
DESCRIPTION:pianoforte				\n				\n					\n		\n					\n		\n				\n						\n					\n			\n						\n				\n							\n			\n		\n						\n				\n					\n		\n					\n		\n				\n						\n					\n			\n						\n				\n									Musiche di Chopin\, Takemitsu e Schubert
URL:https://www.acmtrioditrieste.it/evento/giuseppe-albanese/
LOCATION:Ridotto del Teatro Verdi\, Riva Tre Novembre\, 1\, Trieste\, 34121\, Italia
CATEGORIES:Festival Pianistico 2018
ATTACH;FMTTYPE=image/jpeg:https://www.acmtrioditrieste.it/wp-content/uploads/2023/01/base-2.jpg
ORGANIZER;CN="Chamber Music Trieste":MAILTO:info@acmtrioditrieste.it
END:VEVENT
BEGIN:VEVENT
DTSTART;TZID=UTC:20181007T110000
DTEND;TZID=UTC:20181007T120000
DTSTAMP:20260420T211452
CREATED:20230117T112622Z
LAST-MODIFIED:20230117T112704Z
UID:23430-1538910000-1538913600@www.acmtrioditrieste.it
SUMMARY:Duo Di Benedetto – Mormone
DESCRIPTION:pianoforte				\n				\n					\n		\n					\n		\n				\n						\n					\n			\n						\n				\n							\n			\n		\n						\n				\n					\n		\n					\n		\n				\n						\n					\n			\n						\n				\n									Musiche di Chopin\, Takemitsu e Schubert
URL:https://www.acmtrioditrieste.it/evento/duo-di-benedetto-mormone/
LOCATION:Palazzo Attems\, Piazza Edmondo De Amicis\, 2\, Gorizia\, Italia
CATEGORIES:Concerti Gorizia 2018
ATTACH;FMTTYPE=image/jpeg:https://www.acmtrioditrieste.it/wp-content/uploads/2023/01/base-2-1140x761-1140x761-1.jpg
ORGANIZER;CN="Chamber Music Trieste":MAILTO:info@acmtrioditrieste.it
END:VEVENT
BEGIN:VEVENT
DTSTART;TZID=UTC:20181005T110000
DTEND;TZID=UTC:20181005T120000
DTSTAMP:20260420T211452
CREATED:20230117T112750Z
LAST-MODIFIED:20230117T112829Z
UID:23428-1538737200-1538740800@www.acmtrioditrieste.it
SUMMARY:Duo Sossai – Bolla
DESCRIPTION:pianoforte				\n				\n					\n		\n					\n		\n				\n						\n					\n			\n						\n				\n							\n			\n		\n						\n				\n					\n		\n					\n		\n				\n						\n					\n			\n						\n				\n									Musiche di Chopin\, Takemitsu e Schubert
URL:https://www.acmtrioditrieste.it/evento/duo-sossai-bolla-2/
LOCATION:Palazzo Attems\, Piazza Edmondo De Amicis\, 2\, Gorizia\, Italia
CATEGORIES:Concerti Gorizia 2018
ATTACH;FMTTYPE=image/jpeg:https://www.acmtrioditrieste.it/wp-content/uploads/2023/01/base-2-1140x761-1.jpg
ORGANIZER;CN="Chamber Music Trieste":MAILTO:info@acmtrioditrieste.it
END:VEVENT
BEGIN:VEVENT
DTSTART;TZID=UTC:20181001T203000
DTEND;TZID=UTC:20181001T220000
DTSTAMP:20260420T211452
CREATED:20230111T143126Z
LAST-MODIFIED:20230111T143242Z
UID:22351-1538425800-1538431200@www.acmtrioditrieste.it
SUMMARY:Antonii Baryshevskyi
DESCRIPTION:pianoforte				\n				\n					\n		\n					\n		\n				\n						\n					\n			\n						\n				\n							\n			\n		\n						\n				\n					\n		\n					\n		\n				\n						\n					\n			\n						\n				\n									Musiche di Chopin\, Takemitsu e Schubert
URL:https://www.acmtrioditrieste.it/evento/antonii-baryshevskyi/
LOCATION:Ridotto del Teatro Verdi\, Riva Tre Novembre\, 1\, Trieste\, 34121\, Italia
CATEGORIES:Festival Pianistico 2018
ATTACH;FMTTYPE=image/jpeg:https://www.acmtrioditrieste.it/wp-content/uploads/2023/01/base-1.jpg
ORGANIZER;CN="Chamber Music Trieste":MAILTO:info@acmtrioditrieste.it
END:VEVENT
BEGIN:VEVENT
DTSTART;TZID=UTC:20180924T203000
DTEND;TZID=UTC:20180924T220000
DTSTAMP:20260420T211452
CREATED:20230111T142935Z
LAST-MODIFIED:20230111T143050Z
UID:22353-1537821000-1537826400@www.acmtrioditrieste.it
SUMMARY:Martina Filjak
DESCRIPTION:pianoforte				\n				\n					\n		\n					\n		\n				\n						\n					\n			\n						\n				\n							\n			\n		\n						\n				\n					\n		\n					\n		\n				\n						\n					\n			\n						\n				\n									Musiche di Chopin\, Takemitsu e Schubert
URL:https://www.acmtrioditrieste.it/evento/martina-filjak/
LOCATION:Ridotto del Teatro Verdi\, Riva Tre Novembre\, 1\, Trieste\, 34121\, Italia
CATEGORIES:Festival Pianistico 2018
ATTACH;FMTTYPE=image/jpeg:https://www.acmtrioditrieste.it/wp-content/uploads/2023/01/base.jpg
ORGANIZER;CN="Chamber Music Trieste":MAILTO:info@acmtrioditrieste.it
END:VEVENT
BEGIN:VEVENT
DTSTART;TZID=UTC:20180917T203000
DTEND;TZID=UTC:20180917T220000
DTSTAMP:20260420T211452
CREATED:20230111T142643Z
LAST-MODIFIED:20230111T142808Z
UID:22343-1537216200-1537221600@www.acmtrioditrieste.it
SUMMARY:Alexander Melnikov
DESCRIPTION:pianoforte				\n				\n					\n		\n					\n		\n				\n						\n					\n			\n						\n				\n							\n			\n		\n						\n				\n					\n		\n					\n		\n				\n						\n					\n			\n						\n				\n									Musiche di Chopin\, Takemitsu e Schubert
URL:https://www.acmtrioditrieste.it/evento/alexander-melnikov/
LOCATION:Ridotto del Teatro Verdi\, Riva Tre Novembre\, 1\, Trieste\, 34121\, Italia
CATEGORIES:Festival Pianistico 2018
ATTACH;FMTTYPE=image/jpeg:https://www.acmtrioditrieste.it/wp-content/uploads/2023/01/immagine-ok-5-1140x758-1.jpg
ORGANIZER;CN="Chamber Music Trieste":MAILTO:info@acmtrioditrieste.it
END:VEVENT
BEGIN:VEVENT
DTSTART;TZID=UTC:20180514T203000
DTEND;TZID=UTC:20180514T223000
DTSTAMP:20260420T211452
CREATED:20230110T111527Z
LAST-MODIFIED:20230110T155243Z
UID:21771-1526329800-1526337000@www.acmtrioditrieste.it
SUMMARY:Quartetto Adorno
DESCRIPTION:pianoforte				\n				\n					\n		\n					\n		\n				\n						\n					\n			\n						\n				\n							\n			\n		\n						\n				\n					\n		\n					\n		\n				\n						\n					\n			\n						\n				\n									Musiche di Chopin\, Takemitsu e Schubert
URL:https://www.acmtrioditrieste.it/evento/14-maggio-2018-quartetto-adorno/
LOCATION:Ridotto del Teatro Verdi\, Riva Tre Novembre\, 1\, Trieste\, 34121\, Italia
CATEGORIES:Stagione Concertistica 2018
ATTACH;FMTTYPE=image/jpeg:https://www.acmtrioditrieste.it/wp-content/uploads/2023/01/immagine-ok-5.jpg
ORGANIZER;CN="Chamber Music Trieste":MAILTO:info@acmtrioditrieste.it
END:VEVENT
BEGIN:VEVENT
DTSTART;TZID=UTC:20180507T203000
DTEND;TZID=UTC:20180507T223000
DTSTAMP:20260420T211452
CREATED:20230110T110918Z
LAST-MODIFIED:20230110T155153Z
UID:21772-1525725000-1525732200@www.acmtrioditrieste.it
SUMMARY:Trio Metamorphosi
DESCRIPTION:pianoforte				\n				\n					\n		\n					\n		\n				\n						\n					\n			\n						\n				\n							\n			\n		\n						\n				\n					\n		\n					\n		\n				\n						\n					\n			\n						\n				\n									Musiche di Chopin\, Takemitsu e Schubert
URL:https://www.acmtrioditrieste.it/evento/7-maggio-2018-trio-metamorphosi/
LOCATION:Ridotto del Teatro Verdi\, Riva Tre Novembre\, 1\, Trieste\, 34121\, Italia
CATEGORIES:Stagione Concertistica 2018
ATTACH;FMTTYPE=image/jpeg:https://www.acmtrioditrieste.it/wp-content/uploads/2023/01/immagine-ok-4.jpg
ORGANIZER;CN="Chamber Music Trieste":MAILTO:info@acmtrioditrieste.it
END:VEVENT
BEGIN:VEVENT
DTSTART;TZID=UTC:20180430T203000
DTEND;TZID=UTC:20180430T223000
DTSTAMP:20260420T211452
CREATED:20230110T110553Z
LAST-MODIFIED:20230110T155027Z
UID:21742-1525120200-1525127400@www.acmtrioditrieste.it
SUMMARY:Duo Sinagra – Cossi
DESCRIPTION:pianoforte				\n				\n					\n		\n					\n		\n				\n						\n					\n			\n						\n				\n							\n			\n		\n						\n				\n					\n		\n					\n		\n				\n						\n					\n			\n						\n				\n									Musiche di Chopin\, Takemitsu e Schubert
URL:https://www.acmtrioditrieste.it/evento/30-aprile-2018-duo-sinagra-cossi/
LOCATION:Ridotto del Teatro Verdi\, Riva Tre Novembre\, 1\, Trieste\, 34121\, Italia
CATEGORIES:Stagione Concertistica 2018
ATTACH;FMTTYPE=image/jpeg:https://www.acmtrioditrieste.it/wp-content/uploads/2023/01/base-2-2.jpg
ORGANIZER;CN="Chamber Music Trieste":MAILTO:info@acmtrioditrieste.it
END:VEVENT
BEGIN:VEVENT
DTSTART;TZID=UTC:20180429T110000
DTEND;TZID=UTC:20180429T123000
DTSTAMP:20260420T211452
CREATED:20230113T184513Z
LAST-MODIFIED:20230113T190110Z
UID:22933-1524999600-1525005000@www.acmtrioditrieste.it
SUMMARY:Igor Zobin & Quartetto Chagall
DESCRIPTION:pianoforte				\n				\n					\n		\n					\n		\n				\n						\n					\n			\n						\n				\n							\n			\n		\n						\n				\n					\n		\n					\n		\n				\n						\n					\n			\n						\n				\n									Musiche di Chopin\, Takemitsu e Schubert
URL:https://www.acmtrioditrieste.it/evento/igor-zobin-quartetto-chagall/
LOCATION:Circolo Ufficiali\, Via Dell' Universita'\, 8\, Trieste
CATEGORIES:Aperitivo Classico,Aperitivo Classico 2018
ATTACH;FMTTYPE=image/jpeg:https://www.acmtrioditrieste.it/wp-content/uploads/2023/01/base-2-2-1.jpg
ORGANIZER;CN="Chamber Music Trieste":MAILTO:info@acmtrioditrieste.it
END:VEVENT
BEGIN:VEVENT
DTSTART;TZID=UTC:20180423T203000
DTEND;TZID=UTC:20180423T223000
DTSTAMP:20260420T211452
CREATED:20230110T110202Z
LAST-MODIFIED:20230110T154948Z
UID:21741-1524515400-1524522600@www.acmtrioditrieste.it
SUMMARY:I Virtuosi Italiani – Maria e Nathalia Milstein
DESCRIPTION:pianoforte				\n				\n					\n		\n					\n		\n				\n						\n					\n			\n						\n				\n							\n			\n		\n						\n				\n					\n		\n					\n		\n				\n						\n					\n			\n						\n				\n									Musiche di Chopin\, Takemitsu e Schubert
URL:https://www.acmtrioditrieste.it/evento/23-aprile-2018-i-virtuosi-italiani-maria-e-nathalia-milstein/
LOCATION:Ridotto del Teatro Verdi\, Riva Tre Novembre\, 1\, Trieste\, 34121\, Italia
CATEGORIES:Stagione Concertistica 2018
ATTACH;FMTTYPE=image/jpeg:https://www.acmtrioditrieste.it/wp-content/uploads/2023/01/base-2-1.jpg
ORGANIZER;CN="Chamber Music Trieste":MAILTO:info@acmtrioditrieste.it
END:VEVENT
BEGIN:VEVENT
DTSTART;TZID=UTC:20180422T110000
DTEND;TZID=UTC:20180422T123000
DTSTAMP:20260420T211452
CREATED:20230113T184922Z
LAST-MODIFIED:20230113T185027Z
UID:22945-1524394800-1524400200@www.acmtrioditrieste.it
SUMMARY:Duo Aspera
DESCRIPTION:pianoforte				\n				\n					\n		\n					\n		\n				\n						\n					\n			\n						\n				\n							\n			\n		\n						\n				\n					\n		\n					\n		\n				\n						\n					\n			\n						\n				\n									Musiche di Chopin\, Takemitsu e Schubert
URL:https://www.acmtrioditrieste.it/evento/duo-aspera/
LOCATION:Circolo Ufficiali\, Via Dell' Universita'\, 8\, Trieste
CATEGORIES:Aperitivo Classico,Aperitivo Classico 2018
ATTACH;FMTTYPE=image/jpeg:https://www.acmtrioditrieste.it/wp-content/uploads/2023/01/base-2-1-1.jpg
ORGANIZER;CN="Chamber Music Trieste":MAILTO:info@acmtrioditrieste.it
END:VEVENT
BEGIN:VEVENT
DTSTART;TZID=UTC:20180416T203000
DTEND;TZID=UTC:20180416T223000
DTSTAMP:20260420T211452
CREATED:20230110T105808Z
LAST-MODIFIED:20230110T154816Z
UID:21739-1523910600-1523917800@www.acmtrioditrieste.it
SUMMARY:Slowind e Aleksandar Madžar
DESCRIPTION:pianoforte				\n				\n					\n		\n					\n		\n				\n						\n					\n			\n						\n				\n							\n			\n		\n						\n				\n					\n		\n					\n		\n				\n						\n					\n			\n						\n				\n									Musiche di Chopin\, Takemitsu e Schubert
URL:https://www.acmtrioditrieste.it/evento/16-aprile-2018-slowind-e-aleksandar-madzar/
LOCATION:Ridotto del Teatro Verdi\, Riva Tre Novembre\, 1\, Trieste\, 34121\, Italia
CATEGORIES:Stagione Concertistica 2018
ATTACH;FMTTYPE=image/jpeg:https://www.acmtrioditrieste.it/wp-content/uploads/2023/01/immagine-ok-1.jpg
ORGANIZER;CN="Chamber Music Trieste":MAILTO:info@acmtrioditrieste.it
END:VEVENT
BEGIN:VEVENT
DTSTART;TZID=UTC:20180415T110000
DTEND;TZID=UTC:20180415T123000
DTSTAMP:20260420T211452
CREATED:20230113T185110Z
LAST-MODIFIED:20230114T181606Z
UID:22943-1523790000-1523795400@www.acmtrioditrieste.it
SUMMARY:Sebastian di Bin
DESCRIPTION:pianoforte				\n				\n					\n		\n					\n		\n				\n						\n					\n			\n						\n				\n							\n			\n		\n						\n				\n					\n		\n					\n		\n				\n						\n					\n			\n						\n				\n									Musiche di Chopin\, Takemitsu e Schubert
URL:https://www.acmtrioditrieste.it/evento/duo-aspera-2/
LOCATION:Circolo Ufficiali\, Via Dell' Universita'\, 8\, Trieste
CATEGORIES:Aperitivo Classico,Aperitivo Classico 2018
ATTACH;FMTTYPE=image/jpeg:https://www.acmtrioditrieste.it/wp-content/uploads/2023/01/base-2-3.jpg
ORGANIZER;CN="Chamber Music Trieste":MAILTO:info@acmtrioditrieste.it
END:VEVENT
BEGIN:VEVENT
DTSTART;TZID=UTC:20180319T203000
DTEND;TZID=UTC:20180319T223000
DTSTAMP:20260420T211452
CREATED:20230110T105423Z
LAST-MODIFIED:20230110T154739Z
UID:21740-1521491400-1521498600@www.acmtrioditrieste.it
SUMMARY:Leipzig String Quartet
DESCRIPTION:pianoforte				\n				\n					\n		\n					\n		\n				\n						\n					\n			\n						\n				\n							\n			\n		\n						\n				\n					\n		\n					\n		\n				\n						\n					\n			\n						\n				\n									Musiche di Chopin\, Takemitsu e Schubert
URL:https://www.acmtrioditrieste.it/evento/19-marzo-2018-leipzig-string-quartet/
LOCATION:Ridotto del Teatro Verdi\, Riva Tre Novembre\, 1\, Trieste\, 34121\, Italia
CATEGORIES:Stagione Concertistica 2018
ATTACH;FMTTYPE=image/jpeg:https://www.acmtrioditrieste.it/wp-content/uploads/2023/01/immagine-ok.jpg
ORGANIZER;CN="Chamber Music Trieste":MAILTO:info@acmtrioditrieste.it
END:VEVENT
BEGIN:VEVENT
DTSTART;TZID=UTC:20180306T110000
DTEND;TZID=UTC:20180306T123000
DTSTAMP:20260420T211452
CREATED:20230113T185347Z
LAST-MODIFIED:20230113T185605Z
UID:22944-1520334000-1520339400@www.acmtrioditrieste.it
SUMMARY:Quartetto Chagall
DESCRIPTION:pianoforte				\n				\n					\n		\n					\n		\n				\n						\n					\n			\n						\n				\n							\n			\n		\n						\n				\n					\n		\n					\n		\n				\n						\n					\n			\n						\n				\n									Musiche di Chopin\, Takemitsu e Schubert
URL:https://www.acmtrioditrieste.it/evento/igor-zobin-quartetto-chagall-_duplicato/
LOCATION:Chiesa di Santa Chiara
CATEGORIES:Aperitivo Classico,Aperitivo Classico 2018
ATTACH;FMTTYPE=image/jpeg:https://www.acmtrioditrieste.it/wp-content/uploads/2023/01/base-2-1-2.jpg
ORGANIZER;CN="Chamber Music Trieste":MAILTO:info@acmtrioditrieste.it
END:VEVENT
BEGIN:VEVENT
DTSTART;TZID=UTC:20180220T110000
DTEND;TZID=UTC:20180220T123000
DTSTAMP:20260420T211452
CREATED:20230113T185720Z
LAST-MODIFIED:20230113T185823Z
UID:22941-1519124400-1519129800@www.acmtrioditrieste.it
SUMMARY:Duo Mesaglio – Merici
DESCRIPTION:pianoforte				\n				\n					\n		\n					\n		\n				\n						\n					\n			\n						\n				\n							\n			\n		\n						\n				\n					\n		\n					\n		\n				\n						\n					\n			\n						\n				\n									Musiche di Chopin\, Takemitsu e Schubert
URL:https://www.acmtrioditrieste.it/evento/duo-mesaglio-merici/
LOCATION:Chiesa di Santa Chiara
CATEGORIES:Aperitivo Classico,Aperitivo Classico 2018
ATTACH;FMTTYPE=image/jpeg:https://www.acmtrioditrieste.it/wp-content/uploads/2023/01/base-1-1.jpg
ORGANIZER;CN="Chamber Music Trieste":MAILTO:info@acmtrioditrieste.it
END:VEVENT
BEGIN:VEVENT
DTSTART;TZID=UTC:20180219T203000
DTEND;TZID=UTC:20180219T223000
DTSTAMP:20260420T211452
CREATED:20230110T104437Z
LAST-MODIFIED:20230110T154704Z
UID:21738-1519072200-1519079400@www.acmtrioditrieste.it
SUMMARY:I Cameristi di S. Cecilia
DESCRIPTION:pianoforte				\n				\n					\n		\n					\n		\n				\n						\n					\n			\n						\n				\n							\n			\n		\n						\n				\n					\n		\n					\n		\n				\n						\n					\n			\n						\n				\n									Musiche di Chopin\, Takemitsu e Schubert
URL:https://www.acmtrioditrieste.it/evento/19-febbraio-2018-i-cameristi-di-s-cecilia/
LOCATION:Ridotto del Teatro Verdi\, Riva Tre Novembre\, 1\, Trieste\, 34121\, Italia
CATEGORIES:Stagione Concertistica 2018
ATTACH;FMTTYPE=image/jpeg:https://www.acmtrioditrieste.it/wp-content/uploads/2023/01/cameristi-di-Santa-Cecilia.jpg
ORGANIZER;CN="Chamber Music Trieste":MAILTO:info@acmtrioditrieste.it
END:VEVENT
BEGIN:VEVENT
DTSTART;TZID=UTC:20180206T110000
DTEND;TZID=UTC:20180206T123000
DTSTAMP:20260420T211452
CREATED:20230113T185930Z
LAST-MODIFIED:20230113T190040Z
UID:22942-1517914800-1517920200@www.acmtrioditrieste.it
SUMMARY:Duo Sossai – Bolla
DESCRIPTION:pianoforte				\n				\n					\n		\n					\n		\n				\n						\n					\n			\n						\n				\n							\n			\n		\n						\n				\n					\n		\n					\n		\n				\n						\n					\n			\n						\n				\n									Musiche di Chopin\, Takemitsu e Schubert
URL:https://www.acmtrioditrieste.it/evento/duo-sossai-bolla/
LOCATION:Aula Magna Collegio Educandato Uccellis
CATEGORIES:Aperitivo Classico,Aperitivo Classico 2018
ATTACH;FMTTYPE=image/jpeg:https://www.acmtrioditrieste.it/wp-content/uploads/2023/01/base-4.jpg
ORGANIZER;CN="Chamber Music Trieste":MAILTO:info@acmtrioditrieste.it
END:VEVENT
END:VCALENDAR