BEGIN:VCALENDAR
VERSION:2.0
PRODID:-//ACM Associazione Chamber Music - ECPv6.3.7//NONSGML v1.0//EN
CALSCALE:GREGORIAN
METHOD:PUBLISH
X-ORIGINAL-URL:https://www.acmtrioditrieste.it
X-WR-CALDESC:Events for ACM Associazione Chamber Music
REFRESH-INTERVAL;VALUE=DURATION:PT1H
X-Robots-Tag:noindex
X-PUBLISHED-TTL:PT1H
BEGIN:VTIMEZONE
TZID:UTC
BEGIN:STANDARD
TZOFFSETFROM:+0000
TZOFFSETTO:+0000
TZNAME:UTC
DTSTART:20180101T000000
END:STANDARD
END:VTIMEZONE
BEGIN:VEVENT
DTSTART;TZID=UTC:20200907T000000
DTEND;TZID=UTC:20200907T235900
DTSTAMP:20260420T074336
CREATED:20230109T161311Z
LAST-MODIFIED:20230110T160415Z
UID:21612-1599436800-1599523140@www.acmtrioditrieste.it
SUMMARY:Marco Scolastra e Sandro Cappelletto
DESCRIPTION:musiche di P.I. Tchaikovsky (Berceuse)\, E.A. Walter-Kuhne (Fantasia)\, M. Glinka – M. Balakirev (L’Alouette)\, C. Debussy (Arabesque I e II). H. Trnecek (Fantasia) e F. Tarrega (Recuerdos de la Alhambra)
URL:https://www.acmtrioditrieste.it/evento/7-settembre-2020-marco-scolastra-e-sandro-cappelletto/
LOCATION:Teatro Miela\, Piazza Luigi Amedeo Duca degli Abruzzi\, 3\, 34132\, Trieste\, 34132\, Italy
CATEGORIES:Stagione Concertistica 2020
ATTACH;FMTTYPE=image/jpeg:https://www.acmtrioditrieste.it/wp-content/uploads/2023/01/foto2.jpg
ORGANIZER;CN="Chamber Music Trieste":MAILTO:info@acmtrioditrieste.it
END:VEVENT
BEGIN:VEVENT
DTSTART;TZID=UTC:20200625T180000
DTEND;TZID=UTC:20200625T235900
DTSTAMP:20260420T074337
CREATED:20230109T161715Z
LAST-MODIFIED:20230110T160303Z
UID:21611-1593108000-1593129540@www.acmtrioditrieste.it
SUMMARY:Trio Sossai-Dalsass-Bolla
DESCRIPTION:musiche di P.I. Tchaikovsky (Berceuse)\, E.A. Walter-Kuhne (Fantasia)\, M. Glinka – M. Balakirev (L’Alouette)\, C. Debussy (Arabesque I e II). H. Trnecek (Fantasia) e F. Tarrega (Recuerdos de la Alhambra)
URL:https://www.acmtrioditrieste.it/evento/25-giugno-2020-trio-sossai-dalsass-bolla/
LOCATION:Teatro Miela\, Piazza Luigi Amedeo Duca degli Abruzzi\, 3\, 34132\, Trieste\, 34132\, Italy
CATEGORIES:Stagione Concertistica 2020
ATTACH;FMTTYPE=image/jpeg:https://www.acmtrioditrieste.it/wp-content/uploads/2023/01/79685145_2777813708931488_8385599280919871488_o.jpg
ORGANIZER;CN="Chamber Music Trieste":MAILTO:info@acmtrioditrieste.it
END:VEVENT
BEGIN:VEVENT
DTSTART;TZID=UTC:20200622T180000
DTEND;TZID=UTC:20200622T235900
DTSTAMP:20260420T074337
CREATED:20230109T162229Z
LAST-MODIFIED:20230110T160231Z
UID:21644-1592848800-1592870340@www.acmtrioditrieste.it
SUMMARY:Duo Van Poucke
DESCRIPTION:musiche di P.I. Tchaikovsky (Berceuse)\, E.A. Walter-Kuhne (Fantasia)\, M. Glinka – M. Balakirev (L’Alouette)\, C. Debussy (Arabesque I e II). H. Trnecek (Fantasia) e F. Tarrega (Recuerdos de la Alhambra)
URL:https://www.acmtrioditrieste.it/evento/22-giugno-2020-duo-van-poucke/
LOCATION:Teatro Miela\, Piazza Luigi Amedeo Duca degli Abruzzi\, 3\, 34132\, Trieste\, 34132\, Italy
CATEGORIES:Stagione Concertistica 2020
ATTACH;FMTTYPE=image/jpeg:https://www.acmtrioditrieste.it/wp-content/uploads/2023/01/image.jpg
ORGANIZER;CN="Chamber Music Trieste":MAILTO:info@acmtrioditrieste.it
END:VEVENT
BEGIN:VEVENT
DTSTART;TZID=UTC:20200618T180000
DTEND;TZID=UTC:20200618T235900
DTSTAMP:20260420T074337
CREATED:20230109T162656Z
LAST-MODIFIED:20230110T160206Z
UID:21651-1592503200-1592524740@www.acmtrioditrieste.it
SUMMARY:Duo Leskovar-Filjak
DESCRIPTION:musiche di P.I. Tchaikovsky (Berceuse)\, E.A. Walter-Kuhne (Fantasia)\, M. Glinka – M. Balakirev (L’Alouette)\, C. Debussy (Arabesque I e II). H. Trnecek (Fantasia) e F. Tarrega (Recuerdos de la Alhambra)
URL:https://www.acmtrioditrieste.it/evento/18-giugno-2020-duo-leskovar-filjak/
LOCATION:Teatro Miela\, Piazza Luigi Amedeo Duca degli Abruzzi\, 3\, 34132\, Trieste\, 34132\, Italy
CATEGORIES:Stagione Concertistica 2020
ATTACH;FMTTYPE=image/jpeg:https://www.acmtrioditrieste.it/wp-content/uploads/2023/01/foto-2.jpg
ORGANIZER;CN="Chamber Music Trieste":MAILTO:info@acmtrioditrieste.it
END:VEVENT
BEGIN:VEVENT
DTSTART;TZID=UTC:20200304T203000
DTEND;TZID=UTC:20200304T235900
DTSTAMP:20260420T074337
CREATED:20230109T162933Z
LAST-MODIFIED:20230110T160145Z
UID:21652-1583353800-1583366340@www.acmtrioditrieste.it
SUMMARY:Luigi Piovano
DESCRIPTION:musiche di P.I. Tchaikovsky (Berceuse)\, E.A. Walter-Kuhne (Fantasia)\, M. Glinka – M. Balakirev (L’Alouette)\, C. Debussy (Arabesque I e II). H. Trnecek (Fantasia) e F. Tarrega (Recuerdos de la Alhambra)
URL:https://www.acmtrioditrieste.it/evento/4-marzo-2020-luigi-piovano/
LOCATION:Teatro Miela\, Piazza Luigi Amedeo Duca degli Abruzzi\, 3\, 34132\, Trieste\, 34132\, Italy
CATEGORIES:Stagione Concertistica 2020
ATTACH;FMTTYPE=image/jpeg:https://www.acmtrioditrieste.it/wp-content/uploads/2023/01/Luigi-Piovano-Large-1140x760-1.jpg
ORGANIZER;CN="Chamber Music Trieste":MAILTO:info@acmtrioditrieste.it
END:VEVENT
BEGIN:VEVENT
DTSTART;TZID=UTC:20200219T200000
DTEND;TZID=UTC:20200219T235900
DTSTAMP:20260420T074337
CREATED:20230109T163315Z
LAST-MODIFIED:20230110T160020Z
UID:21645-1582142400-1582156740@www.acmtrioditrieste.it
SUMMARY:Sitkovetsky Piano Trio
DESCRIPTION:musiche di P.I. Tchaikovsky (Berceuse)\, E.A. Walter-Kuhne (Fantasia)\, M. Glinka – M. Balakirev (L’Alouette)\, C. Debussy (Arabesque I e II). H. Trnecek (Fantasia) e F. Tarrega (Recuerdos de la Alhambra)
URL:https://www.acmtrioditrieste.it/evento/19-febbraio-2020-sitkovetsky-piano-trio/
LOCATION:Teatro Miela\, Piazza Luigi Amedeo Duca degli Abruzzi\, 3\, 34132\, Trieste\, 34132\, Italy
CATEGORIES:Stagione Concertistica 2020
ATTACH;FMTTYPE=image/jpeg:https://www.acmtrioditrieste.it/wp-content/uploads/2023/01/2019_02KVI_SitkovetskyTrio_web.jpg
ORGANIZER;CN="Chamber Music Trieste":MAILTO:info@acmtrioditrieste.it
END:VEVENT
BEGIN:VEVENT
DTSTART;TZID=UTC:20200205T203000
DTEND;TZID=UTC:20200205T235900
DTSTAMP:20260420T074337
CREATED:20230109T163643Z
LAST-MODIFIED:20230110T155944Z
UID:21653-1580934600-1580947140@www.acmtrioditrieste.it
SUMMARY:Quartetto Adorno con Simone Gramaglia
DESCRIPTION:musiche di P.I. Tchaikovsky (Berceuse)\, E.A. Walter-Kuhne (Fantasia)\, M. Glinka – M. Balakirev (L’Alouette)\, C. Debussy (Arabesque I e II). H. Trnecek (Fantasia) e F. Tarrega (Recuerdos de la Alhambra)
URL:https://www.acmtrioditrieste.it/evento/5-febbraio-2020-quartetto-adorno-con-simone-gramaglia/
LOCATION:Teatro Miela\, Piazza Luigi Amedeo Duca degli Abruzzi\, 3\, 34132\, Trieste\, 34132\, Italy
CATEGORIES:Stagione Concertistica 2020
ATTACH;FMTTYPE=image/jpeg:https://www.acmtrioditrieste.it/wp-content/uploads/2023/01/adorno_gramaglia-1140x604-1.jpg
ORGANIZER;CN="Chamber Music Trieste":MAILTO:info@acmtrioditrieste.it
END:VEVENT
BEGIN:VEVENT
DTSTART;TZID=UTC:20200129T203000
DTEND;TZID=UTC:20200129T235900
DTSTAMP:20260420T074337
CREATED:20230109T164013Z
LAST-MODIFIED:20230110T155911Z
UID:21674-1580329800-1580342340@www.acmtrioditrieste.it
SUMMARY:Trio Chagall
DESCRIPTION:musiche di P.I. Tchaikovsky (Berceuse)\, E.A. Walter-Kuhne (Fantasia)\, M. Glinka – M. Balakirev (L’Alouette)\, C. Debussy (Arabesque I e II). H. Trnecek (Fantasia) e F. Tarrega (Recuerdos de la Alhambra)
URL:https://www.acmtrioditrieste.it/evento/29-gennaio-2020-trio-chagall/
LOCATION:Teatro Miela\, Piazza Luigi Amedeo Duca degli Abruzzi\, 3\, 34132\, Trieste\, 34132\, Italy
CATEGORIES:Stagione Concertistica 2020
ATTACH;FMTTYPE=image/jpeg:https://www.acmtrioditrieste.it/wp-content/uploads/2023/01/Trio-Chagall_OK-1140x760-1.jpg
ORGANIZER;CN="Chamber Music Trieste":MAILTO:info@acmtrioditrieste.it
END:VEVENT
BEGIN:VEVENT
DTSTART;TZID=UTC:20191028T203000
DTEND;TZID=UTC:20191028T220000
DTSTAMP:20260420T074337
CREATED:20230111T141853Z
LAST-MODIFIED:20230111T141951Z
UID:22322-1572294600-1572300000@www.acmtrioditrieste.it
SUMMARY:Maurizio Baglini & I Virtuosi Italiani
DESCRIPTION:musiche di P.I. Tchaikovsky (Berceuse)\, E.A. Walter-Kuhne (Fantasia)\, M. Glinka – M. Balakirev (L’Alouette)\, C. Debussy (Arabesque I e II). H. Trnecek (Fantasia) e F. Tarrega (Recuerdos de la Alhambra)
URL:https://www.acmtrioditrieste.it/evento/maurizio-baglini-i-virtuosi-italiani/
LOCATION:Ridotto del Teatro Verdi\, Riva Tre Novembre\, 1\, Trieste\, 34121\, Italia
CATEGORIES:Festival Pianistico 2019
ATTACH;FMTTYPE=image/jpeg:https://www.acmtrioditrieste.it/wp-content/uploads/2023/01/foto-1140x506-1.jpg
ORGANIZER;CN="Chamber Music Trieste":MAILTO:info@acmtrioditrieste.it
END:VEVENT
BEGIN:VEVENT
DTSTART;TZID=UTC:20191027T180000
DTEND;TZID=UTC:20191027T190000
DTSTAMP:20260420T074337
CREATED:20230117T111533Z
LAST-MODIFIED:20230117T111730Z
UID:23400-1572199200-1572202800@www.acmtrioditrieste.it
SUMMARY:Duo Veles & Duo Perišić – Tull
DESCRIPTION:musiche di P.I. Tchaikovsky (Berceuse)\, E.A. Walter-Kuhne (Fantasia)\, M. Glinka – M. Balakirev (L’Alouette)\, C. Debussy (Arabesque I e II). H. Trnecek (Fantasia) e F. Tarrega (Recuerdos de la Alhambra)
URL:https://www.acmtrioditrieste.it/evento/duo-veles-duo-perisic-tull/
LOCATION:PALAZZO DE GRAZIA\, Via Oberdan 15\, Gorizia
CATEGORIES:Concerti Gorizia 2019
ATTACH;FMTTYPE=image/jpeg:https://www.acmtrioditrieste.it/wp-content/uploads/2023/01/Duo-Veles-copia-1140x477-1.jpg
ORGANIZER;CN="Chamber Music Trieste":MAILTO:info@acmtrioditrieste.it
END:VEVENT
BEGIN:VEVENT
DTSTART;TZID=UTC:20191021T203000
DTEND;TZID=UTC:20191021T220000
DTSTAMP:20260420T074337
CREATED:20230111T142400Z
LAST-MODIFIED:20230111T142449Z
UID:22319-1571689800-1571695200@www.acmtrioditrieste.it
SUMMARY:Tae-Hyung Kim
DESCRIPTION:musiche di P.I. Tchaikovsky (Berceuse)\, E.A. Walter-Kuhne (Fantasia)\, M. Glinka – M. Balakirev (L’Alouette)\, C. Debussy (Arabesque I e II). H. Trnecek (Fantasia) e F. Tarrega (Recuerdos de la Alhambra)
URL:https://www.acmtrioditrieste.it/evento/tae-hyung-kim/
LOCATION:Ridotto del Teatro Verdi\, Riva Tre Novembre\, 1\, Trieste\, 34121\, Italia
CATEGORIES:Festival Pianistico 2019
ATTACH;FMTTYPE=image/jpeg:https://www.acmtrioditrieste.it/wp-content/uploads/2023/01/4.TaeHyungKim.jpg
ORGANIZER;CN="Chamber Music Trieste":MAILTO:info@acmtrioditrieste.it
END:VEVENT
BEGIN:VEVENT
DTSTART;TZID=UTC:20191020T180000
DTEND;TZID=UTC:20191020T190000
DTSTAMP:20260420T074337
CREATED:20230117T111403Z
LAST-MODIFIED:20230117T111501Z
UID:23402-1571594400-1571598000@www.acmtrioditrieste.it
SUMMARY:Erica Piccotti
DESCRIPTION:musiche di P.I. Tchaikovsky (Berceuse)\, E.A. Walter-Kuhne (Fantasia)\, M. Glinka – M. Balakirev (L’Alouette)\, C. Debussy (Arabesque I e II). H. Trnecek (Fantasia) e F. Tarrega (Recuerdos de la Alhambra)
URL:https://www.acmtrioditrieste.it/evento/erica-piccotti/
LOCATION:PALAZZO DE GRAZIA\, Via Oberdan 15\, Gorizia
CATEGORIES:Concerti Gorizia 2019
ATTACH;FMTTYPE=image/jpeg:https://www.acmtrioditrieste.it/wp-content/uploads/2023/01/piccotti-3-1140x760-1.jpg
ORGANIZER;CN="Chamber Music Trieste":MAILTO:info@acmtrioditrieste.it
END:VEVENT
BEGIN:VEVENT
DTSTART;TZID=UTC:20191014T203000
DTEND;TZID=UTC:20191014T220000
DTSTAMP:20260420T074337
CREATED:20230111T142237Z
LAST-MODIFIED:20230111T142328Z
UID:22321-1571085000-1571090400@www.acmtrioditrieste.it
SUMMARY:Nathalia Milstein
DESCRIPTION:musiche di P.I. Tchaikovsky (Berceuse)\, E.A. Walter-Kuhne (Fantasia)\, M. Glinka – M. Balakirev (L’Alouette)\, C. Debussy (Arabesque I e II). H. Trnecek (Fantasia) e F. Tarrega (Recuerdos de la Alhambra)
URL:https://www.acmtrioditrieste.it/evento/nathalia-milstein/
LOCATION:Ridotto del Teatro Verdi\, Riva Tre Novembre\, 1\, Trieste\, 34121\, Italia
CATEGORIES:Festival Pianistico 2019
ATTACH;FMTTYPE=image/jpeg:https://www.acmtrioditrieste.it/wp-content/uploads/2023/01/3.-Nathalia-Milstein.jpg
ORGANIZER;CN="Chamber Music Trieste":MAILTO:info@acmtrioditrieste.it
END:VEVENT
BEGIN:VEVENT
DTSTART;TZID=UTC:20191013T180000
DTEND;TZID=UTC:20191013T190000
DTSTAMP:20260420T074337
CREATED:20230117T111023Z
LAST-MODIFIED:20230117T111318Z
UID:23392-1570989600-1570993200@www.acmtrioditrieste.it
SUMMARY:Trio Hegel
DESCRIPTION:musiche di P.I. Tchaikovsky (Berceuse)\, E.A. Walter-Kuhne (Fantasia)\, M. Glinka – M. Balakirev (L’Alouette)\, C. Debussy (Arabesque I e II). H. Trnecek (Fantasia) e F. Tarrega (Recuerdos de la Alhambra)
URL:https://www.acmtrioditrieste.it/evento/trio-hegel/
LOCATION:PALAZZO DE GRAZIA\, Via Oberdan 15\, Gorizia
CATEGORIES:Concerti Gorizia 2019
ATTACH;FMTTYPE=image/jpeg:https://www.acmtrioditrieste.it/wp-content/uploads/2023/01/hegel-2-1140x814-1.jpg
ORGANIZER;CN="Chamber Music Trieste":MAILTO:info@acmtrioditrieste.it
END:VEVENT
BEGIN:VEVENT
DTSTART;TZID=UTC:20191006T180000
DTEND;TZID=UTC:20191006T190000
DTSTAMP:20260420T074337
CREATED:20230117T111809Z
LAST-MODIFIED:20230117T111848Z
UID:23401-1570384800-1570388400@www.acmtrioditrieste.it
SUMMARY:Slowind di Lubiana
DESCRIPTION:musiche di P.I. Tchaikovsky (Berceuse)\, E.A. Walter-Kuhne (Fantasia)\, M. Glinka – M. Balakirev (L’Alouette)\, C. Debussy (Arabesque I e II). H. Trnecek (Fantasia) e F. Tarrega (Recuerdos de la Alhambra)
URL:https://www.acmtrioditrieste.it/evento/slowind-di-lubiana/
LOCATION:PALAZZO DE GRAZIA\, Via Oberdan 15\, Gorizia
CATEGORIES:Concerti Gorizia 2019
ATTACH;FMTTYPE=image/jpeg:https://www.acmtrioditrieste.it/wp-content/uploads/2023/01/1.-slowind-1140x833-1.jpg
ORGANIZER;CN="Chamber Music Trieste":MAILTO:info@acmtrioditrieste.it
END:VEVENT
BEGIN:VEVENT
DTSTART;TZID=UTC:20190930T203000
DTEND;TZID=UTC:20190930T220000
DTSTAMP:20260420T074337
CREATED:20230111T141414Z
LAST-MODIFIED:20230111T141650Z
UID:22313-1569875400-1569880800@www.acmtrioditrieste.it
SUMMARY:Aleksander Madžar
DESCRIPTION:musiche di P.I. Tchaikovsky (Berceuse)\, E.A. Walter-Kuhne (Fantasia)\, M. Glinka – M. Balakirev (L’Alouette)\, C. Debussy (Arabesque I e II). H. Trnecek (Fantasia) e F. Tarrega (Recuerdos de la Alhambra)
URL:https://www.acmtrioditrieste.it/evento/aleksander-madzar/
LOCATION:Ridotto del Teatro Verdi\, Riva Tre Novembre\, 1\, Trieste\, 34121\, Italia
CATEGORIES:Festival Pianistico 2019
ATTACH;FMTTYPE=image/jpeg:https://www.acmtrioditrieste.it/wp-content/uploads/2023/01/aleksandar-madzar-alla-societa-dei-concerti-620x298-1.jpg
ORGANIZER;CN="Chamber Music Trieste":MAILTO:info@acmtrioditrieste.it
END:VEVENT
BEGIN:VEVENT
DTSTART;TZID=UTC:20190526T110000
DTEND;TZID=UTC:20190526T123000
DTSTAMP:20260420T074337
CREATED:20230114T174830Z
LAST-MODIFIED:20230114T174914Z
UID:23009-1558868400-1558873800@www.acmtrioditrieste.it
SUMMARY:DUO SINAGRA – COSSI con ETTORE PELASCHIAR
DESCRIPTION:musiche di P.I. Tchaikovsky (Berceuse)\, E.A. Walter-Kuhne (Fantasia)\, M. Glinka – M. Balakirev (L’Alouette)\, C. Debussy (Arabesque I e II). H. Trnecek (Fantasia) e F. Tarrega (Recuerdos de la Alhambra)
URL:https://www.acmtrioditrieste.it/evento/duo-sinagra-cossi-con-ettore-pelaschiar/
LOCATION:Teatro Miela\, Piazza Luigi Amedeo Duca degli Abruzzi\, 3\, 34132\, Trieste\, 34132\, Italy
CATEGORIES:Aperitivo Classico,Aperitivo Classico 2019
ATTACH;FMTTYPE=image/jpeg:https://www.acmtrioditrieste.it/wp-content/uploads/2023/01/miela.jpg
ORGANIZER;CN="Chamber Music Trieste":MAILTO:info@acmtrioditrieste.it
END:VEVENT
BEGIN:VEVENT
DTSTART;TZID=UTC:20190519T110000
DTEND;TZID=UTC:20190519T123000
DTSTAMP:20260420T074337
CREATED:20230114T175059Z
LAST-MODIFIED:20230114T175221Z
UID:23015-1558263600-1558269000@www.acmtrioditrieste.it
SUMMARY:Sebastiano Mesaglio
DESCRIPTION:musiche di P.I. Tchaikovsky (Berceuse)\, E.A. Walter-Kuhne (Fantasia)\, M. Glinka – M. Balakirev (L’Alouette)\, C. Debussy (Arabesque I e II). H. Trnecek (Fantasia) e F. Tarrega (Recuerdos de la Alhambra)
URL:https://www.acmtrioditrieste.it/evento/sebastiano-mesaglio-2/
LOCATION:Teatro Miela\, Piazza Luigi Amedeo Duca degli Abruzzi\, 3\, 34132\, Trieste\, 34132\, Italy
CATEGORIES:Aperitivo Classico,Aperitivo Classico 2019
ATTACH;FMTTYPE=image/jpeg:https://www.acmtrioditrieste.it/wp-content/uploads/2023/01/miela.jpg
ORGANIZER;CN="Chamber Music Trieste":MAILTO:info@acmtrioditrieste.it
END:VEVENT
BEGIN:VEVENT
DTSTART;TZID=UTC:20190513T203000
DTEND;TZID=UTC:20190513T220000
DTSTAMP:20260420T074337
CREATED:20230110T095234Z
LAST-MODIFIED:20230110T155811Z
UID:21710-1557779400-1557784800@www.acmtrioditrieste.it
SUMMARY:Ars Trio di Roma
DESCRIPTION:musiche di P.I. Tchaikovsky (Berceuse)\, E.A. Walter-Kuhne (Fantasia)\, M. Glinka – M. Balakirev (L’Alouette)\, C. Debussy (Arabesque I e II). H. Trnecek (Fantasia) e F. Tarrega (Recuerdos de la Alhambra)
URL:https://www.acmtrioditrieste.it/evento/13-maggio-2019-ars-trio-di-roma/
LOCATION:Ridotto del Teatro Verdi\, Riva Tre Novembre\, 1\, Trieste\, 34121\, Italia
CATEGORIES:Stagione Concertistica 2019
ATTACH;FMTTYPE=image/jpeg:https://www.acmtrioditrieste.it/wp-content/uploads/2023/01/foto-6.jpg
ORGANIZER;CN="Chamber Music Trieste":MAILTO:info@acmtrioditrieste.it
END:VEVENT
BEGIN:VEVENT
DTSTART;TZID=UTC:20190512T110000
DTEND;TZID=UTC:20190512T123000
DTSTAMP:20260420T074337
CREATED:20230114T175300Z
LAST-MODIFIED:20230114T175414Z
UID:23016-1557658800-1557664200@www.acmtrioditrieste.it
SUMMARY:Sebastiano Zorza\, Riccardo Pes e Giulia Pes
DESCRIPTION:musiche di P.I. Tchaikovsky (Berceuse)\, E.A. Walter-Kuhne (Fantasia)\, M. Glinka – M. Balakirev (L’Alouette)\, C. Debussy (Arabesque I e II). H. Trnecek (Fantasia) e F. Tarrega (Recuerdos de la Alhambra)
URL:https://www.acmtrioditrieste.it/evento/sebastiano-zorza-riccardo-pes-e-giulia-pes/
LOCATION:Teatro Miela\, Piazza Luigi Amedeo Duca degli Abruzzi\, 3\, 34132\, Trieste\, 34132\, Italy
CATEGORIES:Aperitivo Classico,Aperitivo Classico 2019
ATTACH;FMTTYPE=image/jpeg:https://www.acmtrioditrieste.it/wp-content/uploads/2023/01/miela.jpg
ORGANIZER;CN="Chamber Music Trieste":MAILTO:info@acmtrioditrieste.it
END:VEVENT
BEGIN:VEVENT
DTSTART;TZID=UTC:20190506T203000
DTEND;TZID=UTC:20190506T220000
DTSTAMP:20260420T074337
CREATED:20230110T094844Z
LAST-MODIFIED:20230110T155738Z
UID:21711-1557174600-1557180000@www.acmtrioditrieste.it
SUMMARY:Duo Murakami
DESCRIPTION:musiche di P.I. Tchaikovsky (Berceuse)\, E.A. Walter-Kuhne (Fantasia)\, M. Glinka – M. Balakirev (L’Alouette)\, C. Debussy (Arabesque I e II). H. Trnecek (Fantasia) e F. Tarrega (Recuerdos de la Alhambra)
URL:https://www.acmtrioditrieste.it/evento/6-maggio-2019-duo-murakami/
LOCATION:Ridotto del Teatro Verdi\, Riva Tre Novembre\, 1\, Trieste\, 34121\, Italia
CATEGORIES:Stagione Concertistica 2019
ATTACH;FMTTYPE=image/jpeg:https://www.acmtrioditrieste.it/wp-content/uploads/2023/01/foto-5.jpg
ORGANIZER;CN="Chamber Music Trieste":MAILTO:info@acmtrioditrieste.it
END:VEVENT
BEGIN:VEVENT
DTSTART;TZID=UTC:20190429T203000
DTEND;TZID=UTC:20190429T220000
DTSTAMP:20260420T074337
CREATED:20230110T094529Z
LAST-MODIFIED:20230110T155709Z
UID:21709-1556569800-1556575200@www.acmtrioditrieste.it
SUMMARY:Duo Lavrynenko – Guliei
DESCRIPTION:musiche di P.I. Tchaikovsky (Berceuse)\, E.A. Walter-Kuhne (Fantasia)\, M. Glinka – M. Balakirev (L’Alouette)\, C. Debussy (Arabesque I e II). H. Trnecek (Fantasia) e F. Tarrega (Recuerdos de la Alhambra)
URL:https://www.acmtrioditrieste.it/evento/29-aprile-2019-duo-lavrynenko-guliei/
LOCATION:Ridotto del Teatro Verdi\, Riva Tre Novembre\, 1\, Trieste\, 34121\, Italia
CATEGORIES:Stagione Concertistica 2019
ATTACH;FMTTYPE=image/jpeg:https://www.acmtrioditrieste.it/wp-content/uploads/2023/01/foto-4.jpg
ORGANIZER;CN="Chamber Music Trieste":MAILTO:info@acmtrioditrieste.it
END:VEVENT
BEGIN:VEVENT
DTSTART;TZID=UTC:20190419T180000
DTEND;TZID=UTC:20190419T190000
DTSTAMP:20260420T074337
CREATED:20230119T102159Z
LAST-MODIFIED:20230123T105720Z
UID:23474-1555696800-1555700400@www.acmtrioditrieste.it
SUMMARY:Duo Lavrynenko – Guliei
DESCRIPTION:musiche di P.I. Tchaikovsky (Berceuse)\, E.A. Walter-Kuhne (Fantasia)\, M. Glinka – M. Balakirev (L’Alouette)\, C. Debussy (Arabesque I e II). H. Trnecek (Fantasia) e F. Tarrega (Recuerdos de la Alhambra)
URL:https://www.acmtrioditrieste.it/evento/duo-lavrynenko-guliei-2/
LOCATION:Auditorium Lo Squero\, Isola di San Giorgio Maggiore\, Venezia\, Italia
CATEGORIES:Concerti straordinari
ATTACH;FMTTYPE=image/jpeg:https://www.acmtrioditrieste.it/wp-content/uploads/2023/01/foto-4-3.jpg
ORGANIZER;CN="Chamber Music Trieste":MAILTO:info@acmtrioditrieste.it
END:VEVENT
BEGIN:VEVENT
DTSTART;TZID=UTC:20190415T203000
DTEND;TZID=UTC:20190415T220000
DTSTAMP:20260420T074337
CREATED:20230111T142038Z
LAST-MODIFIED:20230113T190400Z
UID:22320-1555360200-1555365600@www.acmtrioditrieste.it
SUMMARY:Sebastian Di Bin
DESCRIPTION:musiche di P.I. Tchaikovsky (Berceuse)\, E.A. Walter-Kuhne (Fantasia)\, M. Glinka – M. Balakirev (L’Alouette)\, C. Debussy (Arabesque I e II). H. Trnecek (Fantasia) e F. Tarrega (Recuerdos de la Alhambra)
URL:https://www.acmtrioditrieste.it/evento/sebastian-di-bin/
LOCATION:Teatro Miela\, Piazza Luigi Amedeo Duca degli Abruzzi\, 3\, 34132\, Trieste\, 34132\, Italy
CATEGORIES:Festival Pianistico 2019
ATTACH;FMTTYPE=image/jpeg:https://www.acmtrioditrieste.it/wp-content/uploads/2023/01/2.-Sebastian-Di-Bin-1140x779-1.jpg
ORGANIZER;CN="Chamber Music Trieste":MAILTO:info@acmtrioditrieste.it
END:VEVENT
BEGIN:VEVENT
DTSTART;TZID=UTC:20190415T203000
DTEND;TZID=UTC:20190415T220000
DTSTAMP:20260420T074337
CREATED:20230110T093213Z
LAST-MODIFIED:20230110T155633Z
UID:21708-1555360200-1555365600@www.acmtrioditrieste.it
SUMMARY:Trio Gaon
DESCRIPTION:musiche di P.I. Tchaikovsky (Berceuse)\, E.A. Walter-Kuhne (Fantasia)\, M. Glinka – M. Balakirev (L’Alouette)\, C. Debussy (Arabesque I e II). H. Trnecek (Fantasia) e F. Tarrega (Recuerdos de la Alhambra)
URL:https://www.acmtrioditrieste.it/evento/15-aprile-2019-trio-gaon/
LOCATION:Ridotto del Teatro Verdi\, Riva Tre Novembre\, 1\, Trieste\, 34121\, Italia
CATEGORIES:Stagione Concertistica 2019
ATTACH;FMTTYPE=image/jpeg:https://www.acmtrioditrieste.it/wp-content/uploads/2023/01/foto-3.jpg
ORGANIZER;CN="Chamber Music Trieste":MAILTO:info@acmtrioditrieste.it
END:VEVENT
BEGIN:VEVENT
DTSTART;TZID=UTC:20190401T203000
DTEND;TZID=UTC:20190401T220000
DTSTAMP:20260420T074337
CREATED:20230110T092838Z
LAST-MODIFIED:20230110T155544Z
UID:21692-1554150600-1554156000@www.acmtrioditrieste.it
SUMMARY:Trio Debussy
DESCRIPTION:musiche di P.I. Tchaikovsky (Berceuse)\, E.A. Walter-Kuhne (Fantasia)\, M. Glinka – M. Balakirev (L’Alouette)\, C. Debussy (Arabesque I e II). H. Trnecek (Fantasia) e F. Tarrega (Recuerdos de la Alhambra)
URL:https://www.acmtrioditrieste.it/evento/1-aprile-2019-trio-debussy/
LOCATION:Ridotto del Teatro Verdi\, Riva Tre Novembre\, 1\, Trieste\, 34121\, Italia
CATEGORIES:Stagione Concertistica 2019
ATTACH;FMTTYPE=image/jpeg:https://www.acmtrioditrieste.it/wp-content/uploads/2023/01/foto-2-1.jpg
ORGANIZER;CN="Chamber Music Trieste":MAILTO:info@acmtrioditrieste.it
END:VEVENT
BEGIN:VEVENT
DTSTART;TZID=UTC:20190318T203000
DTEND;TZID=UTC:20190318T220000
DTSTAMP:20260420T074337
CREATED:20230110T092428Z
LAST-MODIFIED:20230110T155517Z
UID:21691-1552941000-1552946400@www.acmtrioditrieste.it
SUMMARY:Josef Suk Piano Quartet
DESCRIPTION:musiche di P.I. Tchaikovsky (Berceuse)\, E.A. Walter-Kuhne (Fantasia)\, M. Glinka – M. Balakirev (L’Alouette)\, C. Debussy (Arabesque I e II). H. Trnecek (Fantasia) e F. Tarrega (Recuerdos de la Alhambra)
URL:https://www.acmtrioditrieste.it/evento/18-marzo-2019-josef-suk-piano-quartet/
LOCATION:Ridotto del Teatro Verdi\, Riva Tre Novembre\, 1\, Trieste\, 34121\, Italia
CATEGORIES:Stagione Concertistica 2019
ATTACH;FMTTYPE=image/jpeg:https://www.acmtrioditrieste.it/wp-content/uploads/2023/01/foto-1-1.jpg
ORGANIZER;CN="Chamber Music Trieste":MAILTO:info@acmtrioditrieste.it
END:VEVENT
BEGIN:VEVENT
DTSTART;TZID=UTC:20190225T203000
DTEND;TZID=UTC:20190225T220000
DTSTAMP:20260420T074337
CREATED:20230110T091927Z
LAST-MODIFIED:20230110T155446Z
UID:21690-1551126600-1551132000@www.acmtrioditrieste.it
SUMMARY:Duo Sitkovetsky
DESCRIPTION:musiche di P.I. Tchaikovsky (Berceuse)\, E.A. Walter-Kuhne (Fantasia)\, M. Glinka – M. Balakirev (L’Alouette)\, C. Debussy (Arabesque I e II). H. Trnecek (Fantasia) e F. Tarrega (Recuerdos de la Alhambra)
URL:https://www.acmtrioditrieste.it/evento/25-febbraio-2019-duo-sitkovetsky/
LOCATION:Ridotto del Teatro Verdi\, Riva Tre Novembre\, 1\, Trieste\, 34121\, Italia
CATEGORIES:Stagione Concertistica 2019
ATTACH;FMTTYPE=image/jpeg:https://www.acmtrioditrieste.it/wp-content/uploads/2023/01/foto.jpg
ORGANIZER;CN="Chamber Music Trieste":MAILTO:info@acmtrioditrieste.it
END:VEVENT
BEGIN:VEVENT
DTSTART;TZID=UTC:20190128T203000
DTEND;TZID=UTC:20190128T220000
DTSTAMP:20260420T074337
CREATED:20230110T091300Z
LAST-MODIFIED:20230110T155337Z
UID:21680-1548707400-1548712800@www.acmtrioditrieste.it
SUMMARY:Trio Mondrian
DESCRIPTION:musiche di P.I. Tchaikovsky (Berceuse)\, E.A. Walter-Kuhne (Fantasia)\, M. Glinka – M. Balakirev (L’Alouette)\, C. Debussy (Arabesque I e II). H. Trnecek (Fantasia) e F. Tarrega (Recuerdos de la Alhambra)
URL:https://www.acmtrioditrieste.it/evento/28-gennaio-2019-trio-mondrian/
LOCATION:Ridotto del Teatro Verdi\, Riva Tre Novembre\, 1\, Trieste\, 34121\, Italia
CATEGORIES:Stagione Concertistica 2019
ATTACH;FMTTYPE=image/jpeg:https://www.acmtrioditrieste.it/wp-content/uploads/2023/01/Trio-Mondrian-1.jpg
ORGANIZER;CN="Chamber Music Trieste":MAILTO:info@acmtrioditrieste.it
END:VEVENT
BEGIN:VEVENT
DTSTART;TZID=UTC:20181210T180000
DTEND;TZID=UTC:20181210T190000
DTSTAMP:20260420T074337
CREATED:20230119T102657Z
LAST-MODIFIED:20230123T105917Z
UID:23517-1544464800-1544468400@www.acmtrioditrieste.it
SUMMARY:Ella Van Poucke
DESCRIPTION:musiche di P.I. Tchaikovsky (Berceuse)\, E.A. Walter-Kuhne (Fantasia)\, M. Glinka – M. Balakirev (L’Alouette)\, C. Debussy (Arabesque I e II). H. Trnecek (Fantasia) e F. Tarrega (Recuerdos de la Alhambra)
URL:https://www.acmtrioditrieste.it/evento/ella-van-poucke/
LOCATION:Hotel Savoia\, Riva del Mandracchio\, 4\, Trieste\, 34124
CATEGORIES:Concerti straordinari
ATTACH;FMTTYPE=image/jpeg:https://www.acmtrioditrieste.it/wp-content/uploads/2023/01/base-2-1140x761-1140x761-3-1140x761-1.jpg
ORGANIZER;CN="Chamber Music Trieste":MAILTO:info@acmtrioditrieste.it
END:VEVENT
END:VCALENDAR