BEGIN:VCALENDAR
VERSION:2.0
PRODID:-//ACM Associazione Chamber Music - ECPv6.3.7//NONSGML v1.0//EN
CALSCALE:GREGORIAN
METHOD:PUBLISH
X-WR-CALNAME:ACM Associazione Chamber Music
X-ORIGINAL-URL:https://www.acmtrioditrieste.it
X-WR-CALDESC:Events for ACM Associazione Chamber Music
REFRESH-INTERVAL;VALUE=DURATION:PT1H
X-Robots-Tag:noindex
X-PUBLISHED-TTL:PT1H
BEGIN:VTIMEZONE
TZID:UTC
BEGIN:STANDARD
TZOFFSETFROM:+0000
TZOFFSETTO:+0000
TZNAME:UTC
DTSTART:20210101T000000
END:STANDARD
END:VTIMEZONE
BEGIN:VEVENT
DTSTART;TZID=UTC:20230405T203000
DTEND;TZID=UTC:20230405T220000
DTSTAMP:20260420T075035
CREATED:20221116T101127Z
LAST-MODIFIED:20230313T102634Z
UID:20292-1680726600-1680732000@www.acmtrioditrieste.it
SUMMARY:Trio Lonquich - Waskiewicz - Rebaudengo
DESCRIPTION:I migliori talenti premiati ai Concorsi del Friuli Venezia Giulia 								\n				\n					\n		\n					\n		\n				\n						\n					\n			\n						\n						\n					\n			\n						\n				\n									Ensemble vincitore del 21° Concorso “Premio Trio di Trieste” musiche di Johannes Brahms 
URL:https://www.acmtrioditrieste.it/evento/trio-lonquich-waskiewicz-rebaudengo-2/
LOCATION:Teatro Miela\, Piazza Luigi Amedeo Duca degli Abruzzi\, 3\, 34132\, Trieste\, 34132\, Italy
CATEGORIES:CROMATISMI 2023
ATTACH;FMTTYPE=image/png:https://www.acmtrioditrieste.it/wp-content/uploads/2023/04/Trio-Lonquich-Waskiewicz-Rebaudengo.png
ORGANIZER;CN="Chamber Music Trieste":MAILTO:info@acmtrioditrieste.it
END:VEVENT
BEGIN:VEVENT
DTSTART;TZID=UTC:20230322T203000
DTEND;TZID=UTC:20230322T220000
DTSTAMP:20260420T075035
CREATED:20221116T163504Z
LAST-MODIFIED:20230322T090259Z
UID:20387-1679517000-1679522400@www.acmtrioditrieste.it
SUMMARY:Duo Maximilian Hornung - Herbert Schuch
DESCRIPTION:I migliori talenti premiati ai Concorsi del Friuli Venezia Giulia 								\n				\n					\n		\n					\n		\n				\n						\n					\n			\n						\n						\n					\n			\n						\n				\n									Ensemble vincitore del 21° Concorso “Premio Trio di Trieste” musiche di Johannes Brahms 
URL:https://www.acmtrioditrieste.it/evento/duo-hornung-schuch/
LOCATION:Teatro Miela\, Piazza Luigi Amedeo Duca degli Abruzzi\, 3\, 34132\, Trieste\, 34132\, Italy
CATEGORIES:CROMATISMI 2023
ATTACH;FMTTYPE=image/png:https://www.acmtrioditrieste.it/wp-content/uploads/2020/04/DUO-HORNUNG-SCHUCH.png
ORGANIZER;CN="Chamber Music Trieste":MAILTO:info@acmtrioditrieste.it
END:VEVENT
BEGIN:VEVENT
DTSTART;TZID=UTC:20230313T203000
DTEND;TZID=UTC:20230313T220000
DTSTAMP:20260420T075035
CREATED:20230228T093053Z
LAST-MODIFIED:20230306T085709Z
UID:24179-1678739400-1678744800@www.acmtrioditrieste.it
SUMMARY:I venti dell'Est  Ilya Gringolts - Ghenadie Rotari
DESCRIPTION:I migliori talenti premiati ai Concorsi del Friuli Venezia Giulia 								\n				\n					\n		\n					\n		\n				\n						\n					\n			\n						\n						\n					\n			\n						\n				\n									Ensemble vincitore del 21° Concorso “Premio Trio di Trieste” musiche di Johannes Brahms 
URL:https://www.acmtrioditrieste.it/evento/i-venti-dellest-ghenadie-rotari-ilya-gringolts/
LOCATION:Conservatorio Giuseppe Tartini\, Via Carlo Ghega\, 12\, TRIESTE\, TS\, 34132\, Italia
CATEGORIES:Concerti straordinari 2023
ATTACH;FMTTYPE=image/png:https://www.acmtrioditrieste.it/wp-content/uploads/2023/02/Concerti-straordinari-1.png
ORGANIZER;CN="Chamber Music Trieste":MAILTO:info@acmtrioditrieste.it
END:VEVENT
BEGIN:VEVENT
DTSTART;TZID=UTC:20230308T203000
DTEND;TZID=UTC:20230308T220000
DTSTAMP:20260420T075035
CREATED:20221115T173019Z
LAST-MODIFIED:20230228T101015Z
UID:20124-1678307400-1678312800@www.acmtrioditrieste.it
SUMMARY:Roberto Cominati
DESCRIPTION:I migliori talenti premiati ai Concorsi del Friuli Venezia Giulia 								\n				\n					\n		\n					\n		\n				\n						\n					\n			\n						\n						\n					\n			\n						\n				\n									Ensemble vincitore del 21° Concorso “Premio Trio di Trieste” musiche di Johannes Brahms 
URL:https://www.acmtrioditrieste.it/evento/roberto-cominati/
LOCATION:Teatro Miela\, Piazza Luigi Amedeo Duca degli Abruzzi\, 3\, 34132\, Trieste\, 34132\, Italy
CATEGORIES:CROMATISMI 2023
ATTACH;FMTTYPE=image/jpeg:https://www.acmtrioditrieste.it/wp-content/uploads/2020/04/Cominati-scaled.jpg
ORGANIZER;CN="Chamber Music Trieste":MAILTO:info@acmtrioditrieste.it
END:VEVENT
BEGIN:VEVENT
DTSTART;TZID=UTC:20230222T203000
DTEND;TZID=UTC:20230222T220000
DTSTAMP:20260420T075035
CREATED:20220222T173026Z
LAST-MODIFIED:20230217T093819Z
UID:20126-1677097800-1677103200@www.acmtrioditrieste.it
SUMMARY:Trio Johannes con Simonide Braconi e Paolo Borsarelli
DESCRIPTION:I migliori talenti premiati ai Concorsi del Friuli Venezia Giulia 								\n				\n					\n		\n					\n		\n				\n						\n					\n			\n						\n						\n					\n			\n						\n				\n									Ensemble vincitore del 21° Concorso “Premio Trio di Trieste” musiche di Johannes Brahms 
URL:https://www.acmtrioditrieste.it/evento/trio-johannes-con-s-braconi-e-p-borsarelli-2/
LOCATION:Teatro Miela\, Piazza Luigi Amedeo Duca degli Abruzzi\, 3\, 34132\, Trieste\, 34132\, Italy
CATEGORIES:CROMATISMI 2023
ATTACH;FMTTYPE=image/png:https://www.acmtrioditrieste.it/wp-content/uploads/2022/11/Trio-Johannes-con-Braconi-e-Borsarelli.png
ORGANIZER;CN="Chamber Music Trieste":MAILTO:info@acmtrioditrieste.it
END:VEVENT
BEGIN:VEVENT
DTSTART;TZID=UTC:20230208T203000
DTEND;TZID=UTC:20230208T220000
DTSTAMP:20260420T075035
CREATED:20221128T114106Z
LAST-MODIFIED:20230128T162443Z
UID:20700-1675888200-1675893600@www.acmtrioditrieste.it
SUMMARY:Maria Grazia Bellocchio e Irene Accardo
DESCRIPTION:I migliori talenti premiati ai Concorsi del Friuli Venezia Giulia 								\n				\n					\n		\n					\n		\n				\n						\n					\n			\n						\n						\n					\n			\n						\n				\n									Ensemble vincitore del 21° Concorso “Premio Trio di Trieste” musiche di Johannes Brahms 
URL:https://www.acmtrioditrieste.it/evento/maria-grazia-bellocchio-e-i-accardo-_duplicato/
LOCATION:Teatro Miela\, Piazza Luigi Amedeo Duca degli Abruzzi\, 3\, 34132\, Trieste\, 34132\, Italy
CATEGORIES:CROMATISMI 2023
ATTACH;FMTTYPE=image/png:https://www.acmtrioditrieste.it/wp-content/uploads/2020/04/Bellocchio-Accardo.png
ORGANIZER;CN="Chamber Music Trieste":MAILTO:info@acmtrioditrieste.it
END:VEVENT
BEGIN:VEVENT
DTSTART;TZID=UTC:20230118T203000
DTEND;TZID=UTC:20230118T220000
DTSTAMP:20260420T075035
CREATED:20200428T140523Z
LAST-MODIFIED:20230109T144843Z
UID:1215-1674073800-1674079200@www.acmtrioditrieste.it
SUMMARY:Enrico Dindo  con I Solisti di Pavia
DESCRIPTION:I migliori talenti premiati ai Concorsi del Friuli Venezia Giulia 								\n				\n					\n		\n					\n		\n				\n						\n					\n			\n						\n						\n					\n			\n						\n				\n									Ensemble vincitore del 21° Concorso “Premio Trio di Trieste” musiche di Johannes Brahms 
URL:https://www.acmtrioditrieste.it/evento/enrico-dindo-con-i-solisti-di-pavia/
LOCATION:Teatro Miela\, Piazza Luigi Amedeo Duca degli Abruzzi\, 3\, 34132\, Trieste\, 34132\, Italy
CATEGORIES:CROMATISMI 2023
ATTACH;FMTTYPE=image/jpeg:https://www.acmtrioditrieste.it/wp-content/uploads/2020/04/Dindo-e-I-Solisti-di-Pavia-scaled.jpg
ORGANIZER;CN="Chamber Music Trieste":MAILTO:info@acmtrioditrieste.it
END:VEVENT
BEGIN:VEVENT
DTSTART;TZID=UTC:20221123T203000
DTEND;TZID=UTC:20221123T223000
DTSTAMP:20260420T075035
CREATED:20230106T103541Z
LAST-MODIFIED:20230110T161959Z
UID:21549-1669235400-1669242600@www.acmtrioditrieste.it
SUMMARY:Zoltán Fejérvári
DESCRIPTION:I migliori talenti premiati ai Concorsi del Friuli Venezia Giulia 								\n				\n					\n		\n					\n		\n				\n						\n					\n			\n						\n						\n					\n			\n						\n				\n									Ensemble vincitore del 21° Concorso “Premio Trio di Trieste” musiche di Johannes Brahms 
URL:https://www.acmtrioditrieste.it/evento/mercoledi-23-novembre-zoltan-fejervari/
LOCATION:Teatro Miela\, Piazza Luigi Amedeo Duca degli Abruzzi\, 3\, 34132\, Trieste\, 34132\, Italy
CATEGORIES:CROMATISMI 2022
ATTACH;FMTTYPE=image/jpeg:https://www.acmtrioditrieste.it/wp-content/uploads/2023/01/foto_CROMATISMI9-1140x760-1.jpg
ORGANIZER;CN="Chamber Music Trieste":MAILTO:info@acmtrioditrieste.it
END:VEVENT
BEGIN:VEVENT
DTSTART;TZID=UTC:20221109T203000
DTEND;TZID=UTC:20221109T223000
DTSTAMP:20260420T075035
CREATED:20230106T103259Z
LAST-MODIFIED:20230110T161935Z
UID:21543-1668025800-1668033000@www.acmtrioditrieste.it
SUMMARY:Lukas Geniušas con I Virtuosi Italiani
DESCRIPTION:I migliori talenti premiati ai Concorsi del Friuli Venezia Giulia 								\n				\n					\n		\n					\n		\n				\n						\n					\n			\n						\n						\n					\n			\n						\n				\n									Ensemble vincitore del 21° Concorso “Premio Trio di Trieste” musiche di Johannes Brahms 
URL:https://www.acmtrioditrieste.it/evento/mercoledi-9-novembre-lukas-geniusas-con-i-virtuosi-italiani/
LOCATION:Teatro Miela\, Piazza Luigi Amedeo Duca degli Abruzzi\, 3\, 34132\, Trieste\, 34132\, Italy
CATEGORIES:CROMATISMI 2022
ATTACH;FMTTYPE=image/jpeg:https://www.acmtrioditrieste.it/wp-content/uploads/2023/01/Geniusas_IVirtuosiItaliani_Benini-1140x728-1.jpg
ORGANIZER;CN="Chamber Music Trieste":MAILTO:info@acmtrioditrieste.it
END:VEVENT
BEGIN:VEVENT
DTSTART;TZID=UTC:20221019T203000
DTEND;TZID=UTC:20221019T223000
DTSTAMP:20260420T075035
CREATED:20230106T102930Z
LAST-MODIFIED:20230110T161906Z
UID:21534-1666211400-1666218600@www.acmtrioditrieste.it
SUMMARY:Mercoledì 19 ottobre > Duo Tchumburidze – Sepashvili
DESCRIPTION:I migliori talenti premiati ai Concorsi del Friuli Venezia Giulia 								\n				\n					\n		\n					\n		\n				\n						\n					\n			\n						\n						\n					\n			\n						\n				\n									Ensemble vincitore del 21° Concorso “Premio Trio di Trieste” musiche di Johannes Brahms 
URL:https://www.acmtrioditrieste.it/evento/mercoledi-19-ottobre-duo-tchumburidze-sepashvili/
LOCATION:Teatro Miela\, Piazza Luigi Amedeo Duca degli Abruzzi\, 3\, 34132\, Trieste\, 34132\, Italy
CATEGORIES:CROMATISMI 2022
ATTACH;FMTTYPE=image/png:https://www.acmtrioditrieste.it/wp-content/uploads/2023/01/duo-veriko-tchumb-1140x760-1.png
ORGANIZER;CN="Chamber Music Trieste":MAILTO:info@acmtrioditrieste.it
END:VEVENT
BEGIN:VEVENT
DTSTART;TZID=UTC:20220914T203000
DTEND;TZID=UTC:20220914T223000
DTSTAMP:20260420T075035
CREATED:20230106T102608Z
LAST-MODIFIED:20230110T161840Z
UID:21528-1663187400-1663194600@www.acmtrioditrieste.it
SUMMARY:Ensemble vincitore del Concorso - Trio Pantoum
DESCRIPTION:I migliori talenti premiati ai Concorsi del Friuli Venezia Giulia 								\n				\n					\n		\n					\n		\n				\n						\n					\n			\n						\n						\n					\n			\n						\n				\n									Ensemble vincitore del 21° Concorso “Premio Trio di Trieste” musiche di Johannes Brahms 
URL:https://www.acmtrioditrieste.it/evento/mercoledi-14-settembre-ensemble-vincitore-del-concorso/
LOCATION:Teatro Miela\, Piazza Luigi Amedeo Duca degli Abruzzi\, 3\, 34132\, Trieste\, 34132\, Italy
CATEGORIES:CROMATISMI 2022
ATTACH;FMTTYPE=image/jpeg:https://www.acmtrioditrieste.it/wp-content/uploads/2023/01/vincitori-concorso.jpg
ORGANIZER;CN="Chamber Music Trieste":MAILTO:info@acmtrioditrieste.it
END:VEVENT
BEGIN:VEVENT
DTSTART;TZID=UTC:20220913T203000
DTEND;TZID=UTC:20220913T203000
DTSTAMP:20260420T075035
CREATED:20230627T092543Z
LAST-MODIFIED:20250806T095132Z
UID:24747-1663101000-1663101000@www.acmtrioditrieste.it
SUMMARY:I migliori talenti premiati ai concorsi del Friuli Venezia Giulia
DESCRIPTION:I migliori talenti premiati ai Concorsi del Friuli Venezia Giulia 								\n				\n					\n		\n					\n		\n				\n						\n					\n			\n						\n						\n					\n			\n						\n				\n									Ensemble vincitore del 21° Concorso “Premio Trio di Trieste” musiche di Johannes Brahms 
URL:https://www.acmtrioditrieste.it/evento/i-migliori-talenti-premiati-ai-concorsi-del-friuli-venezia-giulia/
LOCATION:Sala maggiore / Kulturni center Lojze Bratuž\, Viale XX Settembre\, 85\, GORIZIA\, 34170
CATEGORIES:Quarta Giusta 2023
ATTACH;FMTTYPE=image/jpeg:https://www.acmtrioditrieste.it/wp-content/uploads/2023/06/Go2025-evento-passato-1.jpg
ORGANIZER;CN="Chamber Music Trieste":MAILTO:info@acmtrioditrieste.it
END:VEVENT
BEGIN:VEVENT
DTSTART;TZID=UTC:20220619T180000
DTEND;TZID=UTC:20220619T190000
DTSTAMP:20260420T075035
CREATED:20230117T103915Z
LAST-MODIFIED:20230117T104013Z
UID:23374-1655661600-1655665200@www.acmtrioditrieste.it
SUMMARY:Duo Catale – Casciano
DESCRIPTION:I migliori talenti premiati ai Concorsi del Friuli Venezia Giulia 								\n				\n					\n		\n					\n		\n				\n						\n					\n			\n						\n						\n					\n			\n						\n				\n									Ensemble vincitore del 21° Concorso “Premio Trio di Trieste” musiche di Johannes Brahms 
URL:https://www.acmtrioditrieste.it/evento/duo-catale-casciano/
LOCATION:DoubleTree by Hilton Trieste\, Piazza della Repubblica\, 1\, Trieste\, Seleziona uno Stato:\, 34122\, Italia
CATEGORIES:Aperitivo Classico 2022
ATTACH;FMTTYPE=image/jpeg:https://www.acmtrioditrieste.it/wp-content/uploads/2023/01/IMG_0059-scaled-1140x831-1.jpg
ORGANIZER;CN="Chamber Music Trieste":MAILTO:info@acmtrioditrieste.it
END:VEVENT
BEGIN:VEVENT
DTSTART;TZID=UTC:20220612T180000
DTEND;TZID=UTC:20220612T190000
DTSTAMP:20260420T075035
CREATED:20230117T103733Z
LAST-MODIFIED:20230117T103825Z
UID:23376-1655056800-1655060400@www.acmtrioditrieste.it
SUMMARY:Quartetto Indaco
DESCRIPTION:I migliori talenti premiati ai Concorsi del Friuli Venezia Giulia 								\n				\n					\n		\n					\n		\n				\n						\n					\n			\n						\n						\n					\n			\n						\n				\n									Ensemble vincitore del 21° Concorso “Premio Trio di Trieste” musiche di Johannes Brahms 
URL:https://www.acmtrioditrieste.it/evento/quartetto-indaco/
LOCATION:DoubleTree by Hilton Trieste\, Piazza della Repubblica\, 1\, Trieste\, Seleziona uno Stato:\, 34122\, Italia
CATEGORIES:Aperitivo Classico 2022
ATTACH;FMTTYPE=image/jpeg:https://www.acmtrioditrieste.it/wp-content/uploads/2023/01/ezgif.com-gif-maker.jpg
ORGANIZER;CN="Chamber Music Trieste":MAILTO:info@acmtrioditrieste.it
END:VEVENT
BEGIN:VEVENT
DTSTART;TZID=UTC:20220608T203000
DTEND;TZID=UTC:20220608T223000
DTSTAMP:20260420T075035
CREATED:20230106T102240Z
LAST-MODIFIED:20230110T161753Z
UID:21522-1654720200-1654727400@www.acmtrioditrieste.it
SUMMARY:Massimiliano Ferrati
DESCRIPTION:I migliori talenti premiati ai Concorsi del Friuli Venezia Giulia 								\n				\n					\n		\n					\n		\n				\n						\n					\n			\n						\n						\n					\n			\n						\n				\n									Ensemble vincitore del 21° Concorso “Premio Trio di Trieste” musiche di Johannes Brahms 
URL:https://www.acmtrioditrieste.it/evento/mercoledi-8-giugno-massimiliano-ferrati/
LOCATION:Teatro Miela\, Piazza Luigi Amedeo Duca degli Abruzzi\, 3\, 34132\, Trieste\, 34132\, Italy
CATEGORIES:CROMATISMI 2022
ATTACH;FMTTYPE=image/jpeg:https://www.acmtrioditrieste.it/wp-content/uploads/2023/01/foto_CROMATISMI6-1140x760-1.jpg
ORGANIZER;CN="Chamber Music Trieste":MAILTO:info@acmtrioditrieste.it
END:VEVENT
BEGIN:VEVENT
DTSTART;TZID=UTC:20220605T180000
DTEND;TZID=UTC:20220605T190000
DTSTAMP:20260420T075035
CREATED:20230117T103553Z
LAST-MODIFIED:20230117T103644Z
UID:23375-1654452000-1654455600@www.acmtrioditrieste.it
SUMMARY:Duo Zamuner – Delucchi
DESCRIPTION:I migliori talenti premiati ai Concorsi del Friuli Venezia Giulia 								\n				\n					\n		\n					\n		\n				\n						\n					\n			\n						\n						\n					\n			\n						\n				\n									Ensemble vincitore del 21° Concorso “Premio Trio di Trieste” musiche di Johannes Brahms 
URL:https://www.acmtrioditrieste.it/evento/duo-zamuner-delucchi/
LOCATION:DoubleTree by Hilton Trieste\, Piazza della Repubblica\, 1\, Trieste\, Seleziona uno Stato:\, 34122\, Italia
CATEGORIES:Aperitivo Classico 2022
ATTACH;FMTTYPE=image/jpeg:https://www.acmtrioditrieste.it/wp-content/uploads/2023/01/Foto-Riccardo-Emanuele-scaled-1140x760-1.jpg
ORGANIZER;CN="Chamber Music Trieste":MAILTO:info@acmtrioditrieste.it
END:VEVENT
BEGIN:VEVENT
DTSTART;TZID=UTC:20220529T180000
DTEND;TZID=UTC:20220529T190000
DTSTAMP:20260420T075035
CREATED:20230117T103214Z
LAST-MODIFIED:20230117T103326Z
UID:23367-1653847200-1653850800@www.acmtrioditrieste.it
SUMMARY:Ettore Pagano
DESCRIPTION:I migliori talenti premiati ai Concorsi del Friuli Venezia Giulia 								\n				\n					\n		\n					\n		\n				\n						\n					\n			\n						\n						\n					\n			\n						\n				\n									Ensemble vincitore del 21° Concorso “Premio Trio di Trieste” musiche di Johannes Brahms 
URL:https://www.acmtrioditrieste.it/evento/ettore-pagano/
LOCATION:DoubleTree by Hilton Trieste\, Piazza della Repubblica\, 1\, Trieste\, Seleziona uno Stato:\, 34122\, Italia
CATEGORIES:Aperitivo Classico 2022
ATTACH;FMTTYPE=image/png:https://www.acmtrioditrieste.it/wp-content/uploads/2023/01/Ettore-Pagano-chigiana@sn2022-1140x858-1.png
ORGANIZER;CN="Chamber Music Trieste":MAILTO:info@acmtrioditrieste.it
END:VEVENT
BEGIN:VEVENT
DTSTART;TZID=UTC:20220518T203000
DTEND;TZID=UTC:20220518T223000
DTSTAMP:20260420T075035
CREATED:20230106T101942Z
LAST-MODIFIED:20230110T161734Z
UID:21516-1652905800-1652913000@www.acmtrioditrieste.it
SUMMARY:Coro da camera di Torino con Duo Valentino – Voghera
DESCRIPTION:I migliori talenti premiati ai Concorsi del Friuli Venezia Giulia 								\n				\n					\n		\n					\n		\n				\n						\n					\n			\n						\n						\n					\n			\n						\n				\n									Ensemble vincitore del 21° Concorso “Premio Trio di Trieste” musiche di Johannes Brahms 
URL:https://www.acmtrioditrieste.it/evento/mercoledi-18-maggio-coro-da-camera-di-torino-con-duo-valentino-voghera/
LOCATION:Teatro Miela\, Piazza Luigi Amedeo Duca degli Abruzzi\, 3\, 34132\, Trieste\, 34132\, Italy
CATEGORIES:CROMATISMI 2022
ATTACH;FMTTYPE=image/jpeg:https://www.acmtrioditrieste.it/wp-content/uploads/2023/01/coro-da-camera-di-torino-con-duo-min-scaled-1140x760-1.jpg
ORGANIZER;CN="Chamber Music Trieste":MAILTO:info@acmtrioditrieste.it
END:VEVENT
BEGIN:VEVENT
DTSTART;TZID=UTC:20220504T203000
DTEND;TZID=UTC:20220504T223000
DTSTAMP:20260420T075035
CREATED:20230106T101617Z
LAST-MODIFIED:20230110T161705Z
UID:21510-1651696200-1651703400@www.acmtrioditrieste.it
SUMMARY:Ars Trio di Roma
DESCRIPTION:I migliori talenti premiati ai Concorsi del Friuli Venezia Giulia 								\n				\n					\n		\n					\n		\n				\n						\n					\n			\n						\n						\n					\n			\n						\n				\n									Ensemble vincitore del 21° Concorso “Premio Trio di Trieste” musiche di Johannes Brahms 
URL:https://www.acmtrioditrieste.it/evento/mercoledi-4-maggio-ars-trio-di-roma/
LOCATION:Teatro Miela\, Piazza Luigi Amedeo Duca degli Abruzzi\, 3\, 34132\, Trieste\, 34132\, Italy
CATEGORIES:CROMATISMI 2022
ATTACH;FMTTYPE=image/jpeg:https://www.acmtrioditrieste.it/wp-content/uploads/2023/01/foto_CROMATISMI10-1140x760-1.jpg
ORGANIZER;CN="Chamber Music Trieste":MAILTO:info@acmtrioditrieste.it
END:VEVENT
BEGIN:VEVENT
DTSTART;TZID=UTC:20220413T203000
DTEND;TZID=UTC:20220413T223000
DTSTAMP:20260420T075035
CREATED:20230106T101330Z
LAST-MODIFIED:20250806T100315Z
UID:21504-1649881800-1649889000@www.acmtrioditrieste.it
SUMMARY:Duo Piccotti – Pierdomenico
DESCRIPTION:I migliori talenti premiati ai Concorsi del Friuli Venezia Giulia 								\n				\n					\n		\n					\n		\n				\n						\n					\n			\n						\n						\n					\n			\n						\n				\n									Ensemble vincitore del 21° Concorso “Premio Trio di Trieste” musiche di Johannes Brahms 
URL:https://www.acmtrioditrieste.it/evento/mercoledi-13-aprile-duo-piccotti-pierdomenico/
LOCATION:Teatro Miela\, Piazza Luigi Amedeo Duca degli Abruzzi\, 3\, 34132\, Trieste\, 34132\, Italy
CATEGORIES:CROMATISMI 2022
ATTACH;FMTTYPE=image/jpeg:https://www.acmtrioditrieste.it/wp-content/uploads/2023/01/piccotti-pierdomenico.jpg
ORGANIZER;CN="Chamber Music Trieste":MAILTO:info@acmtrioditrieste.it
END:VEVENT
BEGIN:VEVENT
DTSTART;TZID=UTC:20220406T203000
DTEND;TZID=UTC:20220406T223000
DTSTAMP:20260420T075035
CREATED:20230106T101006Z
LAST-MODIFIED:20250807T140205Z
UID:21497-1649277000-1649284200@www.acmtrioditrieste.it
SUMMARY:Duo Beltramini – Arosio
DESCRIPTION:I migliori talenti premiati ai Concorsi del Friuli Venezia Giulia 								\n				\n					\n		\n					\n		\n				\n						\n					\n			\n						\n						\n					\n			\n						\n				\n									Ensemble vincitore del 21° Concorso “Premio Trio di Trieste” musiche di Johannes Brahms 
URL:https://www.acmtrioditrieste.it/evento/mercoledi-23-marzo-laura-marzadori-_duplicato/
LOCATION:Teatro Miela\, Piazza Luigi Amedeo Duca degli Abruzzi\, 3\, 34132\, Trieste\, 34132\, Italy
CATEGORIES:CROMATISMI 2022
ATTACH;FMTTYPE=image/jpeg:https://www.acmtrioditrieste.it/wp-content/uploads/2023/01/Duo_Beltramini_-_Arosio_Thumb_HighlightCenter263606.jpg
ORGANIZER;CN="Chamber Music Trieste":MAILTO:info@acmtrioditrieste.it
END:VEVENT
BEGIN:VEVENT
DTSTART;TZID=UTC:20220323T203000
DTEND;TZID=UTC:20220323T223000
DTSTAMP:20260420T075035
CREATED:20230106T095510Z
LAST-MODIFIED:20230110T161517Z
UID:21491-1648067400-1648074600@www.acmtrioditrieste.it
SUMMARY:Laura Marzadori
DESCRIPTION:I migliori talenti premiati ai Concorsi del Friuli Venezia Giulia 								\n				\n					\n		\n					\n		\n				\n						\n					\n			\n						\n						\n					\n			\n						\n				\n									Ensemble vincitore del 21° Concorso “Premio Trio di Trieste” musiche di Johannes Brahms 
URL:https://www.acmtrioditrieste.it/evento/mercoledi-23-marzo-laura-marzadori/
LOCATION:Teatro Miela\, Piazza Luigi Amedeo Duca degli Abruzzi\, 3\, 34132\, Trieste\, 34132\, Italy
CATEGORIES:CROMATISMI 2022
ATTACH;FMTTYPE=image/jpeg:https://www.acmtrioditrieste.it/wp-content/uploads/2023/01/foto_CROMATISMI_-Marzadori-1140x760-1.jpg
ORGANIZER;CN="Chamber Music Trieste":MAILTO:info@acmtrioditrieste.it
END:VEVENT
BEGIN:VEVENT
DTSTART;TZID=UTC:20220309T203000
DTEND;TZID=UTC:20220309T223000
DTSTAMP:20260420T075035
CREATED:20230106T095136Z
LAST-MODIFIED:20251129T200123Z
UID:21485-1646857800-1646865000@www.acmtrioditrieste.it
SUMMARY:Boccherini String Trio
DESCRIPTION:I migliori talenti premiati ai Concorsi del Friuli Venezia Giulia 								\n				\n					\n		\n					\n		\n				\n						\n					\n			\n						\n						\n					\n			\n						\n				\n									Ensemble vincitore del 21° Concorso “Premio Trio di Trieste” musiche di Johannes Brahms 
URL:https://www.acmtrioditrieste.it/evento/mercoledi-9-marzo-boccherini-string-trio/
LOCATION:Teatro Miela\, Piazza Luigi Amedeo Duca degli Abruzzi\, 3\, 34132\, Trieste\, 34132\, Italy
CATEGORIES:CROMATISMI 2022
ATTACH;FMTTYPE=image/jpeg:https://www.acmtrioditrieste.it/wp-content/uploads/2023/01/foto_CROMATISMI11-1140x760-1.jpg
ORGANIZER;CN="Chamber Music Trieste":MAILTO:info@acmtrioditrieste.it
END:VEVENT
BEGIN:VEVENT
DTSTART;TZID=UTC:20220216T203000
DTEND;TZID=UTC:20220216T223000
DTSTAMP:20260420T075035
CREATED:20230106T094636Z
LAST-MODIFIED:20230110T161419Z
UID:21479-1645043400-1645050600@www.acmtrioditrieste.it
SUMMARY:Davide Ranaldi
DESCRIPTION:I migliori talenti premiati ai Concorsi del Friuli Venezia Giulia 								\n				\n					\n		\n					\n		\n				\n						\n					\n			\n						\n						\n					\n			\n						\n				\n									Ensemble vincitore del 21° Concorso “Premio Trio di Trieste” musiche di Johannes Brahms 
URL:https://www.acmtrioditrieste.it/evento/mercoledi-16-febbraio-davide-ranaldi/
LOCATION:Teatro Miela\, Piazza Luigi Amedeo Duca degli Abruzzi\, 3\, 34132\, Trieste\, 34132\, Italy
CATEGORIES:CROMATISMI 2022
ATTACH;FMTTYPE=image/jpeg:https://www.acmtrioditrieste.it/wp-content/uploads/2023/01/foto_CROMATISMI_pag26-scaled-1140x760-1.jpg
ORGANIZER;CN="Chamber Music Trieste":MAILTO:info@acmtrioditrieste.it
END:VEVENT
BEGIN:VEVENT
DTSTART;TZID=UTC:20220209T203000
DTEND;TZID=UTC:20220209T223000
DTSTAMP:20260420T075035
CREATED:20230106T094213Z
LAST-MODIFIED:20230110T161358Z
UID:21473-1644438600-1644445800@www.acmtrioditrieste.it
SUMMARY:Quatuor Hermès
DESCRIPTION:I migliori talenti premiati ai Concorsi del Friuli Venezia Giulia 								\n				\n					\n		\n					\n		\n				\n						\n					\n			\n						\n						\n					\n			\n						\n				\n									Ensemble vincitore del 21° Concorso “Premio Trio di Trieste” musiche di Johannes Brahms 
URL:https://www.acmtrioditrieste.it/evento/mercoledi-9-febbraio-quatuor-hermes/
LOCATION:Teatro Miela\, Piazza Luigi Amedeo Duca degli Abruzzi\, 3\, 34132\, Trieste\, 34132\, Italy
CATEGORIES:CROMATISMI 2022
ATTACH;FMTTYPE=image/jpeg:https://www.acmtrioditrieste.it/wp-content/uploads/2023/01/quartetto-hermes-scaled-1140x760-1.jpg
ORGANIZER;CN="Chamber Music Trieste":MAILTO:info@acmtrioditrieste.it
END:VEVENT
BEGIN:VEVENT
DTSTART;TZID=UTC:20220119T203000
DTEND;TZID=UTC:20220119T223000
DTSTAMP:20260420T075035
CREATED:20230106T093827Z
LAST-MODIFIED:20230110T161328Z
UID:21466-1642624200-1642631400@www.acmtrioditrieste.it
SUMMARY:Quartetto Noûs
DESCRIPTION:I migliori talenti premiati ai Concorsi del Friuli Venezia Giulia 								\n				\n					\n		\n					\n		\n				\n						\n					\n			\n						\n						\n					\n			\n						\n				\n									Ensemble vincitore del 21° Concorso “Premio Trio di Trieste” musiche di Johannes Brahms 
URL:https://www.acmtrioditrieste.it/evento/mercoledi-19-gennaio-quartetto-nous/
LOCATION:Teatro Miela\, Piazza Luigi Amedeo Duca degli Abruzzi\, 3\, 34132\, Trieste\, 34132\, Italy
CATEGORIES:CROMATISMI 2022
ATTACH;FMTTYPE=image/jpeg:https://www.acmtrioditrieste.it/wp-content/uploads/2023/01/foto_CROMATISMI19-1140x760-1.jpg
ORGANIZER;CN="Chamber Music Trieste":MAILTO:info@acmtrioditrieste.it
END:VEVENT
BEGIN:VEVENT
DTSTART;TZID=UTC:20220112T203000
DTEND;TZID=UTC:20220112T223000
DTSTAMP:20260420T075036
CREATED:20230106T093207Z
LAST-MODIFIED:20230110T161303Z
UID:21458-1642019400-1642026600@www.acmtrioditrieste.it
SUMMARY:Duo Silver – Garburg
DESCRIPTION:I migliori talenti premiati ai Concorsi del Friuli Venezia Giulia 								\n				\n					\n		\n					\n		\n				\n						\n					\n			\n						\n						\n					\n			\n						\n				\n									Ensemble vincitore del 21° Concorso “Premio Trio di Trieste” musiche di Johannes Brahms 
URL:https://www.acmtrioditrieste.it/evento/trio-smukler-adkins-plano-_duplicato/
LOCATION:Teatro Miela\, Piazza Luigi Amedeo Duca degli Abruzzi\, 3\, 34132\, Trieste\, 34132\, Italy
CATEGORIES:CROMATISMI 2022
ATTACH;FMTTYPE=image/jpeg:https://www.acmtrioditrieste.it/wp-content/uploads/2023/01/foto_CROMATISMI14-1140x760-1.jpg
ORGANIZER;CN="Chamber Music Trieste":MAILTO:info@acmtrioditrieste.it
END:VEVENT
BEGIN:VEVENT
DTSTART;TZID=UTC:20211221T180000
DTEND;TZID=UTC:20211221T190000
DTSTAMP:20260420T075036
CREATED:20230119T094007Z
LAST-MODIFIED:20230123T105050Z
UID:23466-1640109600-1640113200@www.acmtrioditrieste.it
SUMMARY:Duo Badila – Arai
DESCRIPTION:I migliori talenti premiati ai Concorsi del Friuli Venezia Giulia 								\n				\n					\n		\n					\n		\n				\n						\n					\n			\n						\n						\n					\n			\n						\n				\n									Ensemble vincitore del 21° Concorso “Premio Trio di Trieste” musiche di Johannes Brahms 
URL:https://www.acmtrioditrieste.it/evento/duo-badila-arai/
LOCATION:Hotel Savoia\, Riva del Mandracchio\, 4\, Trieste\, 34124
CATEGORIES:Concerti straordinari
ATTACH;FMTTYPE=image/png:https://www.acmtrioditrieste.it/wp-content/uploads/2023/01/Progetto-senza-titolo-5.png
ORGANIZER;CN="Chamber Music Trieste":MAILTO:info@acmtrioditrieste.it
END:VEVENT
BEGIN:VEVENT
DTSTART;TZID=UTC:20211210T203000
DTEND;TZID=UTC:20211210T220000
DTSTAMP:20260420T075036
CREATED:20230111T103011Z
LAST-MODIFIED:20230111T103708Z
UID:22225-1639168200-1639173600@www.acmtrioditrieste.it
SUMMARY:Benedetto Lupo
DESCRIPTION:I migliori talenti premiati ai Concorsi del Friuli Venezia Giulia 								\n				\n					\n		\n					\n		\n				\n						\n					\n			\n						\n						\n					\n			\n						\n				\n									Ensemble vincitore del 21° Concorso “Premio Trio di Trieste” musiche di Johannes Brahms 
URL:https://www.acmtrioditrieste.it/evento/benedetto-lupo/
LOCATION:Teatro Miela\, Piazza Luigi Amedeo Duca degli Abruzzi\, 3\, 34132\, Trieste\, 34132\, Italy
CATEGORIES:Festival Pianistico 2021
ATTACH;FMTTYPE=image/jpeg:https://www.acmtrioditrieste.it/wp-content/uploads/2023/01/lupo-1140x758-1.jpg
ORGANIZER;CN="Chamber Music Trieste":MAILTO:info@acmtrioditrieste.it
END:VEVENT
BEGIN:VEVENT
DTSTART;TZID=UTC:20211204T190000
DTEND;TZID=UTC:20211204T200000
DTSTAMP:20260420T075036
CREATED:20230119T094558Z
LAST-MODIFIED:20230123T105321Z
UID:23476-1638644400-1638648000@www.acmtrioditrieste.it
SUMMARY:Carta Bianca al Duo Sinossi con Walter Auer
DESCRIPTION:I migliori talenti premiati ai Concorsi del Friuli Venezia Giulia 								\n				\n					\n		\n					\n		\n				\n						\n					\n			\n						\n						\n					\n			\n						\n				\n									Ensemble vincitore del 21° Concorso “Premio Trio di Trieste” musiche di Johannes Brahms 
URL:https://www.acmtrioditrieste.it/evento/carta-bianca-al-duo-sinossi-con-walter-auer/
LOCATION:Hotel Savoia\, Riva del Mandracchio\, 4\, Trieste\, 34124
CATEGORIES:Concerti straordinari
ATTACH;FMTTYPE=image/jpeg:https://www.acmtrioditrieste.it/wp-content/uploads/2023/01/HOTEL-SAVOIA-SALA-TERGESTE-LAST.jpg
ORGANIZER;CN="Chamber Music Trieste":MAILTO:info@acmtrioditrieste.it
END:VEVENT
END:VCALENDAR