BEGIN:VCALENDAR
VERSION:2.0
PRODID:-//ACM Associazione Chamber Music - ECPv6.3.7//NONSGML v1.0//EN
CALSCALE:GREGORIAN
METHOD:PUBLISH
X-WR-CALNAME:ACM Associazione Chamber Music
X-ORIGINAL-URL:https://www.acmtrioditrieste.it
X-WR-CALDESC:Events for ACM Associazione Chamber Music
REFRESH-INTERVAL;VALUE=DURATION:PT1H
X-Robots-Tag:noindex
X-PUBLISHED-TTL:PT1H
BEGIN:VTIMEZONE
TZID:UTC
BEGIN:STANDARD
TZOFFSETFROM:+0000
TZOFFSETTO:+0000
TZNAME:UTC
DTSTART:20210101T000000
END:STANDARD
END:VTIMEZONE
BEGIN:VEVENT
DTSTART;TZID=UTC:20220406T203000
DTEND;TZID=UTC:20220406T223000
DTSTAMP:20260420T200101
CREATED:20230106T101006Z
LAST-MODIFIED:20250807T140205Z
UID:21497-1649277000-1649284200@www.acmtrioditrieste.it
SUMMARY:Duo Beltramini – Arosio
DESCRIPTION:I migliori talenti premiati ai Concorsi del Friuli Venezia Giulia 								\n				\n					\n		\n					\n		\n				\n						\n					\n			\n						\n						\n					\n			\n						\n				\n									Ensemble vincitore del 21° Concorso “Premio Trio di Trieste” musiche di Johannes Brahms 
URL:https://www.acmtrioditrieste.it/evento/mercoledi-23-marzo-laura-marzadori-_duplicato/
LOCATION:Teatro Miela\, Piazza Luigi Amedeo Duca degli Abruzzi\, 3\, 34132\, Trieste\, 34132\, Italy
CATEGORIES:CROMATISMI 2022
ATTACH;FMTTYPE=image/jpeg:https://www.acmtrioditrieste.it/wp-content/uploads/2023/01/Duo_Beltramini_-_Arosio_Thumb_HighlightCenter263606.jpg
ORGANIZER;CN="Chamber Music Trieste":MAILTO:info@acmtrioditrieste.it
END:VEVENT
BEGIN:VEVENT
DTSTART;TZID=UTC:20220323T203000
DTEND;TZID=UTC:20220323T223000
DTSTAMP:20260420T200101
CREATED:20230106T095510Z
LAST-MODIFIED:20230110T161517Z
UID:21491-1648067400-1648074600@www.acmtrioditrieste.it
SUMMARY:Laura Marzadori
DESCRIPTION:I migliori talenti premiati ai Concorsi del Friuli Venezia Giulia 								\n				\n					\n		\n					\n		\n				\n						\n					\n			\n						\n						\n					\n			\n						\n				\n									Ensemble vincitore del 21° Concorso “Premio Trio di Trieste” musiche di Johannes Brahms 
URL:https://www.acmtrioditrieste.it/evento/mercoledi-23-marzo-laura-marzadori/
LOCATION:Teatro Miela\, Piazza Luigi Amedeo Duca degli Abruzzi\, 3\, 34132\, Trieste\, 34132\, Italy
CATEGORIES:CROMATISMI 2022
ATTACH;FMTTYPE=image/jpeg:https://www.acmtrioditrieste.it/wp-content/uploads/2023/01/foto_CROMATISMI_-Marzadori-1140x760-1.jpg
ORGANIZER;CN="Chamber Music Trieste":MAILTO:info@acmtrioditrieste.it
END:VEVENT
BEGIN:VEVENT
DTSTART;TZID=UTC:20220309T203000
DTEND;TZID=UTC:20220309T223000
DTSTAMP:20260420T200101
CREATED:20230106T095136Z
LAST-MODIFIED:20251129T200123Z
UID:21485-1646857800-1646865000@www.acmtrioditrieste.it
SUMMARY:Boccherini String Trio
DESCRIPTION:I migliori talenti premiati ai Concorsi del Friuli Venezia Giulia 								\n				\n					\n		\n					\n		\n				\n						\n					\n			\n						\n						\n					\n			\n						\n				\n									Ensemble vincitore del 21° Concorso “Premio Trio di Trieste” musiche di Johannes Brahms 
URL:https://www.acmtrioditrieste.it/evento/mercoledi-9-marzo-boccherini-string-trio/
LOCATION:Teatro Miela\, Piazza Luigi Amedeo Duca degli Abruzzi\, 3\, 34132\, Trieste\, 34132\, Italy
CATEGORIES:CROMATISMI 2022
ATTACH;FMTTYPE=image/jpeg:https://www.acmtrioditrieste.it/wp-content/uploads/2023/01/foto_CROMATISMI11-1140x760-1.jpg
ORGANIZER;CN="Chamber Music Trieste":MAILTO:info@acmtrioditrieste.it
END:VEVENT
BEGIN:VEVENT
DTSTART;TZID=UTC:20220216T203000
DTEND;TZID=UTC:20220216T223000
DTSTAMP:20260420T200101
CREATED:20230106T094636Z
LAST-MODIFIED:20230110T161419Z
UID:21479-1645043400-1645050600@www.acmtrioditrieste.it
SUMMARY:Davide Ranaldi
DESCRIPTION:I migliori talenti premiati ai Concorsi del Friuli Venezia Giulia 								\n				\n					\n		\n					\n		\n				\n						\n					\n			\n						\n						\n					\n			\n						\n				\n									Ensemble vincitore del 21° Concorso “Premio Trio di Trieste” musiche di Johannes Brahms 
URL:https://www.acmtrioditrieste.it/evento/mercoledi-16-febbraio-davide-ranaldi/
LOCATION:Teatro Miela\, Piazza Luigi Amedeo Duca degli Abruzzi\, 3\, 34132\, Trieste\, 34132\, Italy
CATEGORIES:CROMATISMI 2022
ATTACH;FMTTYPE=image/jpeg:https://www.acmtrioditrieste.it/wp-content/uploads/2023/01/foto_CROMATISMI_pag26-scaled-1140x760-1.jpg
ORGANIZER;CN="Chamber Music Trieste":MAILTO:info@acmtrioditrieste.it
END:VEVENT
BEGIN:VEVENT
DTSTART;TZID=UTC:20220209T203000
DTEND;TZID=UTC:20220209T223000
DTSTAMP:20260420T200101
CREATED:20230106T094213Z
LAST-MODIFIED:20230110T161358Z
UID:21473-1644438600-1644445800@www.acmtrioditrieste.it
SUMMARY:Quatuor Hermès
DESCRIPTION:I migliori talenti premiati ai Concorsi del Friuli Venezia Giulia 								\n				\n					\n		\n					\n		\n				\n						\n					\n			\n						\n						\n					\n			\n						\n				\n									Ensemble vincitore del 21° Concorso “Premio Trio di Trieste” musiche di Johannes Brahms 
URL:https://www.acmtrioditrieste.it/evento/mercoledi-9-febbraio-quatuor-hermes/
LOCATION:Teatro Miela\, Piazza Luigi Amedeo Duca degli Abruzzi\, 3\, 34132\, Trieste\, 34132\, Italy
CATEGORIES:CROMATISMI 2022
ATTACH;FMTTYPE=image/jpeg:https://www.acmtrioditrieste.it/wp-content/uploads/2023/01/quartetto-hermes-scaled-1140x760-1.jpg
ORGANIZER;CN="Chamber Music Trieste":MAILTO:info@acmtrioditrieste.it
END:VEVENT
BEGIN:VEVENT
DTSTART;TZID=UTC:20220119T203000
DTEND;TZID=UTC:20220119T223000
DTSTAMP:20260420T200101
CREATED:20230106T093827Z
LAST-MODIFIED:20230110T161328Z
UID:21466-1642624200-1642631400@www.acmtrioditrieste.it
SUMMARY:Quartetto Noûs
DESCRIPTION:I migliori talenti premiati ai Concorsi del Friuli Venezia Giulia 								\n				\n					\n		\n					\n		\n				\n						\n					\n			\n						\n						\n					\n			\n						\n				\n									Ensemble vincitore del 21° Concorso “Premio Trio di Trieste” musiche di Johannes Brahms 
URL:https://www.acmtrioditrieste.it/evento/mercoledi-19-gennaio-quartetto-nous/
LOCATION:Teatro Miela\, Piazza Luigi Amedeo Duca degli Abruzzi\, 3\, 34132\, Trieste\, 34132\, Italy
CATEGORIES:CROMATISMI 2022
ATTACH;FMTTYPE=image/jpeg:https://www.acmtrioditrieste.it/wp-content/uploads/2023/01/foto_CROMATISMI19-1140x760-1.jpg
ORGANIZER;CN="Chamber Music Trieste":MAILTO:info@acmtrioditrieste.it
END:VEVENT
BEGIN:VEVENT
DTSTART;TZID=UTC:20220112T203000
DTEND;TZID=UTC:20220112T223000
DTSTAMP:20260420T200101
CREATED:20230106T093207Z
LAST-MODIFIED:20230110T161303Z
UID:21458-1642019400-1642026600@www.acmtrioditrieste.it
SUMMARY:Duo Silver – Garburg
DESCRIPTION:I migliori talenti premiati ai Concorsi del Friuli Venezia Giulia 								\n				\n					\n		\n					\n		\n				\n						\n					\n			\n						\n						\n					\n			\n						\n				\n									Ensemble vincitore del 21° Concorso “Premio Trio di Trieste” musiche di Johannes Brahms 
URL:https://www.acmtrioditrieste.it/evento/trio-smukler-adkins-plano-_duplicato/
LOCATION:Teatro Miela\, Piazza Luigi Amedeo Duca degli Abruzzi\, 3\, 34132\, Trieste\, 34132\, Italy
CATEGORIES:CROMATISMI 2022
ATTACH;FMTTYPE=image/jpeg:https://www.acmtrioditrieste.it/wp-content/uploads/2023/01/foto_CROMATISMI14-1140x760-1.jpg
ORGANIZER;CN="Chamber Music Trieste":MAILTO:info@acmtrioditrieste.it
END:VEVENT
BEGIN:VEVENT
DTSTART;TZID=UTC:20211221T180000
DTEND;TZID=UTC:20211221T190000
DTSTAMP:20260420T200101
CREATED:20230119T094007Z
LAST-MODIFIED:20230123T105050Z
UID:23466-1640109600-1640113200@www.acmtrioditrieste.it
SUMMARY:Duo Badila – Arai
DESCRIPTION:I migliori talenti premiati ai Concorsi del Friuli Venezia Giulia 								\n				\n					\n		\n					\n		\n				\n						\n					\n			\n						\n						\n					\n			\n						\n				\n									Ensemble vincitore del 21° Concorso “Premio Trio di Trieste” musiche di Johannes Brahms 
URL:https://www.acmtrioditrieste.it/evento/duo-badila-arai/
LOCATION:Hotel Savoia\, Riva del Mandracchio\, 4\, Trieste\, 34124
CATEGORIES:Concerti straordinari
ATTACH;FMTTYPE=image/png:https://www.acmtrioditrieste.it/wp-content/uploads/2023/01/Progetto-senza-titolo-5.png
ORGANIZER;CN="Chamber Music Trieste":MAILTO:info@acmtrioditrieste.it
END:VEVENT
BEGIN:VEVENT
DTSTART;TZID=UTC:20211210T203000
DTEND;TZID=UTC:20211210T220000
DTSTAMP:20260420T200101
CREATED:20230111T103011Z
LAST-MODIFIED:20230111T103708Z
UID:22225-1639168200-1639173600@www.acmtrioditrieste.it
SUMMARY:Benedetto Lupo
DESCRIPTION:I migliori talenti premiati ai Concorsi del Friuli Venezia Giulia 								\n				\n					\n		\n					\n		\n				\n						\n					\n			\n						\n						\n					\n			\n						\n				\n									Ensemble vincitore del 21° Concorso “Premio Trio di Trieste” musiche di Johannes Brahms 
URL:https://www.acmtrioditrieste.it/evento/benedetto-lupo/
LOCATION:Teatro Miela\, Piazza Luigi Amedeo Duca degli Abruzzi\, 3\, 34132\, Trieste\, 34132\, Italy
CATEGORIES:Festival Pianistico 2021
ATTACH;FMTTYPE=image/jpeg:https://www.acmtrioditrieste.it/wp-content/uploads/2023/01/lupo-1140x758-1.jpg
ORGANIZER;CN="Chamber Music Trieste":MAILTO:info@acmtrioditrieste.it
END:VEVENT
BEGIN:VEVENT
DTSTART;TZID=UTC:20211204T190000
DTEND;TZID=UTC:20211204T200000
DTSTAMP:20260420T200101
CREATED:20230119T094558Z
LAST-MODIFIED:20230123T105321Z
UID:23476-1638644400-1638648000@www.acmtrioditrieste.it
SUMMARY:Carta Bianca al Duo Sinossi con Walter Auer
DESCRIPTION:I migliori talenti premiati ai Concorsi del Friuli Venezia Giulia 								\n				\n					\n		\n					\n		\n				\n						\n					\n			\n						\n						\n					\n			\n						\n				\n									Ensemble vincitore del 21° Concorso “Premio Trio di Trieste” musiche di Johannes Brahms 
URL:https://www.acmtrioditrieste.it/evento/carta-bianca-al-duo-sinossi-con-walter-auer/
LOCATION:Hotel Savoia\, Riva del Mandracchio\, 4\, Trieste\, 34124
CATEGORIES:Concerti straordinari
ATTACH;FMTTYPE=image/jpeg:https://www.acmtrioditrieste.it/wp-content/uploads/2023/01/HOTEL-SAVOIA-SALA-TERGESTE-LAST.jpg
ORGANIZER;CN="Chamber Music Trieste":MAILTO:info@acmtrioditrieste.it
END:VEVENT
BEGIN:VEVENT
DTSTART;TZID=UTC:20211204T190000
DTEND;TZID=UTC:20211204T200000
DTSTAMP:20260420T200101
CREATED:20230119T094424Z
LAST-MODIFIED:20230123T105357Z
UID:23478-1638644400-1638648000@www.acmtrioditrieste.it
SUMMARY:Carta Bianca al Duo Sinossi con Francesco De Angelis
DESCRIPTION:I migliori talenti premiati ai Concorsi del Friuli Venezia Giulia 								\n				\n					\n		\n					\n		\n				\n						\n					\n			\n						\n						\n					\n			\n						\n				\n									Ensemble vincitore del 21° Concorso “Premio Trio di Trieste” musiche di Johannes Brahms 
URL:https://www.acmtrioditrieste.it/evento/carta-bianca-al-duo-sinossi-con-francesco-de-angelis/
LOCATION:Hotel Savoia\, Riva del Mandracchio\, 4\, Trieste\, 34124
CATEGORIES:Concerti straordinari
ATTACH;FMTTYPE=image/jpeg:https://www.acmtrioditrieste.it/wp-content/uploads/2023/01/HOTEL-SAVOIA-SALA-TERGESTE-1-LAST.jpg
ORGANIZER;CN="Chamber Music Trieste":MAILTO:info@acmtrioditrieste.it
END:VEVENT
BEGIN:VEVENT
DTSTART;TZID=UTC:20211129T203000
DTEND;TZID=UTC:20211129T220000
DTSTAMP:20260420T200101
CREATED:20230111T103529Z
LAST-MODIFIED:20230111T103638Z
UID:22237-1638217800-1638223200@www.acmtrioditrieste.it
SUMMARY:Gile Bae
DESCRIPTION:I migliori talenti premiati ai Concorsi del Friuli Venezia Giulia 								\n				\n					\n		\n					\n		\n				\n						\n					\n			\n						\n						\n					\n			\n						\n				\n									Ensemble vincitore del 21° Concorso “Premio Trio di Trieste” musiche di Johannes Brahms 
URL:https://www.acmtrioditrieste.it/evento/gile-bae/
LOCATION:Teatro Miela\, Piazza Luigi Amedeo Duca degli Abruzzi\, 3\, 34132\, Trieste\, 34132\, Italy
CATEGORIES:Festival Pianistico 2021
ATTACH;FMTTYPE=image/jpeg:https://www.acmtrioditrieste.it/wp-content/uploads/2023/01/TEATRO-MIELA.jpg
ORGANIZER;CN="Chamber Music Trieste":MAILTO:info@acmtrioditrieste.it
END:VEVENT
BEGIN:VEVENT
DTSTART;TZID=UTC:20211122T203000
DTEND;TZID=UTC:20211122T220000
DTSTAMP:20260420T200101
CREATED:20230119T094816Z
LAST-MODIFIED:20230123T105537Z
UID:23477-1637613000-1637618400@www.acmtrioditrieste.it
SUMMARY:Josek Suk Piano Quartet con Slowind
DESCRIPTION:I migliori talenti premiati ai Concorsi del Friuli Venezia Giulia 								\n				\n					\n		\n					\n		\n				\n						\n					\n			\n						\n						\n					\n			\n						\n				\n									Ensemble vincitore del 21° Concorso “Premio Trio di Trieste” musiche di Johannes Brahms 
URL:https://www.acmtrioditrieste.it/evento/josek-suk-piano-quartet-con-slowind/
LOCATION:Teatro Miela\, Piazza Luigi Amedeo Duca degli Abruzzi\, 3\, 34132\, Trieste\, 34132\, Italy
CATEGORIES:Concerti straordinari
ATTACH;FMTTYPE=image/png:https://www.acmtrioditrieste.it/wp-content/uploads/2023/01/Slo-slo.png
ORGANIZER;CN="Chamber Music Trieste":MAILTO:info@acmtrioditrieste.it
END:VEVENT
BEGIN:VEVENT
DTSTART;TZID=UTC:20211018T180000
DTEND;TZID=UTC:20211018T203000
DTSTAMP:20260420T200101
CREATED:20230111T103753Z
LAST-MODIFIED:20230111T105041Z
UID:22236-1634580000-1634589000@www.acmtrioditrieste.it
SUMMARY:Severin von Eckardstein
DESCRIPTION:I migliori talenti premiati ai Concorsi del Friuli Venezia Giulia 								\n				\n					\n		\n					\n		\n				\n						\n					\n			\n						\n						\n					\n			\n						\n				\n									Ensemble vincitore del 21° Concorso “Premio Trio di Trieste” musiche di Johannes Brahms 
URL:https://www.acmtrioditrieste.it/evento/severin-von-eckardstein/
LOCATION:Hotel Savoia\, Riva del Mandracchio\, 4\, Trieste\, 34124
CATEGORIES:Festival Pianistico 2021
ATTACH;FMTTYPE=image/jpeg:https://www.acmtrioditrieste.it/wp-content/uploads/2023/01/SEVERIN-VON-ECKARDSTEIN-.jpg
ORGANIZER;CN="Chamber Music Trieste":MAILTO:info@acmtrioditrieste.it
END:VEVENT
BEGIN:VEVENT
DTSTART;TZID=UTC:20211004T180000
DTEND;TZID=UTC:20211004T203000
DTSTAMP:20260420T200101
CREATED:20230111T104052Z
LAST-MODIFIED:20230111T105217Z
UID:22235-1633370400-1633379400@www.acmtrioditrieste.it
SUMMARY:Sebastiano Mesaglio
DESCRIPTION:I migliori talenti premiati ai Concorsi del Friuli Venezia Giulia 								\n				\n					\n		\n					\n		\n				\n						\n					\n			\n						\n						\n					\n			\n						\n				\n									Ensemble vincitore del 21° Concorso “Premio Trio di Trieste” musiche di Johannes Brahms 
URL:https://www.acmtrioditrieste.it/evento/sebastiano-mesaglio/
LOCATION:Hotel Savoia\, Riva del Mandracchio\, 4\, Trieste\, 34124
CATEGORIES:Festival Pianistico 2021
ATTACH;FMTTYPE=image/jpeg:https://www.acmtrioditrieste.it/wp-content/uploads/2023/01/DSC_2803-1140x637-1.jpg
ORGANIZER;CN="Chamber Music Trieste":MAILTO:info@acmtrioditrieste.it
END:VEVENT
BEGIN:VEVENT
DTSTART;TZID=UTC:20210927T180000
DTEND;TZID=UTC:20210927T200000
DTSTAMP:20260420T200101
CREATED:20230111T104743Z
LAST-MODIFIED:20230111T104927Z
UID:22234-1632765600-1632772800@www.acmtrioditrieste.it
SUMMARY:Alexander Gadjiev
DESCRIPTION:I migliori talenti premiati ai Concorsi del Friuli Venezia Giulia 								\n				\n					\n		\n					\n		\n				\n						\n					\n			\n						\n						\n					\n			\n						\n				\n									Ensemble vincitore del 21° Concorso “Premio Trio di Trieste” musiche di Johannes Brahms 
URL:https://www.acmtrioditrieste.it/evento/alexander-gadjiev/
LOCATION:Hotel Savoia\, Riva del Mandracchio\, 4\, Trieste\, 34124
CATEGORIES:Festival Pianistico 2021
ATTACH;FMTTYPE=image/jpeg:https://www.acmtrioditrieste.it/wp-content/uploads/2023/01/Alexander-Gadjev.jpg
ORGANIZER;CN="Chamber Music Trieste":MAILTO:info@acmtrioditrieste.it
END:VEVENT
BEGIN:VEVENT
DTSTART;TZID=UTC:20210926T180000
DTEND;TZID=UTC:20210926T190000
DTSTAMP:20260420T200101
CREATED:20230117T095741Z
LAST-MODIFIED:20230117T100011Z
UID:23321-1632679200-1632682800@www.acmtrioditrieste.it
SUMMARY:Mark Rothko Ensemble con Vincenzo Brancaccio
DESCRIPTION:I migliori talenti premiati ai Concorsi del Friuli Venezia Giulia 								\n				\n					\n		\n					\n		\n				\n						\n					\n			\n						\n						\n					\n			\n						\n				\n									Ensemble vincitore del 21° Concorso “Premio Trio di Trieste” musiche di Johannes Brahms 
URL:https://www.acmtrioditrieste.it/evento/mark-rothko-ensemble-con-vincenzo-brancaccio/
LOCATION:DoubleTree by Hilton Trieste\, Piazza della Repubblica\, 1\, Trieste\, Seleziona uno Stato:\, 34122\, Italia
CATEGORIES:Aperitivo Classico 2021
ATTACH;FMTTYPE=image/png:https://www.acmtrioditrieste.it/wp-content/uploads/2023/01/Progetto-senza-titolo-7-1140x501-1.png
ORGANIZER;CN="Chamber Music Trieste":MAILTO:info@acmtrioditrieste.it
END:VEVENT
BEGIN:VEVENT
DTSTART;TZID=UTC:20210919T180000
DTEND;TZID=UTC:20210919T190000
DTSTAMP:20260420T200101
CREATED:20230117T100807Z
LAST-MODIFIED:20230117T100902Z
UID:23333-1632074400-1632078000@www.acmtrioditrieste.it
SUMMARY:Maria Iaiza
DESCRIPTION:I migliori talenti premiati ai Concorsi del Friuli Venezia Giulia 								\n				\n					\n		\n					\n		\n				\n						\n					\n			\n						\n						\n					\n			\n						\n				\n									Ensemble vincitore del 21° Concorso “Premio Trio di Trieste” musiche di Johannes Brahms 
URL:https://www.acmtrioditrieste.it/evento/maria-iaiza/
LOCATION:DoubleTree by Hilton Trieste\, Piazza della Repubblica\, 1\, Trieste\, Seleziona uno Stato:\, 34122\, Italia
CATEGORIES:Aperitivo Classico 2021
ATTACH;FMTTYPE=image/jpeg:https://www.acmtrioditrieste.it/wp-content/uploads/2023/01/DSC_1690-Iaiza-1140x755-1.jpg
ORGANIZER;CN="Chamber Music Trieste":MAILTO:info@acmtrioditrieste.it
END:VEVENT
BEGIN:VEVENT
DTSTART;TZID=UTC:20210912T180000
DTEND;TZID=UTC:20210912T190000
DTSTAMP:20260420T200101
CREATED:20230117T101042Z
LAST-MODIFIED:20230117T102308Z
UID:23331-1631469600-1631473200@www.acmtrioditrieste.it
SUMMARY:Duo Badila – Furukubo
DESCRIPTION:I migliori talenti premiati ai Concorsi del Friuli Venezia Giulia 								\n				\n					\n		\n					\n		\n				\n						\n					\n			\n						\n						\n					\n			\n						\n				\n									Ensemble vincitore del 21° Concorso “Premio Trio di Trieste” musiche di Johannes Brahms 
URL:https://www.acmtrioditrieste.it/evento/duo-badila-furukubo/
LOCATION:DoubleTree by Hilton Trieste\, Piazza della Repubblica\, 1\, Trieste\, Seleziona uno Stato:\, 34122\, Italia
CATEGORIES:Aperitivo Classico 2021
ATTACH;FMTTYPE=image/png:https://www.acmtrioditrieste.it/wp-content/uploads/2023/01/Progetto-senza-titolo-6-1140x501-1.png
ORGANIZER;CN="Chamber Music Trieste":MAILTO:info@acmtrioditrieste.it
END:VEVENT
BEGIN:VEVENT
DTSTART;TZID=UTC:20210905T180000
DTEND;TZID=UTC:20210905T190000
DTSTAMP:20260420T200101
CREATED:20230117T101336Z
LAST-MODIFIED:20230117T101429Z
UID:23332-1630864800-1630868400@www.acmtrioditrieste.it
SUMMARY:Duo Brancaccio – Miani
DESCRIPTION:I migliori talenti premiati ai Concorsi del Friuli Venezia Giulia 								\n				\n					\n		\n					\n		\n				\n						\n					\n			\n						\n						\n					\n			\n						\n				\n									Ensemble vincitore del 21° Concorso “Premio Trio di Trieste” musiche di Johannes Brahms 
URL:https://www.acmtrioditrieste.it/evento/duo-brancaccio-miani/
LOCATION:DoubleTree by Hilton Trieste\, Piazza della Repubblica\, 1\, Trieste\, Seleziona uno Stato:\, 34122\, Italia
CATEGORIES:Aperitivo Classico 2021
ATTACH;FMTTYPE=image/png:https://www.acmtrioditrieste.it/wp-content/uploads/2023/01/Progetto-senza-titolo-5-1140x501-1.png
ORGANIZER;CN="Chamber Music Trieste":MAILTO:info@acmtrioditrieste.it
END:VEVENT
BEGIN:VEVENT
DTSTART;TZID=UTC:20210804T180000
DTEND;TZID=UTC:20210804T190000
DTSTAMP:20260420T200101
CREATED:20230119T101801Z
LAST-MODIFIED:20230123T105647Z
UID:23473-1628100000-1628103600@www.acmtrioditrieste.it
SUMMARY:TRIO CHAGALL
DESCRIPTION:I migliori talenti premiati ai Concorsi del Friuli Venezia Giulia 								\n				\n					\n		\n					\n		\n				\n						\n					\n			\n						\n						\n					\n			\n						\n				\n									Ensemble vincitore del 21° Concorso “Premio Trio di Trieste” musiche di Johannes Brahms 
URL:https://www.acmtrioditrieste.it/evento/trio-chagall/
LOCATION:Chiesa di San Giusto\, Cortile delle Milizie 21\, Trieste\, Italia
CATEGORIES:Concerti straordinari
ATTACH;FMTTYPE=image/jpeg:https://www.acmtrioditrieste.it/wp-content/uploads/2023/01/trio-chagall-foto-nuova-1140x760-1.jpg
ORGANIZER;CN="Chamber Music Trieste":MAILTO:info@acmtrioditrieste.it
END:VEVENT
BEGIN:VEVENT
DTSTART;TZID=UTC:20210718T113000
DTEND;TZID=UTC:20210718T123000
DTSTAMP:20260420T200101
CREATED:20230119T101447Z
LAST-MODIFIED:20230123T105556Z
UID:23475-1626607800-1626611400@www.acmtrioditrieste.it
SUMMARY:SEVENSMILES
DESCRIPTION:I migliori talenti premiati ai Concorsi del Friuli Venezia Giulia 								\n				\n					\n		\n					\n		\n				\n						\n					\n			\n						\n						\n					\n			\n						\n				\n									Ensemble vincitore del 21° Concorso “Premio Trio di Trieste” musiche di Johannes Brahms 
URL:https://www.acmtrioditrieste.it/evento/sevensmiles/
LOCATION:Sala Luttazzi\, Magazzino 26 Porto Vecchio\, Trieste
CATEGORIES:Concerti straordinari
ATTACH;FMTTYPE=image/jpeg:https://www.acmtrioditrieste.it/wp-content/uploads/2023/01/SevenSmiles.jpeg
ORGANIZER;CN="Chamber Music Trieste":MAILTO:info@acmtrioditrieste.it
END:VEVENT
BEGIN:VEVENT
DTSTART;TZID=UTC:20210621T180000
DTEND;TZID=UTC:20210621T223000
DTSTAMP:20260420T200101
CREATED:20230109T143236Z
LAST-MODIFIED:20230110T161151Z
UID:21602-1624298400-1624314600@www.acmtrioditrieste.it
SUMMARY:Duo Piccotti – Pierdomenico
DESCRIPTION:I migliori talenti premiati ai Concorsi del Friuli Venezia Giulia 								\n				\n					\n		\n					\n		\n				\n						\n					\n			\n						\n						\n					\n			\n						\n				\n									Ensemble vincitore del 21° Concorso “Premio Trio di Trieste” musiche di Johannes Brahms 
URL:https://www.acmtrioditrieste.it/evento/lunedi-21-giugno-2021-duo-piccotti-pierdomenico/
LOCATION:Hotel Savoia\, Riva del Mandracchio\, 4\, Trieste\, 34124
CATEGORIES:Stagione Concertistica 2021
ATTACH;FMTTYPE=image/jpeg:https://www.acmtrioditrieste.it/wp-content/uploads/2023/01/immagine_3-1140x501-1.jpg
ORGANIZER;CN="Chamber Music Trieste":MAILTO:info@acmtrioditrieste.it
END:VEVENT
BEGIN:VEVENT
DTSTART;TZID=UTC:20210621T180000
DTEND;TZID=UTC:20210621T213000
DTSTAMP:20260420T200101
CREATED:20230109T143648Z
LAST-MODIFIED:20230110T161131Z
UID:21609-1624298400-1624311000@www.acmtrioditrieste.it
SUMMARY:Quartetto Hermès
DESCRIPTION:I migliori talenti premiati ai Concorsi del Friuli Venezia Giulia 								\n				\n					\n		\n					\n		\n				\n						\n					\n			\n						\n						\n					\n			\n						\n				\n									Ensemble vincitore del 21° Concorso “Premio Trio di Trieste” musiche di Johannes Brahms 
URL:https://www.acmtrioditrieste.it/evento/lunedi-28-giugno-2021-quartetto-hermes/
LOCATION:Hotel Savoia\, Riva del Mandracchio\, 4\, Trieste\, 34124
CATEGORIES:Stagione Concertistica 2021
ATTACH;FMTTYPE=image/jpeg:https://www.acmtrioditrieste.it/wp-content/uploads/2023/01/hermes-32-1140x760-1.jpg
ORGANIZER;CN="Chamber Music Trieste":MAILTO:info@acmtrioditrieste.it
END:VEVENT
BEGIN:VEVENT
DTSTART;TZID=UTC:20210614T180000
DTEND;TZID=UTC:20210614T223000
DTSTAMP:20260420T200101
CREATED:20230109T142612Z
LAST-MODIFIED:20230110T161043Z
UID:21583-1623693600-1623709800@www.acmtrioditrieste.it
SUMMARY:Trio Quodlibet
DESCRIPTION:I migliori talenti premiati ai Concorsi del Friuli Venezia Giulia 								\n				\n					\n		\n					\n		\n				\n						\n					\n			\n						\n						\n					\n			\n						\n				\n									Ensemble vincitore del 21° Concorso “Premio Trio di Trieste” musiche di Johannes Brahms 
URL:https://www.acmtrioditrieste.it/evento/lunedi-14-giugno-2021-trio-quodlibet/
LOCATION:Hotel Savoia\, Riva del Mandracchio\, 4\, Trieste\, 34124
CATEGORIES:Stagione Concertistica 2021
ATTACH;FMTTYPE=image/jpeg:https://www.acmtrioditrieste.it/wp-content/uploads/2023/01/0571ee_070fd754980e428ba061caed01d38e6emv2-1140x462-1.jpg
ORGANIZER;CN="Chamber Music Trieste":MAILTO:info@acmtrioditrieste.it
END:VEVENT
BEGIN:VEVENT
DTSTART;TZID=UTC:20210610T193000
DTEND;TZID=UTC:20210610T223000
DTSTAMP:20260420T200101
CREATED:20230109T142355Z
LAST-MODIFIED:20230110T161009Z
UID:21582-1623353400-1623364200@www.acmtrioditrieste.it
SUMMARY:Carta bianca al Duo Sinossi con Miani e Oganjan
DESCRIPTION:I migliori talenti premiati ai Concorsi del Friuli Venezia Giulia 								\n				\n					\n		\n					\n		\n				\n						\n					\n			\n						\n						\n					\n			\n						\n				\n									Ensemble vincitore del 21° Concorso “Premio Trio di Trieste” musiche di Johannes Brahms 
URL:https://www.acmtrioditrieste.it/evento/giovedi-10-giugno-2021-carta-bianca-al-duo-sinossi-con-miani-e-oganjan/
LOCATION:Teatro Miela\, Piazza Luigi Amedeo Duca degli Abruzzi\, 3\, 34132\, Trieste\, 34132\, Italy
CATEGORIES:Stagione Concertistica 2021
ATTACH;FMTTYPE=image/jpeg:https://www.acmtrioditrieste.it/wp-content/uploads/2023/01/immagine.jpg
ORGANIZER;CN="Chamber Music Trieste":MAILTO:info@acmtrioditrieste.it
END:VEVENT
BEGIN:VEVENT
DTSTART;TZID=UTC:20210607T193000
DTEND;TZID=UTC:20210607T223000
DTSTAMP:20260420T200101
CREATED:20230109T142120Z
LAST-MODIFIED:20230110T160930Z
UID:21581-1623094200-1623105000@www.acmtrioditrieste.it
SUMMARY:Massimo Polidori con Giorgio Pugliaro
DESCRIPTION:I migliori talenti premiati ai Concorsi del Friuli Venezia Giulia 								\n				\n					\n		\n					\n		\n				\n						\n					\n			\n						\n						\n					\n			\n						\n				\n									Ensemble vincitore del 21° Concorso “Premio Trio di Trieste” musiche di Johannes Brahms 
URL:https://www.acmtrioditrieste.it/evento/lunedi-7-giugno-2021-massimo-polidori-con-giorgio-pugliaro/
LOCATION:Teatro Miela\, Piazza Luigi Amedeo Duca degli Abruzzi\, 3\, 34132\, Trieste\, 34132\, Italy
CATEGORIES:Stagione Concertistica 2021
ATTACH;FMTTYPE=image/jpeg:https://www.acmtrioditrieste.it/wp-content/uploads/2023/01/immagine_2.jpg
ORGANIZER;CN="Chamber Music Trieste":MAILTO:info@acmtrioditrieste.it
END:VEVENT
BEGIN:VEVENT
DTSTART;TZID=UTC:20210603T193000
DTEND;TZID=UTC:20210603T223000
DTSTAMP:20260420T200101
CREATED:20230109T141818Z
LAST-MODIFIED:20230110T160907Z
UID:21575-1622748600-1622759400@www.acmtrioditrieste.it
SUMMARY:Trio Boccherini
DESCRIPTION:I migliori talenti premiati ai Concorsi del Friuli Venezia Giulia 								\n				\n					\n		\n					\n		\n				\n						\n					\n			\n						\n						\n					\n			\n						\n				\n									Ensemble vincitore del 21° Concorso “Premio Trio di Trieste” musiche di Johannes Brahms 
URL:https://www.acmtrioditrieste.it/evento/giovedi-3-giugno-2021-trio-boccherini/
LOCATION:Teatro Miela\, Piazza Luigi Amedeo Duca degli Abruzzi\, 3\, 34132\, Trieste\, 34132\, Italy
CATEGORIES:Stagione Concertistica 2021
ATTACH;FMTTYPE=image/jpeg:https://www.acmtrioditrieste.it/wp-content/uploads/2023/01/5-Trio-_Boccherini-1140x526-1.jpg
ORGANIZER;CN="Chamber Music Trieste":MAILTO:info@acmtrioditrieste.it
END:VEVENT
BEGIN:VEVENT
DTSTART;TZID=UTC:20210531T193000
DTEND;TZID=UTC:20210531T223000
DTSTAMP:20260420T200102
CREATED:20230109T141453Z
LAST-MODIFIED:20230110T160747Z
UID:21569-1622489400-1622500200@www.acmtrioditrieste.it
SUMMARY:Emanuele Arciuli con Sonia Bergamasco
DESCRIPTION:I migliori talenti premiati ai Concorsi del Friuli Venezia Giulia 								\n				\n					\n		\n					\n		\n				\n						\n					\n			\n						\n						\n					\n			\n						\n				\n									Ensemble vincitore del 21° Concorso “Premio Trio di Trieste” musiche di Johannes Brahms 
URL:https://www.acmtrioditrieste.it/evento/lunedi-31-maggio-2021-emanuele-arciuli-con-sonia-bergamasco/
LOCATION:Teatro Miela\, Piazza Luigi Amedeo Duca degli Abruzzi\, 3\, 34132\, Trieste\, 34132\, Italy
CATEGORIES:Stagione Concertistica 2021
ATTACH;FMTTYPE=image/jpeg:https://www.acmtrioditrieste.it/wp-content/uploads/2023/01/Arciuli-Bergamasco.jpeg
ORGANIZER;CN="Chamber Music Trieste":MAILTO:info@acmtrioditrieste.it
END:VEVENT
BEGIN:VEVENT
DTSTART;TZID=UTC:20210530T110000
DTEND;TZID=UTC:20210530T120000
DTSTAMP:20260420T200102
CREATED:20230117T101527Z
LAST-MODIFIED:20230117T101616Z
UID:23329-1622372400-1622376000@www.acmtrioditrieste.it
SUMMARY:Duo Aspera
DESCRIPTION:I migliori talenti premiati ai Concorsi del Friuli Venezia Giulia 								\n				\n					\n		\n					\n		\n				\n						\n					\n			\n						\n						\n					\n			\n						\n				\n									Ensemble vincitore del 21° Concorso “Premio Trio di Trieste” musiche di Johannes Brahms 
URL:https://www.acmtrioditrieste.it/evento/duo-aspera-3/
LOCATION:Circolo Ufficiali\, Via Dell' Universita'\, 8\, Trieste
CATEGORIES:Aperitivo Classico 2021
ATTACH;FMTTYPE=image/jpeg:https://www.acmtrioditrieste.it/wp-content/uploads/2023/01/aperitivo-classico-circolo-ufficiali.jpg
ORGANIZER;CN="Chamber Music Trieste":MAILTO:info@acmtrioditrieste.it
END:VEVENT
END:VCALENDAR