BEGIN:VCALENDAR
VERSION:2.0
PRODID:-//ACM Associazione Chamber Music - ECPv6.3.7//NONSGML v1.0//EN
CALSCALE:GREGORIAN
METHOD:PUBLISH
X-WR-CALNAME:ACM Associazione Chamber Music
X-ORIGINAL-URL:https://www.acmtrioditrieste.it
X-WR-CALDESC:Events for ACM Associazione Chamber Music
REFRESH-INTERVAL;VALUE=DURATION:PT1H
X-Robots-Tag:noindex
X-PUBLISHED-TTL:PT1H
BEGIN:VTIMEZONE
TZID:UTC
BEGIN:STANDARD
TZOFFSETFROM:+0000
TZOFFSETTO:+0000
TZNAME:UTC
DTSTART:20200101T000000
END:STANDARD
END:VTIMEZONE
BEGIN:VEVENT
DTSTART;TZID=UTC:20210718T113000
DTEND;TZID=UTC:20210718T123000
DTSTAMP:20260421T012845
CREATED:20230119T101447Z
LAST-MODIFIED:20230123T105556Z
UID:23475-1626607800-1626611400@www.acmtrioditrieste.it
SUMMARY:SEVENSMILES
DESCRIPTION:I migliori talenti premiati ai Concorsi del Friuli Venezia Giulia 								\n				\n					\n		\n					\n		\n				\n						\n					\n			\n						\n						\n					\n			\n						\n				\n									Ensemble vincitore del 21° Concorso “Premio Trio di Trieste” musiche di Johannes Brahms 
URL:https://www.acmtrioditrieste.it/evento/sevensmiles/
LOCATION:Sala Luttazzi\, Magazzino 26 Porto Vecchio\, Trieste
CATEGORIES:Concerti straordinari
ATTACH;FMTTYPE=image/jpeg:https://www.acmtrioditrieste.it/wp-content/uploads/2023/01/SevenSmiles.jpeg
ORGANIZER;CN="Chamber Music Trieste":MAILTO:info@acmtrioditrieste.it
END:VEVENT
BEGIN:VEVENT
DTSTART;TZID=UTC:20210621T180000
DTEND;TZID=UTC:20210621T223000
DTSTAMP:20260421T012845
CREATED:20230109T143236Z
LAST-MODIFIED:20230110T161151Z
UID:21602-1624298400-1624314600@www.acmtrioditrieste.it
SUMMARY:Duo Piccotti – Pierdomenico
DESCRIPTION:I migliori talenti premiati ai Concorsi del Friuli Venezia Giulia 								\n				\n					\n		\n					\n		\n				\n						\n					\n			\n						\n						\n					\n			\n						\n				\n									Ensemble vincitore del 21° Concorso “Premio Trio di Trieste” musiche di Johannes Brahms 
URL:https://www.acmtrioditrieste.it/evento/lunedi-21-giugno-2021-duo-piccotti-pierdomenico/
LOCATION:Hotel Savoia\, Riva del Mandracchio\, 4\, Trieste\, 34124
CATEGORIES:Stagione Concertistica 2021
ATTACH;FMTTYPE=image/jpeg:https://www.acmtrioditrieste.it/wp-content/uploads/2023/01/immagine_3-1140x501-1.jpg
ORGANIZER;CN="Chamber Music Trieste":MAILTO:info@acmtrioditrieste.it
END:VEVENT
BEGIN:VEVENT
DTSTART;TZID=UTC:20210621T180000
DTEND;TZID=UTC:20210621T213000
DTSTAMP:20260421T012845
CREATED:20230109T143648Z
LAST-MODIFIED:20230110T161131Z
UID:21609-1624298400-1624311000@www.acmtrioditrieste.it
SUMMARY:Quartetto Hermès
DESCRIPTION:I migliori talenti premiati ai Concorsi del Friuli Venezia Giulia 								\n				\n					\n		\n					\n		\n				\n						\n					\n			\n						\n						\n					\n			\n						\n				\n									Ensemble vincitore del 21° Concorso “Premio Trio di Trieste” musiche di Johannes Brahms 
URL:https://www.acmtrioditrieste.it/evento/lunedi-28-giugno-2021-quartetto-hermes/
LOCATION:Hotel Savoia\, Riva del Mandracchio\, 4\, Trieste\, 34124
CATEGORIES:Stagione Concertistica 2021
ATTACH;FMTTYPE=image/jpeg:https://www.acmtrioditrieste.it/wp-content/uploads/2023/01/hermes-32-1140x760-1.jpg
ORGANIZER;CN="Chamber Music Trieste":MAILTO:info@acmtrioditrieste.it
END:VEVENT
BEGIN:VEVENT
DTSTART;TZID=UTC:20210614T180000
DTEND;TZID=UTC:20210614T223000
DTSTAMP:20260421T012845
CREATED:20230109T142612Z
LAST-MODIFIED:20230110T161043Z
UID:21583-1623693600-1623709800@www.acmtrioditrieste.it
SUMMARY:Trio Quodlibet
DESCRIPTION:I migliori talenti premiati ai Concorsi del Friuli Venezia Giulia 								\n				\n					\n		\n					\n		\n				\n						\n					\n			\n						\n						\n					\n			\n						\n				\n									Ensemble vincitore del 21° Concorso “Premio Trio di Trieste” musiche di Johannes Brahms 
URL:https://www.acmtrioditrieste.it/evento/lunedi-14-giugno-2021-trio-quodlibet/
LOCATION:Hotel Savoia\, Riva del Mandracchio\, 4\, Trieste\, 34124
CATEGORIES:Stagione Concertistica 2021
ATTACH;FMTTYPE=image/jpeg:https://www.acmtrioditrieste.it/wp-content/uploads/2023/01/0571ee_070fd754980e428ba061caed01d38e6emv2-1140x462-1.jpg
ORGANIZER;CN="Chamber Music Trieste":MAILTO:info@acmtrioditrieste.it
END:VEVENT
BEGIN:VEVENT
DTSTART;TZID=UTC:20210610T193000
DTEND;TZID=UTC:20210610T223000
DTSTAMP:20260421T012845
CREATED:20230109T142355Z
LAST-MODIFIED:20230110T161009Z
UID:21582-1623353400-1623364200@www.acmtrioditrieste.it
SUMMARY:Carta bianca al Duo Sinossi con Miani e Oganjan
DESCRIPTION:I migliori talenti premiati ai Concorsi del Friuli Venezia Giulia 								\n				\n					\n		\n					\n		\n				\n						\n					\n			\n						\n						\n					\n			\n						\n				\n									Ensemble vincitore del 21° Concorso “Premio Trio di Trieste” musiche di Johannes Brahms 
URL:https://www.acmtrioditrieste.it/evento/giovedi-10-giugno-2021-carta-bianca-al-duo-sinossi-con-miani-e-oganjan/
LOCATION:Teatro Miela\, Piazza Luigi Amedeo Duca degli Abruzzi\, 3\, 34132\, Trieste\, 34132\, Italy
CATEGORIES:Stagione Concertistica 2021
ATTACH;FMTTYPE=image/jpeg:https://www.acmtrioditrieste.it/wp-content/uploads/2023/01/immagine.jpg
ORGANIZER;CN="Chamber Music Trieste":MAILTO:info@acmtrioditrieste.it
END:VEVENT
BEGIN:VEVENT
DTSTART;TZID=UTC:20210607T193000
DTEND;TZID=UTC:20210607T223000
DTSTAMP:20260421T012845
CREATED:20230109T142120Z
LAST-MODIFIED:20230110T160930Z
UID:21581-1623094200-1623105000@www.acmtrioditrieste.it
SUMMARY:Massimo Polidori con Giorgio Pugliaro
DESCRIPTION:I migliori talenti premiati ai Concorsi del Friuli Venezia Giulia 								\n				\n					\n		\n					\n		\n				\n						\n					\n			\n						\n						\n					\n			\n						\n				\n									Ensemble vincitore del 21° Concorso “Premio Trio di Trieste” musiche di Johannes Brahms 
URL:https://www.acmtrioditrieste.it/evento/lunedi-7-giugno-2021-massimo-polidori-con-giorgio-pugliaro/
LOCATION:Teatro Miela\, Piazza Luigi Amedeo Duca degli Abruzzi\, 3\, 34132\, Trieste\, 34132\, Italy
CATEGORIES:Stagione Concertistica 2021
ATTACH;FMTTYPE=image/jpeg:https://www.acmtrioditrieste.it/wp-content/uploads/2023/01/immagine_2.jpg
ORGANIZER;CN="Chamber Music Trieste":MAILTO:info@acmtrioditrieste.it
END:VEVENT
BEGIN:VEVENT
DTSTART;TZID=UTC:20210603T193000
DTEND;TZID=UTC:20210603T223000
DTSTAMP:20260421T012845
CREATED:20230109T141818Z
LAST-MODIFIED:20230110T160907Z
UID:21575-1622748600-1622759400@www.acmtrioditrieste.it
SUMMARY:Trio Boccherini
DESCRIPTION:I migliori talenti premiati ai Concorsi del Friuli Venezia Giulia 								\n				\n					\n		\n					\n		\n				\n						\n					\n			\n						\n						\n					\n			\n						\n				\n									Ensemble vincitore del 21° Concorso “Premio Trio di Trieste” musiche di Johannes Brahms 
URL:https://www.acmtrioditrieste.it/evento/giovedi-3-giugno-2021-trio-boccherini/
LOCATION:Teatro Miela\, Piazza Luigi Amedeo Duca degli Abruzzi\, 3\, 34132\, Trieste\, 34132\, Italy
CATEGORIES:Stagione Concertistica 2021
ATTACH;FMTTYPE=image/jpeg:https://www.acmtrioditrieste.it/wp-content/uploads/2023/01/5-Trio-_Boccherini-1140x526-1.jpg
ORGANIZER;CN="Chamber Music Trieste":MAILTO:info@acmtrioditrieste.it
END:VEVENT
BEGIN:VEVENT
DTSTART;TZID=UTC:20210531T193000
DTEND;TZID=UTC:20210531T223000
DTSTAMP:20260421T012845
CREATED:20230109T141453Z
LAST-MODIFIED:20230110T160747Z
UID:21569-1622489400-1622500200@www.acmtrioditrieste.it
SUMMARY:Emanuele Arciuli con Sonia Bergamasco
DESCRIPTION:I migliori talenti premiati ai Concorsi del Friuli Venezia Giulia 								\n				\n					\n		\n					\n		\n				\n						\n					\n			\n						\n						\n					\n			\n						\n				\n									Ensemble vincitore del 21° Concorso “Premio Trio di Trieste” musiche di Johannes Brahms 
URL:https://www.acmtrioditrieste.it/evento/lunedi-31-maggio-2021-emanuele-arciuli-con-sonia-bergamasco/
LOCATION:Teatro Miela\, Piazza Luigi Amedeo Duca degli Abruzzi\, 3\, 34132\, Trieste\, 34132\, Italy
CATEGORIES:Stagione Concertistica 2021
ATTACH;FMTTYPE=image/jpeg:https://www.acmtrioditrieste.it/wp-content/uploads/2023/01/Arciuli-Bergamasco.jpeg
ORGANIZER;CN="Chamber Music Trieste":MAILTO:info@acmtrioditrieste.it
END:VEVENT
BEGIN:VEVENT
DTSTART;TZID=UTC:20210530T110000
DTEND;TZID=UTC:20210530T120000
DTSTAMP:20260421T012845
CREATED:20230117T101527Z
LAST-MODIFIED:20230117T101616Z
UID:23329-1622372400-1622376000@www.acmtrioditrieste.it
SUMMARY:Duo Aspera
DESCRIPTION:I migliori talenti premiati ai Concorsi del Friuli Venezia Giulia 								\n				\n					\n		\n					\n		\n				\n						\n					\n			\n						\n						\n					\n			\n						\n				\n									Ensemble vincitore del 21° Concorso “Premio Trio di Trieste” musiche di Johannes Brahms 
URL:https://www.acmtrioditrieste.it/evento/duo-aspera-3/
LOCATION:Circolo Ufficiali\, Via Dell' Universita'\, 8\, Trieste
CATEGORIES:Aperitivo Classico 2021
ATTACH;FMTTYPE=image/jpeg:https://www.acmtrioditrieste.it/wp-content/uploads/2023/01/aperitivo-classico-circolo-ufficiali.jpg
ORGANIZER;CN="Chamber Music Trieste":MAILTO:info@acmtrioditrieste.it
END:VEVENT
BEGIN:VEVENT
DTSTART;TZID=UTC:20210524T193000
DTEND;TZID=UTC:20210524T223000
DTSTAMP:20260421T012845
CREATED:20230109T141144Z
LAST-MODIFIED:20230110T160721Z
UID:21563-1621884600-1621895400@www.acmtrioditrieste.it
SUMMARY:Philharmonisches Ensemble
DESCRIPTION:I migliori talenti premiati ai Concorsi del Friuli Venezia Giulia 								\n				\n					\n		\n					\n		\n				\n						\n					\n			\n						\n						\n					\n			\n						\n				\n									Ensemble vincitore del 21° Concorso “Premio Trio di Trieste” musiche di Johannes Brahms 
URL:https://www.acmtrioditrieste.it/evento/lunedi-24-maggio-2021-philharmonisches-ensemble/
LOCATION:Teatro Miela\, Piazza Luigi Amedeo Duca degli Abruzzi\, 3\, 34132\, Trieste\, 34132\, Italy
CATEGORIES:Stagione Concertistica 2021
ATTACH;FMTTYPE=image/jpeg:https://www.acmtrioditrieste.it/wp-content/uploads/2023/01/Copia-di-IMG_1596-1140x593-1.jpg
ORGANIZER;CN="Chamber Music Trieste":MAILTO:info@acmtrioditrieste.it
END:VEVENT
BEGIN:VEVENT
DTSTART;TZID=UTC:20210516T110000
DTEND;TZID=UTC:20210516T120000
DTSTAMP:20260421T012845
CREATED:20230117T102015Z
LAST-MODIFIED:20230117T102101Z
UID:23328-1621162800-1621166400@www.acmtrioditrieste.it
SUMMARY:Duo Mastella – Sampaolesi
DESCRIPTION:I migliori talenti premiati ai Concorsi del Friuli Venezia Giulia 								\n				\n					\n		\n					\n		\n				\n						\n					\n			\n						\n						\n					\n			\n						\n				\n									Ensemble vincitore del 21° Concorso “Premio Trio di Trieste” musiche di Johannes Brahms 
URL:https://www.acmtrioditrieste.it/evento/duo-mastella-sampaolesi/
LOCATION:Circolo Ufficiali\, Via Dell' Universita'\, 8\, Trieste
CATEGORIES:Aperitivo Classico 2021
ATTACH;FMTTYPE=image/png:https://www.acmtrioditrieste.it/wp-content/uploads/2023/01/Progetto-senza-titolo-2-1140x501-1.png
ORGANIZER;CN="Chamber Music Trieste":MAILTO:info@acmtrioditrieste.it
END:VEVENT
BEGIN:VEVENT
DTSTART;TZID=UTC:20210510T193000
DTEND;TZID=UTC:20210510T223000
DTSTAMP:20260421T012845
CREATED:20230109T140744Z
LAST-MODIFIED:20230110T160644Z
UID:21556-1620675000-1620685800@www.acmtrioditrieste.it
SUMMARY:Trio Johannes
DESCRIPTION:I migliori talenti premiati ai Concorsi del Friuli Venezia Giulia 								\n				\n					\n		\n					\n		\n				\n						\n					\n			\n						\n						\n					\n			\n						\n				\n									Ensemble vincitore del 21° Concorso “Premio Trio di Trieste” musiche di Johannes Brahms 
URL:https://www.acmtrioditrieste.it/evento/lunedi-10-maggio-2021-trio-johannes/
LOCATION:Teatro Miela\, Piazza Luigi Amedeo Duca degli Abruzzi\, 3\, 34132\, Trieste\, 34132\, Italy
CATEGORIES:Stagione Concertistica 2021
ATTACH;FMTTYPE=image/jpeg:https://www.acmtrioditrieste.it/wp-content/uploads/2023/01/Foto-copertina-Ravel-1140x761-1.jpg
ORGANIZER;CN="Chamber Music Trieste":MAILTO:info@acmtrioditrieste.it
END:VEVENT
BEGIN:VEVENT
DTSTART;TZID=UTC:20210509T110000
DTEND;TZID=UTC:20210509T120000
DTSTAMP:20260421T012845
CREATED:20230117T102126Z
LAST-MODIFIED:20230117T102216Z
UID:23327-1620558000-1620561600@www.acmtrioditrieste.it
SUMMARY:Duo Obersnel – Gregoric
DESCRIPTION:I migliori talenti premiati ai Concorsi del Friuli Venezia Giulia 								\n				\n					\n		\n					\n		\n				\n						\n					\n			\n						\n						\n					\n			\n						\n				\n									Ensemble vincitore del 21° Concorso “Premio Trio di Trieste” musiche di Johannes Brahms 
URL:https://www.acmtrioditrieste.it/evento/duo-obersnel-gregoric/
LOCATION:Circolo Ufficiali\, Via Dell' Universita'\, 8\, Trieste
CATEGORIES:Aperitivo Classico 2021
ATTACH;FMTTYPE=image/jpeg:https://www.acmtrioditrieste.it/wp-content/uploads/2023/01/Progetto-senza-titolo-2-1140x501-1.jpg
ORGANIZER;CN="Chamber Music Trieste":MAILTO:info@acmtrioditrieste.it
END:VEVENT
BEGIN:VEVENT
DTSTART;TZID=UTC:20210315T180000
DTEND;TZID=UTC:20210315T190000
DTSTAMP:20260421T012845
CREATED:20230119T102420Z
LAST-MODIFIED:20230123T105800Z
UID:23472-1615831200-1615834800@www.acmtrioditrieste.it
SUMMARY:Josef Suk Piano Quartet di Praga
DESCRIPTION:I migliori talenti premiati ai Concorsi del Friuli Venezia Giulia 								\n				\n					\n		\n					\n		\n				\n						\n					\n			\n						\n						\n					\n			\n						\n				\n									Ensemble vincitore del 21° Concorso “Premio Trio di Trieste” musiche di Johannes Brahms 
URL:https://www.acmtrioditrieste.it/evento/josef-suk-piano-quartet-di-praga/
LOCATION:Auditorium Lo Squero\, Isola di San Giorgio Maggiore\, Venezia\, Italia
CATEGORIES:Concerti straordinari
ATTACH;FMTTYPE=image/jpeg:https://www.acmtrioditrieste.it/wp-content/uploads/2023/01/ACD_01_660x440-3-1-1-1-2.jpg
ORGANIZER;CN="Chamber Music Trieste":MAILTO:info@acmtrioditrieste.it
END:VEVENT
BEGIN:VEVENT
DTSTART;TZID=UTC:20201019T203000
DTEND;TZID=UTC:20201019T220000
DTSTAMP:20260421T012845
CREATED:20230111T110059Z
LAST-MODIFIED:20230111T110312Z
UID:22278-1603139400-1603144800@www.acmtrioditrieste.it
SUMMARY:Lorenzo Cossi
DESCRIPTION:I migliori talenti premiati ai Concorsi del Friuli Venezia Giulia 								\n				\n					\n		\n					\n		\n				\n						\n					\n			\n						\n						\n					\n			\n						\n				\n									Ensemble vincitore del 21° Concorso “Premio Trio di Trieste” musiche di Johannes Brahms 
URL:https://www.acmtrioditrieste.it/evento/lorenzo-cossi/
LOCATION:Teatro Miela\, Piazza Luigi Amedeo Duca degli Abruzzi\, 3\, 34132\, Trieste\, 34132\, Italy
CATEGORIES:Festival Pianistico 2020
ATTACH;FMTTYPE=image/jpeg:https://www.acmtrioditrieste.it/wp-content/uploads/2023/01/lorenzo-cossi.jpg
ORGANIZER;CN="Chamber Music Trieste":MAILTO:info@acmtrioditrieste.it
END:VEVENT
BEGIN:VEVENT
DTSTART;TZID=UTC:20201018T110000
DTEND;TZID=UTC:20201018T123000
DTSTAMP:20260421T012845
CREATED:20230114T180009Z
LAST-MODIFIED:20230114T180100Z
UID:23025-1603018800-1603024200@www.acmtrioditrieste.it
SUMMARY:Quartetto Furiant
DESCRIPTION:I migliori talenti premiati ai Concorsi del Friuli Venezia Giulia 								\n				\n					\n		\n					\n		\n				\n						\n					\n			\n						\n						\n					\n			\n						\n				\n									Ensemble vincitore del 21° Concorso “Premio Trio di Trieste” musiche di Johannes Brahms 
URL:https://www.acmtrioditrieste.it/evento/quartetto-furiant/
LOCATION:DoubleTree by Hilton Trieste\, Piazza della Repubblica\, 1\, Trieste\, Seleziona uno Stato:\, 34122\, Italia
CATEGORIES:Aperitivo Classico,Aperitivo Classico 2020
ATTACH;FMTTYPE=image/jpeg:https://www.acmtrioditrieste.it/wp-content/uploads/2023/01/d3300e_62a517d699c54bc186627e72e5333e2f_mv2_d_5668_3779_s_4_2-1140x671-2.jpg
ORGANIZER;CN="Chamber Music Trieste":MAILTO:info@acmtrioditrieste.it
END:VEVENT
BEGIN:VEVENT
DTSTART;TZID=UTC:20201012T203000
DTEND;TZID=UTC:20201012T220000
DTSTAMP:20260421T012845
CREATED:20230111T110754Z
LAST-MODIFIED:20230111T110848Z
UID:22286-1602534600-1602540000@www.acmtrioditrieste.it
SUMMARY:Gabriele Carcano
DESCRIPTION:I migliori talenti premiati ai Concorsi del Friuli Venezia Giulia 								\n				\n					\n		\n					\n		\n				\n						\n					\n			\n						\n						\n					\n			\n						\n				\n									Ensemble vincitore del 21° Concorso “Premio Trio di Trieste” musiche di Johannes Brahms 
URL:https://www.acmtrioditrieste.it/evento/gabriele-carcano/
LOCATION:Teatro Miela\, Piazza Luigi Amedeo Duca degli Abruzzi\, 3\, 34132\, Trieste\, 34132\, Italy
CATEGORIES:Festival Pianistico 2020
ATTACH;FMTTYPE=image/jpeg:https://www.acmtrioditrieste.it/wp-content/uploads/2023/01/d3300e_62a517d699c54bc186627e72e5333e2f_mv2_d_5668_3779_s_4_2-1140x671-1.jpg
ORGANIZER;CN="Chamber Music Trieste":MAILTO:info@acmtrioditrieste.it
END:VEVENT
BEGIN:VEVENT
DTSTART;TZID=UTC:20201005T203000
DTEND;TZID=UTC:20201005T220000
DTSTAMP:20260421T012845
CREATED:20230111T110948Z
LAST-MODIFIED:20230111T111102Z
UID:22287-1601929800-1601935200@www.acmtrioditrieste.it
SUMMARY:Duo Valentino - Voghera
DESCRIPTION:I migliori talenti premiati ai Concorsi del Friuli Venezia Giulia 								\n				\n					\n		\n					\n		\n				\n						\n					\n			\n						\n						\n					\n			\n						\n				\n									Ensemble vincitore del 21° Concorso “Premio Trio di Trieste” musiche di Johannes Brahms 
URL:https://www.acmtrioditrieste.it/evento/duo-valentino-voghera/
LOCATION:Teatro Miela\, Piazza Luigi Amedeo Duca degli Abruzzi\, 3\, 34132\, Trieste\, 34132\, Italy
CATEGORIES:Festival Pianistico 2020
ATTACH;FMTTYPE=image/jpeg:https://www.acmtrioditrieste.it/wp-content/uploads/2023/01/DUO-VALENTINO-VOGHERA.jpg
ORGANIZER;CN="Chamber Music Trieste":MAILTO:info@acmtrioditrieste.it
END:VEVENT
BEGIN:VEVENT
DTSTART;TZID=UTC:20201004T110000
DTEND;TZID=UTC:20201004T123000
DTSTAMP:20260421T012845
CREATED:20230114T180451Z
LAST-MODIFIED:20230114T180549Z
UID:23037-1601809200-1601814600@www.acmtrioditrieste.it
SUMMARY:DUO PELASCHIAR – ZULIANI
DESCRIPTION:I migliori talenti premiati ai Concorsi del Friuli Venezia Giulia 								\n				\n					\n		\n					\n		\n				\n						\n					\n			\n						\n						\n					\n			\n						\n				\n									Ensemble vincitore del 21° Concorso “Premio Trio di Trieste” musiche di Johannes Brahms 
URL:https://www.acmtrioditrieste.it/evento/duo-pelaschiar-zuliani/
LOCATION:DoubleTree by Hilton Trieste\, Piazza della Repubblica\, 1\, Trieste\, Seleziona uno Stato:\, 34122\, Italia
CATEGORIES:Aperitivo Classico,Aperitivo Classico 2020
ATTACH;FMTTYPE=image/jpeg:https://www.acmtrioditrieste.it/wp-content/uploads/2023/01/Duo-Pelaschiar-Zuliani.jpg
ORGANIZER;CN="Chamber Music Trieste":MAILTO:info@acmtrioditrieste.it
END:VEVENT
BEGIN:VEVENT
DTSTART;TZID=UTC:20200928T203000
DTEND;TZID=UTC:20200928T220000
DTSTAMP:20260421T012845
CREATED:20230111T111230Z
LAST-MODIFIED:20230111T111337Z
UID:22285-1601325000-1601330400@www.acmtrioditrieste.it
SUMMARY:Severin von Eckardstein
DESCRIPTION:I migliori talenti premiati ai Concorsi del Friuli Venezia Giulia 								\n				\n					\n		\n					\n		\n				\n						\n					\n			\n						\n						\n					\n			\n						\n				\n									Ensemble vincitore del 21° Concorso “Premio Trio di Trieste” musiche di Johannes Brahms 
URL:https://www.acmtrioditrieste.it/evento/severin-von-eckardstein-2/
LOCATION:Teatro Miela\, Piazza Luigi Amedeo Duca degli Abruzzi\, 3\, 34132\, Trieste\, 34132\, Italy
CATEGORIES:Festival Pianistico 2020
ATTACH;FMTTYPE=image/jpeg:https://www.acmtrioditrieste.it/wp-content/uploads/2023/01/SEVERIN-VON-ECKARDSTEIN-.jpg
ORGANIZER;CN="Chamber Music Trieste":MAILTO:info@acmtrioditrieste.it
END:VEVENT
BEGIN:VEVENT
DTSTART;TZID=UTC:20200927T110000
DTEND;TZID=UTC:20200927T123000
DTSTAMP:20260421T012845
CREATED:20230114T180244Z
LAST-MODIFIED:20230114T180337Z
UID:23036-1601204400-1601209800@www.acmtrioditrieste.it
SUMMARY:Duo Di Benedetto – Iliev
DESCRIPTION:I migliori talenti premiati ai Concorsi del Friuli Venezia Giulia 								\n				\n					\n		\n					\n		\n				\n						\n					\n			\n						\n						\n					\n			\n						\n				\n									Ensemble vincitore del 21° Concorso “Premio Trio di Trieste” musiche di Johannes Brahms 
URL:https://www.acmtrioditrieste.it/evento/duo-di-benedetto-iliev/
LOCATION:DoubleTree by Hilton Trieste\, Piazza della Repubblica\, 1\, Trieste\, Seleziona uno Stato:\, 34122\, Italia
CATEGORIES:Aperitivo Classico,Aperitivo Classico 2020
ATTACH;FMTTYPE=image/jpeg:https://www.acmtrioditrieste.it/wp-content/uploads/2023/01/3.-DUO-DI-BENEDETTO-ILIEV.jpeg
ORGANIZER;CN="Chamber Music Trieste":MAILTO:info@acmtrioditrieste.it
END:VEVENT
BEGIN:VEVENT
DTSTART;TZID=UTC:20200923T203000
DTEND;TZID=UTC:20200923T220000
DTSTAMP:20260421T012845
CREATED:20230111T111433Z
LAST-MODIFIED:20230111T111707Z
UID:22284-1600893000-1600898400@www.acmtrioditrieste.it
SUMMARY:Luca Buratto
DESCRIPTION:I migliori talenti premiati ai Concorsi del Friuli Venezia Giulia 								\n				\n					\n		\n					\n		\n				\n						\n					\n			\n						\n						\n					\n			\n						\n				\n									Ensemble vincitore del 21° Concorso “Premio Trio di Trieste” musiche di Johannes Brahms 
URL:https://www.acmtrioditrieste.it/evento/luca-buratto/
LOCATION:Teatro Miela\, Piazza Luigi Amedeo Duca degli Abruzzi\, 3\, 34132\, Trieste\, 34132\, Italy
CATEGORIES:Festival Pianistico 2020
ATTACH;FMTTYPE=image/jpeg:https://www.acmtrioditrieste.it/wp-content/uploads/2023/01/LUCA-BURATTO.jpg
ORGANIZER;CN="Chamber Music Trieste":MAILTO:info@acmtrioditrieste.it
END:VEVENT
BEGIN:VEVENT
DTSTART;TZID=UTC:20200920T110000
DTEND;TZID=UTC:20200920T123000
DTSTAMP:20260421T012845
CREATED:20230114T180640Z
LAST-MODIFIED:20230114T180722Z
UID:23035-1600599600-1600605000@www.acmtrioditrieste.it
SUMMARY:Duo Obersnel – Chiandotto
DESCRIPTION:I migliori talenti premiati ai Concorsi del Friuli Venezia Giulia 								\n				\n					\n		\n					\n		\n				\n						\n					\n			\n						\n						\n					\n			\n						\n				\n									Ensemble vincitore del 21° Concorso “Premio Trio di Trieste” musiche di Johannes Brahms 
URL:https://www.acmtrioditrieste.it/evento/duo-obersnel-chiandotto/
LOCATION:DoubleTree by Hilton Trieste\, Piazza della Repubblica\, 1\, Trieste\, Seleziona uno Stato:\, 34122\, Italia
CATEGORIES:Aperitivo Classico,Aperitivo Classico 2020
ATTACH;FMTTYPE=image/jpeg:https://www.acmtrioditrieste.it/wp-content/uploads/2023/01/2.-DUO-OBERSNEL-CHIANDOTTO-1140x760-1.jpg
ORGANIZER;CN="Chamber Music Trieste":MAILTO:info@acmtrioditrieste.it
END:VEVENT
BEGIN:VEVENT
DTSTART;TZID=UTC:20200914T180000
DTEND;TZID=UTC:20200914T235900
DTSTAMP:20260421T012845
CREATED:20230109T160531Z
LAST-MODIFIED:20230110T160533Z
UID:21610-1600106400-1600127940@www.acmtrioditrieste.it
SUMMARY:Quartetto Werther
DESCRIPTION:I migliori talenti premiati ai Concorsi del Friuli Venezia Giulia 								\n				\n					\n		\n					\n		\n				\n						\n					\n			\n						\n						\n					\n			\n						\n				\n									Ensemble vincitore del 21° Concorso “Premio Trio di Trieste” musiche di Johannes Brahms 
URL:https://www.acmtrioditrieste.it/evento/14-settembre-2020-quartetto-werther/
LOCATION:Teatro Miela\, Piazza Luigi Amedeo Duca degli Abruzzi\, 3\, 34132\, Trieste\, 34132\, Italy
CATEGORIES:Stagione Concertistica 2020
ATTACH;FMTTYPE=image/jpeg:https://www.acmtrioditrieste.it/wp-content/uploads/2023/01/Quartetto-Werther-1140x751-1.jpg
ORGANIZER;CN="Chamber Music Trieste":MAILTO:info@acmtrioditrieste.it
END:VEVENT
BEGIN:VEVENT
DTSTART;TZID=UTC:20200913T110000
DTEND;TZID=UTC:20200913T123000
DTSTAMP:20260421T012845
CREATED:20230114T180804Z
LAST-MODIFIED:20230114T180926Z
UID:23033-1599994800-1600000200@www.acmtrioditrieste.it
SUMMARY:Duo Vinci – Delle Donne
DESCRIPTION:I migliori talenti premiati ai Concorsi del Friuli Venezia Giulia 								\n				\n					\n		\n					\n		\n				\n						\n					\n			\n						\n						\n					\n			\n						\n				\n									Ensemble vincitore del 21° Concorso “Premio Trio di Trieste” musiche di Johannes Brahms 
URL:https://www.acmtrioditrieste.it/evento/duo-vinci-delle-donne/
LOCATION:DoubleTree by Hilton Trieste\, Piazza della Repubblica\, 1\, Trieste\, Seleziona uno Stato:\, 34122\, Italia
CATEGORIES:Aperitivo Classico,Aperitivo Classico 2020
ATTACH;FMTTYPE=image/jpeg:https://www.acmtrioditrieste.it/wp-content/uploads/2023/01/Duo-Vinci-Delle-Donne.jpg
ORGANIZER;CN="Chamber Music Trieste":MAILTO:info@acmtrioditrieste.it
END:VEVENT
BEGIN:VEVENT
DTSTART;TZID=UTC:20200907T000000
DTEND;TZID=UTC:20200907T235900
DTSTAMP:20260421T012845
CREATED:20230109T161311Z
LAST-MODIFIED:20230110T160415Z
UID:21612-1599436800-1599523140@www.acmtrioditrieste.it
SUMMARY:Marco Scolastra e Sandro Cappelletto
DESCRIPTION:I migliori talenti premiati ai Concorsi del Friuli Venezia Giulia 								\n				\n					\n		\n					\n		\n				\n						\n					\n			\n						\n						\n					\n			\n						\n				\n									Ensemble vincitore del 21° Concorso “Premio Trio di Trieste” musiche di Johannes Brahms 
URL:https://www.acmtrioditrieste.it/evento/7-settembre-2020-marco-scolastra-e-sandro-cappelletto/
LOCATION:Teatro Miela\, Piazza Luigi Amedeo Duca degli Abruzzi\, 3\, 34132\, Trieste\, 34132\, Italy
CATEGORIES:Stagione Concertistica 2020
ATTACH;FMTTYPE=image/jpeg:https://www.acmtrioditrieste.it/wp-content/uploads/2023/01/foto2.jpg
ORGANIZER;CN="Chamber Music Trieste":MAILTO:info@acmtrioditrieste.it
END:VEVENT
BEGIN:VEVENT
DTSTART;TZID=UTC:20200625T180000
DTEND;TZID=UTC:20200625T235900
DTSTAMP:20260421T012845
CREATED:20230109T161715Z
LAST-MODIFIED:20230110T160303Z
UID:21611-1593108000-1593129540@www.acmtrioditrieste.it
SUMMARY:Trio Sossai-Dalsass-Bolla
DESCRIPTION:I migliori talenti premiati ai Concorsi del Friuli Venezia Giulia 								\n				\n					\n		\n					\n		\n				\n						\n					\n			\n						\n						\n					\n			\n						\n				\n									Ensemble vincitore del 21° Concorso “Premio Trio di Trieste” musiche di Johannes Brahms 
URL:https://www.acmtrioditrieste.it/evento/25-giugno-2020-trio-sossai-dalsass-bolla/
LOCATION:Teatro Miela\, Piazza Luigi Amedeo Duca degli Abruzzi\, 3\, 34132\, Trieste\, 34132\, Italy
CATEGORIES:Stagione Concertistica 2020
ATTACH;FMTTYPE=image/jpeg:https://www.acmtrioditrieste.it/wp-content/uploads/2023/01/79685145_2777813708931488_8385599280919871488_o.jpg
ORGANIZER;CN="Chamber Music Trieste":MAILTO:info@acmtrioditrieste.it
END:VEVENT
BEGIN:VEVENT
DTSTART;TZID=UTC:20200622T180000
DTEND;TZID=UTC:20200622T235900
DTSTAMP:20260421T012845
CREATED:20230109T162229Z
LAST-MODIFIED:20230110T160231Z
UID:21644-1592848800-1592870340@www.acmtrioditrieste.it
SUMMARY:Duo Van Poucke
DESCRIPTION:I migliori talenti premiati ai Concorsi del Friuli Venezia Giulia 								\n				\n					\n		\n					\n		\n				\n						\n					\n			\n						\n						\n					\n			\n						\n				\n									Ensemble vincitore del 21° Concorso “Premio Trio di Trieste” musiche di Johannes Brahms 
URL:https://www.acmtrioditrieste.it/evento/22-giugno-2020-duo-van-poucke/
LOCATION:Teatro Miela\, Piazza Luigi Amedeo Duca degli Abruzzi\, 3\, 34132\, Trieste\, 34132\, Italy
CATEGORIES:Stagione Concertistica 2020
ATTACH;FMTTYPE=image/jpeg:https://www.acmtrioditrieste.it/wp-content/uploads/2023/01/image.jpg
ORGANIZER;CN="Chamber Music Trieste":MAILTO:info@acmtrioditrieste.it
END:VEVENT
BEGIN:VEVENT
DTSTART;TZID=UTC:20200618T180000
DTEND;TZID=UTC:20200618T235900
DTSTAMP:20260421T012845
CREATED:20230109T162656Z
LAST-MODIFIED:20230110T160206Z
UID:21651-1592503200-1592524740@www.acmtrioditrieste.it
SUMMARY:Duo Leskovar-Filjak
DESCRIPTION:I migliori talenti premiati ai Concorsi del Friuli Venezia Giulia 								\n				\n					\n		\n					\n		\n				\n						\n					\n			\n						\n						\n					\n			\n						\n				\n									Ensemble vincitore del 21° Concorso “Premio Trio di Trieste” musiche di Johannes Brahms 
URL:https://www.acmtrioditrieste.it/evento/18-giugno-2020-duo-leskovar-filjak/
LOCATION:Teatro Miela\, Piazza Luigi Amedeo Duca degli Abruzzi\, 3\, 34132\, Trieste\, 34132\, Italy
CATEGORIES:Stagione Concertistica 2020
ATTACH;FMTTYPE=image/jpeg:https://www.acmtrioditrieste.it/wp-content/uploads/2023/01/foto-2.jpg
ORGANIZER;CN="Chamber Music Trieste":MAILTO:info@acmtrioditrieste.it
END:VEVENT
BEGIN:VEVENT
DTSTART;TZID=UTC:20200304T203000
DTEND;TZID=UTC:20200304T235900
DTSTAMP:20260421T012845
CREATED:20230109T162933Z
LAST-MODIFIED:20230110T160145Z
UID:21652-1583353800-1583366340@www.acmtrioditrieste.it
SUMMARY:Luigi Piovano
DESCRIPTION:I migliori talenti premiati ai Concorsi del Friuli Venezia Giulia 								\n				\n					\n		\n					\n		\n				\n						\n					\n			\n						\n						\n					\n			\n						\n				\n									Ensemble vincitore del 21° Concorso “Premio Trio di Trieste” musiche di Johannes Brahms 
URL:https://www.acmtrioditrieste.it/evento/4-marzo-2020-luigi-piovano/
LOCATION:Teatro Miela\, Piazza Luigi Amedeo Duca degli Abruzzi\, 3\, 34132\, Trieste\, 34132\, Italy
CATEGORIES:Stagione Concertistica 2020
ATTACH;FMTTYPE=image/jpeg:https://www.acmtrioditrieste.it/wp-content/uploads/2023/01/Luigi-Piovano-Large-1140x760-1.jpg
ORGANIZER;CN="Chamber Music Trieste":MAILTO:info@acmtrioditrieste.it
END:VEVENT
END:VCALENDAR